BEGIN:VCALENDAR
VERSION:2.0
PRODID:spatie/icalendar-generator
NAME:klein_boom_2g_65_reminders
X-WR-CALNAME:klein_boom_2g_65_reminders
BEGIN:VTIMEZONE
TZID:Europe/Brussels
BEGIN:DAYLIGHT
DTSTART:20210328T010000
TZOFFSETFROM:+0100
TZOFFSETTO:+0200
END:DAYLIGHT
BEGIN:STANDARD
DTSTART:20211031T030000
TZOFFSETFROM:+0200
TZOFFSETTO:+0100
END:STANDARD
BEGIN:DAYLIGHT
DTSTART:20220327T010000
TZOFFSETFROM:+0100
TZOFFSETTO:+0200
END:DAYLIGHT
END:VTIMEZONE
BEGIN:VTIMEZONE
TZID:UTC
BEGIN:STANDARD
DTSTART:20250724T055145
TZOFFSETFROM:+0000
TZOFFSETTO:+0000
END:STANDARD
END:VTIMEZONE
BEGIN:VEVENT
UID:343A6D01-7373-405B-9427-CB56B07F8CCD-6-258_homereminder@134.badmintonne
 rs.net
DTSTAMP:20260420T055145Z
SUMMARY:Thuismatch ingevuld? (Klein Boom 2G (65) - Rijkerack 1G (70))
DESCRIPTION:Je hebt 36 uur na aanvang om een thuismatch op Badmintonvlaande
 ren in te vullen. Match info: Klein Boom 2G (65) - Rijkerack 1G (70) - Lin
 k: https://www.badmintonvlaanderen.be/sport/teammatch.aspx?id=343A6D01-737
 3-405B-9427-CB56B07F8CCD&match=258
DTSTART;TZID=Europe/Brussels:20211013T080000
DTEND;TZID=Europe/Brussels:20211013T080000
END:VEVENT
BEGIN:VEVENT
UID:343A6D01-7373-405B-9427-CB56B07F8CCD-6-234_homereminder@134.badmintonne
 rs.net
DTSTAMP:20260420T055145Z
SUMMARY:Thuismatch ingevuld? (Klein Boom 2G (65) - Opslag 1G (60))
DESCRIPTION:Je hebt 36 uur na aanvang om een thuismatch op Badmintonvlaande
 ren in te vullen. Match info: Klein Boom 2G (65) - Opslag 1G (60) - Link: 
 https://www.badmintonvlaanderen.be/sport/teammatch.aspx?id=343A6D01-7373-4
 05B-9427-CB56B07F8CCD&match=234
DTSTART;TZID=Europe/Brussels:20211110T080000
DTEND;TZID=Europe/Brussels:20211110T080000
END:VEVENT
BEGIN:VEVENT
UID:343A6D01-7373-405B-9427-CB56B07F8CCD-6-246_homereminder@134.badmintonne
 rs.net
DTSTAMP:20260420T055145Z
SUMMARY:Thuismatch ingevuld? (Klein Boom 2G (65) - Turnhout 1G (64))
DESCRIPTION:Je hebt 36 uur na aanvang om een thuismatch op Badmintonvlaande
 ren in te vullen. Match info: Klein Boom 2G (65) - Turnhout 1G (64) - Link
 : https://www.badmintonvlaanderen.be/sport/teammatch.aspx?id=343A6D01-7373
 -405B-9427-CB56B07F8CCD&match=246
DTSTART;TZID=Europe/Brussels:20211208T080000
DTEND;TZID=Europe/Brussels:20211208T080000
END:VEVENT
BEGIN:VEVENT
UID:343A6D01-7373-405B-9427-CB56B07F8CCD-6-252_homereminder@134.badmintonne
 rs.net
DTSTAMP:20260420T055145Z
SUMMARY:Thuismatch ingevuld? (Klein Boom 2G (65) - De Klamp 1G (64))
DESCRIPTION:Je hebt 36 uur na aanvang om een thuismatch op Badmintonvlaande
 ren in te vullen. Match info: Klein Boom 2G (65) - De Klamp 1G (64) - Link
 : https://www.badmintonvlaanderen.be/sport/teammatch.aspx?id=343A6D01-7373
 -405B-9427-CB56B07F8CCD&match=252
DTSTART;TZID=Europe/Brussels:20220302T080000
DTEND;TZID=Europe/Brussels:20220302T080000
END:VEVENT
BEGIN:VEVENT
UID:343A6D01-7373-405B-9427-CB56B07F8CCD-6-240_homereminder@134.badmintonne
 rs.net
DTSTAMP:20260420T055145Z
SUMMARY:Thuismatch ingevuld? (Klein Boom 2G (65) - Huirtuits Dropke 2G (71)
 )
DESCRIPTION:Je hebt 36 uur na aanvang om een thuismatch op Badmintonvlaande
 ren in te vullen. Match info: Klein Boom 2G (65) - Huirtuits Dropke 2G (71
 ) - Link: https://www.badmintonvlaanderen.be/sport/teammatch.aspx?id=343A6
 D01-7373-405B-9427-CB56B07F8CCD&match=240
DTSTART;TZID=Europe/Brussels:20220330T080000
DTEND;TZID=Europe/Brussels:20220330T080000
END:VEVENT
BEGIN:VEVENT
UID:343A6D01-7373-405B-9427-CB56B07F8CCD-6-264_homereminder@134.badmintonne
 rs.net
DTSTAMP:20260420T055145Z
SUMMARY:Thuismatch ingevuld? (Klein Boom 2G (65) - Brasschaat 4G (70))
DESCRIPTION:Je hebt 36 uur na aanvang om een thuismatch op Badmintonvlaande
 ren in te vullen. Match info: Klein Boom 2G (65) - Brasschaat 4G (70) - Li
 nk: https://www.badmintonvlaanderen.be/sport/teammatch.aspx?id=343A6D01-73
 73-405B-9427-CB56B07F8CCD&match=264
DTSTART;TZID=Europe/Brussels:20220413T080000
DTEND;TZID=Europe/Brussels:20220413T080000
END:VEVENT
BEGIN:VEVENT
UID:343A6D01-7373-405B-9427-CB56B07F8CCD-6-268_awayreminder@134.badmintonne
 rs.net
DTSTAMP:20260420T055145Z
SUMMARY:Uitmatch bevestigd? (De Klamp 1G (64) - Klein Boom 2G (65))
DESCRIPTION:Je hebt 72 uur na aanvang om een uitmatch op Badmintonvlaandere
 n in te vullen. Match info: De Klamp 1G (64) - Klein Boom 2G (65) - Link: 
 https://www.badmintonvlaanderen.be/sport/teammatch.aspx?id=343A6D01-7373-4
 05B-9427-CB56B07F8CCD&match=268
DTSTART;TZID=Europe/Brussels:20210922T181500
DTEND;TZID=Europe/Brussels:20210922T181500
END:VEVENT
BEGIN:VEVENT
UID:343A6D01-7373-405B-9427-CB56B07F8CCD-6-266_awayreminder@134.badmintonne
 rs.net
DTSTAMP:20260420T055145Z
SUMMARY:Uitmatch bevestigd? (Huirtuits Dropke 2G (71) - Klein Boom 2G (65))
DESCRIPTION:Je hebt 72 uur na aanvang om een uitmatch op Badmintonvlaandere
 n in te vullen. Match info: Huirtuits Dropke 2G (71) - Klein Boom 2G (65) 
 - Link: https://www.badmintonvlaanderen.be/sport/teammatch.aspx?id=343A6D0
 1-7373-405B-9427-CB56B07F8CCD&match=266
DTSTART;TZID=Europe/Brussels:20211006T183000
DTEND;TZID=Europe/Brussels:20211006T183000
END:VEVENT
BEGIN:VEVENT
UID:343A6D01-7373-405B-9427-CB56B07F8CCD-6-270_awayreminder@134.badmintonne
 rs.net
DTSTAMP:20260420T055145Z
SUMMARY:Uitmatch bevestigd? (Brasschaat 4G (70) - Klein Boom 2G (65))
DESCRIPTION:Je hebt 72 uur na aanvang om een uitmatch op Badmintonvlaandere
 n in te vullen. Match info: Brasschaat 4G (70) - Klein Boom 2G (65) - Link
 : https://www.badmintonvlaanderen.be/sport/teammatch.aspx?id=343A6D01-7373
 -405B-9427-CB56B07F8CCD&match=270
DTSTART;TZID=Europe/Brussels:20211020T190000
DTEND;TZID=Europe/Brussels:20211020T190000
END:VEVENT
BEGIN:VEVENT
UID:343A6D01-7373-405B-9427-CB56B07F8CCD-6-267_awayreminder@134.badmintonne
 rs.net
DTSTAMP:20260420T055145Z
SUMMARY:Uitmatch bevestigd? (Turnhout 1G (64) - Klein Boom 2G (65))
DESCRIPTION:Je hebt 72 uur na aanvang om een uitmatch op Badmintonvlaandere
 n in te vullen. Match info: Turnhout 1G (64) - Klein Boom 2G (65) - Link: 
 https://www.badmintonvlaanderen.be/sport/teammatch.aspx?id=343A6D01-7373-4
 05B-9427-CB56B07F8CCD&match=267
DTSTART;TZID=Europe/Brussels:20220125T140000
DTEND;TZID=Europe/Brussels:20220125T140000
END:VEVENT
BEGIN:VEVENT
UID:343A6D01-7373-405B-9427-CB56B07F8CCD-6-269_awayreminder@134.badmintonne
 rs.net
DTSTAMP:20260420T055145Z
SUMMARY:Uitmatch bevestigd? (Rijkerack 1G (70) - Klein Boom 2G (65))
DESCRIPTION:Je hebt 72 uur na aanvang om een uitmatch op Badmintonvlaandere
 n in te vullen. Match info: Rijkerack 1G (70) - Klein Boom 2G (65) - Link:
  https://www.badmintonvlaanderen.be/sport/teammatch.aspx?id=343A6D01-7373-
 405B-9427-CB56B07F8CCD&match=269
DTSTART;TZID=Europe/Brussels:20220209T193000
DTEND;TZID=Europe/Brussels:20220209T193000
END:VEVENT
BEGIN:VEVENT
UID:343A6D01-7373-405B-9427-CB56B07F8CCD-6-265_awayreminder@134.badmintonne
 rs.net
DTSTAMP:20260420T055145Z
SUMMARY:Uitmatch bevestigd? (Opslag 1G (60) - Klein Boom 2G (65))
DESCRIPTION:Je hebt 72 uur na aanvang om een uitmatch op Badmintonvlaandere
 n in te vullen. Match info: Opslag 1G (60) - Klein Boom 2G (65) - Link: ht
 tps://www.badmintonvlaanderen.be/sport/teammatch.aspx?id=343A6D01-7373-405
 B-9427-CB56B07F8CCD&match=265
DTSTART;TZID=Europe/Brussels:20220323T163000
DTEND;TZID=Europe/Brussels:20220323T163000
END:VEVENT
END:VCALENDAR