BEGIN:VCALENDAR
VERSION:2.0
PRODID:spatie/icalendar-generator
NAME:opslag_1g_60_reminders
X-WR-CALNAME:opslag_1g_60_reminders
BEGIN:VTIMEZONE
TZID:Europe/Brussels
BEGIN:DAYLIGHT
DTSTART:20210328T010000
TZOFFSETFROM:+0100
TZOFFSETTO:+0200
END:DAYLIGHT
BEGIN:STANDARD
DTSTART:20211031T030000
TZOFFSETFROM:+0200
TZOFFSETTO:+0100
END:STANDARD
BEGIN:DAYLIGHT
DTSTART:20220327T010000
TZOFFSETFROM:+0100
TZOFFSETTO:+0200
END:DAYLIGHT
BEGIN:STANDARD
DTSTART:20221030T030000
TZOFFSETFROM:+0200
TZOFFSETTO:+0100
END:STANDARD
END:VTIMEZONE
BEGIN:VTIMEZONE
TZID:UTC
BEGIN:STANDARD
DTSTART:20250724T073346
TZOFFSETFROM:+0000
TZOFFSETTO:+0000
END:STANDARD
END:VTIMEZONE
BEGIN:VEVENT
UID:343A6D01-7373-405B-9427-CB56B07F8CCD-6-235_homereminder@153.badmintonne
 rs.net
DTSTAMP:20260420T073346Z
SUMMARY:Thuismatch ingevuld? (Opslag 1G (60) - Huirtuits Dropke 2G (71))
DESCRIPTION:Je hebt 36 uur na aanvang om een thuismatch op Badmintonvlaande
 ren in te vullen. Match info: Opslag 1G (60) - Huirtuits Dropke 2G (71) - 
 Link: https://www.badmintonvlaanderen.be/sport/teammatch.aspx?id=343A6D01-
 7373-405B-9427-CB56B07F8CCD&match=235
DTSTART;TZID=Europe/Brussels:20211019T043000
DTEND;TZID=Europe/Brussels:20211019T043000
END:VEVENT
BEGIN:VEVENT
UID:343A6D01-7373-405B-9427-CB56B07F8CCD-6-247_homereminder@153.badmintonne
 rs.net
DTSTAMP:20260420T073346Z
SUMMARY:Thuismatch ingevuld? (Opslag 1G (60) - De Klamp 1G (64))
DESCRIPTION:Je hebt 36 uur na aanvang om een thuismatch op Badmintonvlaande
 ren in te vullen. Match info: Opslag 1G (60) - De Klamp 1G (64) - Link: ht
 tps://www.badmintonvlaanderen.be/sport/teammatch.aspx?id=343A6D01-7373-405
 B-9427-CB56B07F8CCD&match=247
DTSTART;TZID=Europe/Brussels:20211130T043000
DTEND;TZID=Europe/Brussels:20211130T043000
END:VEVENT
BEGIN:VEVENT
UID:343A6D01-7373-405B-9427-CB56B07F8CCD-6-259_homereminder@153.badmintonne
 rs.net
DTSTAMP:20260420T073346Z
SUMMARY:Thuismatch ingevuld? (Opslag 1G (60) - Brasschaat 4G (70))
DESCRIPTION:Je hebt 36 uur na aanvang om een thuismatch op Badmintonvlaande
 ren in te vullen. Match info: Opslag 1G (60) - Brasschaat 4G (70) - Link: 
 https://www.badmintonvlaanderen.be/sport/teammatch.aspx?id=343A6D01-7373-4
 05B-9427-CB56B07F8CCD&match=259
DTSTART;TZID=Europe/Brussels:20211214T043000
DTEND;TZID=Europe/Brussels:20211214T043000
END:VEVENT
BEGIN:VEVENT
UID:343A6D01-7373-405B-9427-CB56B07F8CCD-6-241_homereminder@153.badmintonne
 rs.net
DTSTAMP:20260420T073346Z
SUMMARY:Thuismatch ingevuld? (Opslag 1G (60) - Turnhout 1G (64))
DESCRIPTION:Je hebt 36 uur na aanvang om een thuismatch op Badmintonvlaande
 ren in te vullen. Match info: Opslag 1G (60) - Turnhout 1G (64) - Link: ht
 tps://www.badmintonvlaanderen.be/sport/teammatch.aspx?id=343A6D01-7373-405
 B-9427-CB56B07F8CCD&match=241
DTSTART;TZID=Europe/Brussels:20220111T043000
DTEND;TZID=Europe/Brussels:20220111T043000
END:VEVENT
BEGIN:VEVENT
UID:343A6D01-7373-405B-9427-CB56B07F8CCD-6-265_homereminder@153.badmintonne
 rs.net
DTSTAMP:20260420T073346Z
SUMMARY:Thuismatch ingevuld? (Opslag 1G (60) - Klein Boom 2G (65))
DESCRIPTION:Je hebt 36 uur na aanvang om een thuismatch op Badmintonvlaande
 ren in te vullen. Match info: Opslag 1G (60) - Klein Boom 2G (65) - Link: 
 https://www.badmintonvlaanderen.be/sport/teammatch.aspx?id=343A6D01-7373-4
 05B-9427-CB56B07F8CCD&match=265
DTSTART;TZID=Europe/Brussels:20220322T043000
DTEND;TZID=Europe/Brussels:20220322T043000
END:VEVENT
BEGIN:VEVENT
UID:343A6D01-7373-405B-9427-CB56B07F8CCD-6-253_homereminder@153.badmintonne
 rs.net
DTSTAMP:20260420T073346Z
SUMMARY:Thuismatch ingevuld? (Opslag 1G (60) - Rijkerack 1G (70))
DESCRIPTION:Je hebt 36 uur na aanvang om een thuismatch op Badmintonvlaande
 ren in te vullen. Match info: Opslag 1G (60) - Rijkerack 1G (70) - Link: h
 ttps://www.badmintonvlaanderen.be/sport/teammatch.aspx?id=343A6D01-7373-40
 5B-9427-CB56B07F8CCD&match=253
DTSTART;TZID=Europe/Brussels:20220510T043000
DTEND;TZID=Europe/Brussels:20220510T043000
END:VEVENT
BEGIN:VEVENT
UID:343A6D01-7373-405B-9427-CB56B07F8CCD-6-230_awayreminder@153.badmintonne
 rs.net
DTSTAMP:20260420T073346Z
SUMMARY:Uitmatch bevestigd? (Turnhout 1G (64) - Opslag 1G (60))
DESCRIPTION:Je hebt 72 uur na aanvang om een uitmatch op Badmintonvlaandere
 n in te vullen. Match info: Turnhout 1G (64) - Opslag 1G (60) - Link: http
 s://www.badmintonvlaanderen.be/sport/teammatch.aspx?id=343A6D01-7373-405B-
 9427-CB56B07F8CCD&match=230
DTSTART;TZID=Europe/Brussels:20210921T140000
DTEND;TZID=Europe/Brussels:20210921T140000
END:VEVENT
BEGIN:VEVENT
UID:343A6D01-7373-405B-9427-CB56B07F8CCD-6-232_awayreminder@153.badmintonne
 rs.net
DTSTAMP:20260420T073346Z
SUMMARY:Uitmatch bevestigd? (Rijkerack 1G (70) - Opslag 1G (60))
DESCRIPTION:Je hebt 72 uur na aanvang om een uitmatch op Badmintonvlaandere
 n in te vullen. Match info: Rijkerack 1G (70) - Opslag 1G (60) - Link: htt
 ps://www.badmintonvlaanderen.be/sport/teammatch.aspx?id=343A6D01-7373-405B
 -9427-CB56B07F8CCD&match=232
DTSTART;TZID=Europe/Brussels:20211103T190000
DTEND;TZID=Europe/Brussels:20211103T190000
END:VEVENT
BEGIN:VEVENT
UID:343A6D01-7373-405B-9427-CB56B07F8CCD-6-234_awayreminder@153.badmintonne
 rs.net
DTSTAMP:20260420T073346Z
SUMMARY:Uitmatch bevestigd? (Klein Boom 2G (65) - Opslag 1G (60))
DESCRIPTION:Je hebt 72 uur na aanvang om een uitmatch op Badmintonvlaandere
 n in te vullen. Match info: Klein Boom 2G (65) - Opslag 1G (60) - Link: ht
 tps://www.badmintonvlaanderen.be/sport/teammatch.aspx?id=343A6D01-7373-405
 B-9427-CB56B07F8CCD&match=234
DTSTART;TZID=Europe/Brussels:20211111T200000
DTEND;TZID=Europe/Brussels:20211111T200000
END:VEVENT
BEGIN:VEVENT
UID:343A6D01-7373-405B-9427-CB56B07F8CCD-6-229_awayreminder@153.badmintonne
 rs.net
DTSTAMP:20260420T073346Z
SUMMARY:Uitmatch bevestigd? (Huirtuits Dropke 2G (71) - Opslag 1G (60))
DESCRIPTION:Je hebt 72 uur na aanvang om een uitmatch op Badmintonvlaandere
 n in te vullen. Match info: Huirtuits Dropke 2G (71) - Opslag 1G (60) - Li
 nk: https://www.badmintonvlaanderen.be/sport/teammatch.aspx?id=343A6D01-73
 73-405B-9427-CB56B07F8CCD&match=229
DTSTART;TZID=Europe/Brussels:20220223T183000
DTEND;TZID=Europe/Brussels:20220223T183000
END:VEVENT
BEGIN:VEVENT
UID:343A6D01-7373-405B-9427-CB56B07F8CCD-6-231_awayreminder@153.badmintonne
 rs.net
DTSTAMP:20260420T073346Z
SUMMARY:Uitmatch bevestigd? (De Klamp 1G (64) - Opslag 1G (60))
DESCRIPTION:Je hebt 72 uur na aanvang om een uitmatch op Badmintonvlaandere
 n in te vullen. Match info: De Klamp 1G (64) - Opslag 1G (60) - Link: http
 s://www.badmintonvlaanderen.be/sport/teammatch.aspx?id=343A6D01-7373-405B-
 9427-CB56B07F8CCD&match=231
DTSTART;TZID=Europe/Brussels:20220309T090000
DTEND;TZID=Europe/Brussels:20220309T090000
END:VEVENT
BEGIN:VEVENT
UID:343A6D01-7373-405B-9427-CB56B07F8CCD-6-233_awayreminder@153.badmintonne
 rs.net
DTSTAMP:20260420T073346Z
SUMMARY:Uitmatch bevestigd? (Brasschaat 4G (70) - Opslag 1G (60))
DESCRIPTION:Je hebt 72 uur na aanvang om een uitmatch op Badmintonvlaandere
 n in te vullen. Match info: Brasschaat 4G (70) - Opslag 1G (60) - Link: ht
 tps://www.badmintonvlaanderen.be/sport/teammatch.aspx?id=343A6D01-7373-405
 B-9427-CB56B07F8CCD&match=233
DTSTART;TZID=Europe/Brussels:20220309T190000
DTEND;TZID=Europe/Brussels:20220309T190000
END:VEVENT
END:VCALENDAR