BEGIN:VCALENDAR
VERSION:2.0
PRODID:spatie/icalendar-generator
NAME:huirtuits_dropke_2g_71_reminders
X-WR-CALNAME:huirtuits_dropke_2g_71_reminders
BEGIN:VTIMEZONE
TZID:Europe/Brussels
BEGIN:DAYLIGHT
DTSTART:20210328T010000
TZOFFSETFROM:+0100
TZOFFSETTO:+0200
END:DAYLIGHT
BEGIN:STANDARD
DTSTART:20211031T030000
TZOFFSETFROM:+0200
TZOFFSETTO:+0100
END:STANDARD
BEGIN:DAYLIGHT
DTSTART:20220327T010000
TZOFFSETFROM:+0100
TZOFFSETTO:+0200
END:DAYLIGHT
END:VTIMEZONE
BEGIN:VTIMEZONE
TZID:UTC
BEGIN:STANDARD
DTSTART:20250724T055143
TZOFFSETFROM:+0000
TZOFFSETTO:+0000
END:STANDARD
END:VTIMEZONE
BEGIN:VEVENT
UID:343A6D01-7373-405B-9427-CB56B07F8CCD-6-266_homereminder@186.badmintonne
 rs.net
DTSTAMP:20260420T055143Z
SUMMARY:Thuismatch ingevuld? (Huirtuits Dropke 2G (71) - Klein Boom 2G (65)
 )
DESCRIPTION:Je hebt 36 uur na aanvang om een thuismatch op Badmintonvlaande
 ren in te vullen. Match info: Huirtuits Dropke 2G (71) - Klein Boom 2G (65
 ) - Link: https://www.badmintonvlaanderen.be/sport/teammatch.aspx?id=343A6
 D01-7373-405B-9427-CB56B07F8CCD&match=266
DTSTART;TZID=Europe/Brussels:20211005T063000
DTEND;TZID=Europe/Brussels:20211005T063000
END:VEVENT
BEGIN:VEVENT
UID:343A6D01-7373-405B-9427-CB56B07F8CCD-6-254_homereminder@186.badmintonne
 rs.net
DTSTAMP:20260420T055143Z
SUMMARY:Thuismatch ingevuld? (Huirtuits Dropke 2G (71) - Rijkerack 1G (70))
DESCRIPTION:Je hebt 36 uur na aanvang om een thuismatch op Badmintonvlaande
 ren in te vullen. Match info: Huirtuits Dropke 2G (71) - Rijkerack 1G (70)
  - Link: https://www.badmintonvlaanderen.be/sport/teammatch.aspx?id=343A6D
 01-7373-405B-9427-CB56B07F8CCD&match=254
DTSTART;TZID=Europe/Brussels:20211116T063000
DTEND;TZID=Europe/Brussels:20211116T063000
END:VEVENT
BEGIN:VEVENT
UID:343A6D01-7373-405B-9427-CB56B07F8CCD-6-242_homereminder@186.badmintonne
 rs.net
DTSTAMP:20260420T055143Z
SUMMARY:Thuismatch ingevuld? (Huirtuits Dropke 2G (71) - Turnhout 1G (64))
DESCRIPTION:Je hebt 36 uur na aanvang om een thuismatch op Badmintonvlaande
 ren in te vullen. Match info: Huirtuits Dropke 2G (71) - Turnhout 1G (64) 
 - Link: https://www.badmintonvlaanderen.be/sport/teammatch.aspx?id=343A6D0
 1-7373-405B-9427-CB56B07F8CCD&match=242
DTSTART;TZID=Europe/Brussels:20211118T080000
DTEND;TZID=Europe/Brussels:20211118T080000
END:VEVENT
BEGIN:VEVENT
UID:343A6D01-7373-405B-9427-CB56B07F8CCD-6-248_homereminder@186.badmintonne
 rs.net
DTSTAMP:20260420T055143Z
SUMMARY:Thuismatch ingevuld? (Huirtuits Dropke 2G (71) - De Klamp 1G (64))
DESCRIPTION:Je hebt 36 uur na aanvang om een thuismatch op Badmintonvlaande
 ren in te vullen. Match info: Huirtuits Dropke 2G (71) - De Klamp 1G (64) 
 - Link: https://www.badmintonvlaanderen.be/sport/teammatch.aspx?id=343A6D0
 1-7373-405B-9427-CB56B07F8CCD&match=248
DTSTART;TZID=Europe/Brussels:20220125T063000
DTEND;TZID=Europe/Brussels:20220125T063000
END:VEVENT
BEGIN:VEVENT
UID:343A6D01-7373-405B-9427-CB56B07F8CCD-6-229_homereminder@186.badmintonne
 rs.net
DTSTAMP:20260420T055143Z
SUMMARY:Thuismatch ingevuld? (Huirtuits Dropke 2G (71) - Opslag 1G (60))
DESCRIPTION:Je hebt 36 uur na aanvang om een thuismatch op Badmintonvlaande
 ren in te vullen. Match info: Huirtuits Dropke 2G (71) - Opslag 1G (60) - 
 Link: https://www.badmintonvlaanderen.be/sport/teammatch.aspx?id=343A6D01-
 7373-405B-9427-CB56B07F8CCD&match=229
DTSTART;TZID=Europe/Brussels:20220222T063000
DTEND;TZID=Europe/Brussels:20220222T063000
END:VEVENT
BEGIN:VEVENT
UID:343A6D01-7373-405B-9427-CB56B07F8CCD-6-260_homereminder@186.badmintonne
 rs.net
DTSTAMP:20260420T055143Z
SUMMARY:Thuismatch ingevuld? (Huirtuits Dropke 2G (71) - Brasschaat 4G (70)
 )
DESCRIPTION:Je hebt 36 uur na aanvang om een thuismatch op Badmintonvlaande
 ren in te vullen. Match info: Huirtuits Dropke 2G (71) - Brasschaat 4G (70
 ) - Link: https://www.badmintonvlaanderen.be/sport/teammatch.aspx?id=343A6
 D01-7373-405B-9427-CB56B07F8CCD&match=260
DTSTART;TZID=Europe/Brussels:20220322T063000
DTEND;TZID=Europe/Brussels:20220322T063000
END:VEVENT
BEGIN:VEVENT
UID:343A6D01-7373-405B-9427-CB56B07F8CCD-6-235_awayreminder@186.badmintonne
 rs.net
DTSTAMP:20260420T055143Z
SUMMARY:Uitmatch bevestigd? (Opslag 1G (60) - Huirtuits Dropke 2G (71))
DESCRIPTION:Je hebt 72 uur na aanvang om een uitmatch op Badmintonvlaandere
 n in te vullen. Match info: Opslag 1G (60) - Huirtuits Dropke 2G (71) - Li
 nk: https://www.badmintonvlaanderen.be/sport/teammatch.aspx?id=343A6D01-73
 73-405B-9427-CB56B07F8CCD&match=235
DTSTART;TZID=Europe/Brussels:20211020T163000
DTEND;TZID=Europe/Brussels:20211020T163000
END:VEVENT
BEGIN:VEVENT
UID:343A6D01-7373-405B-9427-CB56B07F8CCD-6-239_awayreminder@186.badmintonne
 rs.net
DTSTAMP:20260420T055143Z
SUMMARY:Uitmatch bevestigd? (Brasschaat 4G (70) - Huirtuits Dropke 2G (71))
DESCRIPTION:Je hebt 72 uur na aanvang om een uitmatch op Badmintonvlaandere
 n in te vullen. Match info: Brasschaat 4G (70) - Huirtuits Dropke 2G (71) 
 - Link: https://www.badmintonvlaanderen.be/sport/teammatch.aspx?id=343A6D0
 1-7373-405B-9427-CB56B07F8CCD&match=239
DTSTART;TZID=Europe/Brussels:20211103T190000
DTEND;TZID=Europe/Brussels:20211103T190000
END:VEVENT
BEGIN:VEVENT
UID:343A6D01-7373-405B-9427-CB56B07F8CCD-6-237_awayreminder@186.badmintonne
 rs.net
DTSTAMP:20260420T055143Z
SUMMARY:Uitmatch bevestigd? (De Klamp 1G (64) - Huirtuits Dropke 2G (71))
DESCRIPTION:Je hebt 72 uur na aanvang om een uitmatch op Badmintonvlaandere
 n in te vullen. Match info: De Klamp 1G (64) - Huirtuits Dropke 2G (71) - 
 Link: https://www.badmintonvlaanderen.be/sport/teammatch.aspx?id=343A6D01-
 7373-405B-9427-CB56B07F8CCD&match=237
DTSTART;TZID=Europe/Brussels:20211215T181500
DTEND;TZID=Europe/Brussels:20211215T181500
END:VEVENT
BEGIN:VEVENT
UID:343A6D01-7373-405B-9427-CB56B07F8CCD-6-236_awayreminder@186.badmintonne
 rs.net
DTSTAMP:20260420T055143Z
SUMMARY:Uitmatch bevestigd? (Turnhout 1G (64) - Huirtuits Dropke 2G (71))
DESCRIPTION:Je hebt 72 uur na aanvang om een uitmatch op Badmintonvlaandere
 n in te vullen. Match info: Turnhout 1G (64) - Huirtuits Dropke 2G (71) - 
 Link: https://www.badmintonvlaanderen.be/sport/teammatch.aspx?id=343A6D01-
 7373-405B-9427-CB56B07F8CCD&match=236
DTSTART;TZID=Europe/Brussels:20220208T140000
DTEND;TZID=Europe/Brussels:20220208T140000
END:VEVENT
BEGIN:VEVENT
UID:343A6D01-7373-405B-9427-CB56B07F8CCD-6-240_awayreminder@186.badmintonne
 rs.net
DTSTAMP:20260420T055143Z
SUMMARY:Uitmatch bevestigd? (Klein Boom 2G (65) - Huirtuits Dropke 2G (71))
DESCRIPTION:Je hebt 72 uur na aanvang om een uitmatch op Badmintonvlaandere
 n in te vullen. Match info: Klein Boom 2G (65) - Huirtuits Dropke 2G (71) 
 - Link: https://www.badmintonvlaanderen.be/sport/teammatch.aspx?id=343A6D0
 1-7373-405B-9427-CB56B07F8CCD&match=240
DTSTART;TZID=Europe/Brussels:20220331T200000
DTEND;TZID=Europe/Brussels:20220331T200000
END:VEVENT
BEGIN:VEVENT
UID:343A6D01-7373-405B-9427-CB56B07F8CCD-6-238_awayreminder@186.badmintonne
 rs.net
DTSTAMP:20260420T055143Z
SUMMARY:Uitmatch bevestigd? (Rijkerack 1G (70) - Huirtuits Dropke 2G (71))
DESCRIPTION:Je hebt 72 uur na aanvang om een uitmatch op Badmintonvlaandere
 n in te vullen. Match info: Rijkerack 1G (70) - Huirtuits Dropke 2G (71) -
  Link: https://www.badmintonvlaanderen.be/sport/teammatch.aspx?id=343A6D01
 -7373-405B-9427-CB56B07F8CCD&match=238
DTSTART;TZID=Europe/Brussels:20220427T190000
DTEND;TZID=Europe/Brussels:20220427T190000
END:VEVENT
END:VCALENDAR