BEGIN:VCALENDAR
VERSION:2.0
PRODID:spatie/icalendar-generator
NAME:rijkerack_1g_70_reminders
X-WR-CALNAME:rijkerack_1g_70_reminders
BEGIN:VTIMEZONE
TZID:Europe/Brussels
BEGIN:DAYLIGHT
DTSTART:20210328T010000
TZOFFSETFROM:+0100
TZOFFSETTO:+0200
END:DAYLIGHT
BEGIN:STANDARD
DTSTART:20211031T030000
TZOFFSETFROM:+0200
TZOFFSETTO:+0100
END:STANDARD
BEGIN:DAYLIGHT
DTSTART:20220327T010000
TZOFFSETFROM:+0100
TZOFFSETTO:+0200
END:DAYLIGHT
BEGIN:STANDARD
DTSTART:20221030T030000
TZOFFSETFROM:+0200
TZOFFSETTO:+0100
END:STANDARD
END:VTIMEZONE
BEGIN:VTIMEZONE
TZID:UTC
BEGIN:STANDARD
DTSTART:20250724T055106
TZOFFSETFROM:+0000
TZOFFSETTO:+0000
END:STANDARD
END:VTIMEZONE
BEGIN:VEVENT
UID:343A6D01-7373-405B-9427-CB56B07F8CCD-6-232_homereminder@19.badmintonner
 s.net
DTSTAMP:20260420T055106Z
SUMMARY:Thuismatch ingevuld? (Rijkerack 1G (70) - Opslag 1G (60))
DESCRIPTION:Je hebt 36 uur na aanvang om een thuismatch op Badmintonvlaande
 ren in te vullen. Match info: Rijkerack 1G (70) - Opslag 1G (60) - Link: h
 ttps://www.badmintonvlaanderen.be/sport/teammatch.aspx?id=343A6D01-7373-40
 5B-9427-CB56B07F8CCD&match=232
DTSTART;TZID=Europe/Brussels:20211102T070000
DTEND;TZID=Europe/Brussels:20211102T070000
END:VEVENT
BEGIN:VEVENT
UID:343A6D01-7373-405B-9427-CB56B07F8CCD-6-263_homereminder@19.badmintonner
 s.net
DTSTAMP:20260420T055106Z
SUMMARY:Thuismatch ingevuld? (Rijkerack 1G (70) - Brasschaat 4G (70))
DESCRIPTION:Je hebt 36 uur na aanvang om een thuismatch op Badmintonvlaande
 ren in te vullen. Match info: Rijkerack 1G (70) - Brasschaat 4G (70) - Lin
 k: https://www.badmintonvlaanderen.be/sport/teammatch.aspx?id=343A6D01-737
 3-405B-9427-CB56B07F8CCD&match=263
DTSTART;TZID=Europe/Brussels:20211112T080000
DTEND;TZID=Europe/Brussels:20211112T080000
END:VEVENT
BEGIN:VEVENT
UID:343A6D01-7373-405B-9427-CB56B07F8CCD-6-244_homereminder@19.badmintonner
 s.net
DTSTAMP:20260420T055106Z
SUMMARY:Thuismatch ingevuld? (Rijkerack 1G (70) - Turnhout 1G (64))
DESCRIPTION:Je hebt 36 uur na aanvang om een thuismatch op Badmintonvlaande
 ren in te vullen. Match info: Rijkerack 1G (70) - Turnhout 1G (64) - Link:
  https://www.badmintonvlaanderen.be/sport/teammatch.aspx?id=343A6D01-7373-
 405B-9427-CB56B07F8CCD&match=244
DTSTART;TZID=Europe/Brussels:20211130T070000
DTEND;TZID=Europe/Brussels:20211130T070000
END:VEVENT
BEGIN:VEVENT
UID:343A6D01-7373-405B-9427-CB56B07F8CCD-6-269_homereminder@19.badmintonner
 s.net
DTSTAMP:20260420T055106Z
SUMMARY:Thuismatch ingevuld? (Rijkerack 1G (70) - Klein Boom 2G (65))
DESCRIPTION:Je hebt 36 uur na aanvang om een thuismatch op Badmintonvlaande
 ren in te vullen. Match info: Rijkerack 1G (70) - Klein Boom 2G (65) - Lin
 k: https://www.badmintonvlaanderen.be/sport/teammatch.aspx?id=343A6D01-737
 3-405B-9427-CB56B07F8CCD&match=269
DTSTART;TZID=Europe/Brussels:20220208T073000
DTEND;TZID=Europe/Brussels:20220208T073000
END:VEVENT
BEGIN:VEVENT
UID:343A6D01-7373-405B-9427-CB56B07F8CCD-6-250_homereminder@19.badmintonner
 s.net
DTSTAMP:20260420T055106Z
SUMMARY:Thuismatch ingevuld? (Rijkerack 1G (70) - De Klamp 1G (64))
DESCRIPTION:Je hebt 36 uur na aanvang om een thuismatch op Badmintonvlaande
 ren in te vullen. Match info: Rijkerack 1G (70) - De Klamp 1G (64) - Link:
  https://www.badmintonvlaanderen.be/sport/teammatch.aspx?id=343A6D01-7373-
 405B-9427-CB56B07F8CCD&match=250
DTSTART;TZID=Europe/Brussels:20220405T070000
DTEND;TZID=Europe/Brussels:20220405T070000
END:VEVENT
BEGIN:VEVENT
UID:343A6D01-7373-405B-9427-CB56B07F8CCD-6-238_homereminder@19.badmintonner
 s.net
DTSTAMP:20260420T055106Z
SUMMARY:Thuismatch ingevuld? (Rijkerack 1G (70) - Huirtuits Dropke 2G (71))
DESCRIPTION:Je hebt 36 uur na aanvang om een thuismatch op Badmintonvlaande
 ren in te vullen. Match info: Rijkerack 1G (70) - Huirtuits Dropke 2G (71)
  - Link: https://www.badmintonvlaanderen.be/sport/teammatch.aspx?id=343A6D
 01-7373-405B-9427-CB56B07F8CCD&match=238
DTSTART;TZID=Europe/Brussels:20220426T070000
DTEND;TZID=Europe/Brussels:20220426T070000
END:VEVENT
BEGIN:VEVENT
UID:343A6D01-7373-405B-9427-CB56B07F8CCD-6-256_awayreminder@19.badmintonner
 s.net
DTSTAMP:20260420T055106Z
SUMMARY:Uitmatch bevestigd? (De Klamp 1G (64) - Rijkerack 1G (70))
DESCRIPTION:Je hebt 72 uur na aanvang om een uitmatch op Badmintonvlaandere
 n in te vullen. Match info: De Klamp 1G (64) - Rijkerack 1G (70) - Link: h
 ttps://www.badmintonvlaanderen.be/sport/teammatch.aspx?id=343A6D01-7373-40
 5B-9427-CB56B07F8CCD&match=256
DTSTART;TZID=Europe/Brussels:20211006T181500
DTEND;TZID=Europe/Brussels:20211006T181500
END:VEVENT
BEGIN:VEVENT
UID:343A6D01-7373-405B-9427-CB56B07F8CCD-6-258_awayreminder@19.badmintonner
 s.net
DTSTAMP:20260420T055106Z
SUMMARY:Uitmatch bevestigd? (Klein Boom 2G (65) - Rijkerack 1G (70))
DESCRIPTION:Je hebt 72 uur na aanvang om een uitmatch op Badmintonvlaandere
 n in te vullen. Match info: Klein Boom 2G (65) - Rijkerack 1G (70) - Link:
  https://www.badmintonvlaanderen.be/sport/teammatch.aspx?id=343A6D01-7373-
 405B-9427-CB56B07F8CCD&match=258
DTSTART;TZID=Europe/Brussels:20211014T200000
DTEND;TZID=Europe/Brussels:20211014T200000
END:VEVENT
BEGIN:VEVENT
UID:343A6D01-7373-405B-9427-CB56B07F8CCD-6-254_awayreminder@19.badmintonner
 s.net
DTSTAMP:20260420T055106Z
SUMMARY:Uitmatch bevestigd? (Huirtuits Dropke 2G (71) - Rijkerack 1G (70))
DESCRIPTION:Je hebt 72 uur na aanvang om een uitmatch op Badmintonvlaandere
 n in te vullen. Match info: Huirtuits Dropke 2G (71) - Rijkerack 1G (70) -
  Link: https://www.badmintonvlaanderen.be/sport/teammatch.aspx?id=343A6D01
 -7373-405B-9427-CB56B07F8CCD&match=254
DTSTART;TZID=Europe/Brussels:20211117T183000
DTEND;TZID=Europe/Brussels:20211117T183000
END:VEVENT
BEGIN:VEVENT
UID:343A6D01-7373-405B-9427-CB56B07F8CCD-6-257_awayreminder@19.badmintonner
 s.net
DTSTAMP:20260420T055106Z
SUMMARY:Uitmatch bevestigd? (Brasschaat 4G (70) - Rijkerack 1G (70))
DESCRIPTION:Je hebt 72 uur na aanvang om een uitmatch op Badmintonvlaandere
 n in te vullen. Match info: Brasschaat 4G (70) - Rijkerack 1G (70) - Link:
  https://www.badmintonvlaanderen.be/sport/teammatch.aspx?id=343A6D01-7373-
 405B-9427-CB56B07F8CCD&match=257
DTSTART;TZID=Europe/Brussels:20220112T200000
DTEND;TZID=Europe/Brussels:20220112T200000
END:VEVENT
BEGIN:VEVENT
UID:343A6D01-7373-405B-9427-CB56B07F8CCD-6-255_awayreminder@19.badmintonner
 s.net
DTSTAMP:20260420T055106Z
SUMMARY:Uitmatch bevestigd? (Turnhout 1G (64) - Rijkerack 1G (70))
DESCRIPTION:Je hebt 72 uur na aanvang om een uitmatch op Badmintonvlaandere
 n in te vullen. Match info: Turnhout 1G (64) - Rijkerack 1G (70) - Link: h
 ttps://www.badmintonvlaanderen.be/sport/teammatch.aspx?id=343A6D01-7373-40
 5B-9427-CB56B07F8CCD&match=255
DTSTART;TZID=Europe/Brussels:20220308T140000
DTEND;TZID=Europe/Brussels:20220308T140000
END:VEVENT
BEGIN:VEVENT
UID:343A6D01-7373-405B-9427-CB56B07F8CCD-6-253_awayreminder@19.badmintonner
 s.net
DTSTAMP:20260420T055106Z
SUMMARY:Uitmatch bevestigd? (Opslag 1G (60) - Rijkerack 1G (70))
DESCRIPTION:Je hebt 72 uur na aanvang om een uitmatch op Badmintonvlaandere
 n in te vullen. Match info: Opslag 1G (60) - Rijkerack 1G (70) - Link: htt
 ps://www.badmintonvlaanderen.be/sport/teammatch.aspx?id=343A6D01-7373-405B
 -9427-CB56B07F8CCD&match=253
DTSTART;TZID=Europe/Brussels:20220511T163000
DTEND;TZID=Europe/Brussels:20220511T163000
END:VEVENT
END:VCALENDAR