BEGIN:VCALENDAR
VERSION:2.0
PRODID:spatie/icalendar-generator
NAME:turnhout_1g_64_reminders
X-WR-CALNAME:turnhout_1g_64_reminders
BEGIN:VTIMEZONE
TZID:Europe/Brussels
BEGIN:DAYLIGHT
DTSTART:20210328T010000
TZOFFSETFROM:+0100
TZOFFSETTO:+0200
END:DAYLIGHT
BEGIN:STANDARD
DTSTART:20211031T030000
TZOFFSETFROM:+0200
TZOFFSETTO:+0100
END:STANDARD
BEGIN:DAYLIGHT
DTSTART:20220327T010000
TZOFFSETFROM:+0100
TZOFFSETTO:+0200
END:DAYLIGHT
END:VTIMEZONE
BEGIN:VTIMEZONE
TZID:UTC
BEGIN:STANDARD
DTSTART:20250724T055107
TZOFFSETFROM:+0000
TZOFFSETTO:+0000
END:STANDARD
END:VTIMEZONE
BEGIN:VEVENT
UID:343A6D01-7373-405B-9427-CB56B07F8CCD-6-230_homereminder@199.badmintonne
 rs.net
DTSTAMP:20260420T055107Z
SUMMARY:Thuismatch ingevuld? (Turnhout 1G (64) - Opslag 1G (60))
DESCRIPTION:Je hebt 36 uur na aanvang om een thuismatch op Badmintonvlaande
 ren in te vullen. Match info: Turnhout 1G (64) - Opslag 1G (60) - Link: ht
 tps://www.badmintonvlaanderen.be/sport/teammatch.aspx?id=343A6D01-7373-405
 B-9427-CB56B07F8CCD&match=230
DTSTART;TZID=Europe/Brussels:20210920T020000
DTEND;TZID=Europe/Brussels:20210920T020000
END:VEVENT
BEGIN:VEVENT
UID:343A6D01-7373-405B-9427-CB56B07F8CCD-6-261_homereminder@199.badmintonne
 rs.net
DTSTAMP:20260420T055107Z
SUMMARY:Thuismatch ingevuld? (Turnhout 1G (64) - Brasschaat 4G (70))
DESCRIPTION:Je hebt 36 uur na aanvang om een thuismatch op Badmintonvlaande
 ren in te vullen. Match info: Turnhout 1G (64) - Brasschaat 4G (70) - Link
 : https://www.badmintonvlaanderen.be/sport/teammatch.aspx?id=343A6D01-7373
 -405B-9427-CB56B07F8CCD&match=261
DTSTART;TZID=Europe/Brussels:20211004T020000
DTEND;TZID=Europe/Brussels:20211004T020000
END:VEVENT
BEGIN:VEVENT
UID:343A6D01-7373-405B-9427-CB56B07F8CCD-6-249_homereminder@199.badmintonne
 rs.net
DTSTAMP:20260420T055107Z
SUMMARY:Thuismatch ingevuld? (Turnhout 1G (64) - De Klamp 1G (64))
DESCRIPTION:Je hebt 36 uur na aanvang om een thuismatch op Badmintonvlaande
 ren in te vullen. Match info: Turnhout 1G (64) - De Klamp 1G (64) - Link: 
 https://www.badmintonvlaanderen.be/sport/teammatch.aspx?id=343A6D01-7373-4
 05B-9427-CB56B07F8CCD&match=249
DTSTART;TZID=Europe/Brussels:20211101T010000
DTEND;TZID=Europe/Brussels:20211101T010000
END:VEVENT
BEGIN:VEVENT
UID:343A6D01-7373-405B-9427-CB56B07F8CCD-6-267_homereminder@199.badmintonne
 rs.net
DTSTAMP:20260420T055107Z
SUMMARY:Thuismatch ingevuld? (Turnhout 1G (64) - Klein Boom 2G (65))
DESCRIPTION:Je hebt 36 uur na aanvang om een thuismatch op Badmintonvlaande
 ren in te vullen. Match info: Turnhout 1G (64) - Klein Boom 2G (65) - Link
 : https://www.badmintonvlaanderen.be/sport/teammatch.aspx?id=343A6D01-7373
 -405B-9427-CB56B07F8CCD&match=267
DTSTART;TZID=Europe/Brussels:20220124T020000
DTEND;TZID=Europe/Brussels:20220124T020000
END:VEVENT
BEGIN:VEVENT
UID:343A6D01-7373-405B-9427-CB56B07F8CCD-6-236_homereminder@199.badmintonne
 rs.net
DTSTAMP:20260420T055107Z
SUMMARY:Thuismatch ingevuld? (Turnhout 1G (64) - Huirtuits Dropke 2G (71))
DESCRIPTION:Je hebt 36 uur na aanvang om een thuismatch op Badmintonvlaande
 ren in te vullen. Match info: Turnhout 1G (64) - Huirtuits Dropke 2G (71) 
 - Link: https://www.badmintonvlaanderen.be/sport/teammatch.aspx?id=343A6D0
 1-7373-405B-9427-CB56B07F8CCD&match=236
DTSTART;TZID=Europe/Brussels:20220207T020000
DTEND;TZID=Europe/Brussels:20220207T020000
END:VEVENT
BEGIN:VEVENT
UID:343A6D01-7373-405B-9427-CB56B07F8CCD-6-255_homereminder@199.badmintonne
 rs.net
DTSTAMP:20260420T055107Z
SUMMARY:Thuismatch ingevuld? (Turnhout 1G (64) - Rijkerack 1G (70))
DESCRIPTION:Je hebt 36 uur na aanvang om een thuismatch op Badmintonvlaande
 ren in te vullen. Match info: Turnhout 1G (64) - Rijkerack 1G (70) - Link:
  https://www.badmintonvlaanderen.be/sport/teammatch.aspx?id=343A6D01-7373-
 405B-9427-CB56B07F8CCD&match=255
DTSTART;TZID=Europe/Brussels:20220307T020000
DTEND;TZID=Europe/Brussels:20220307T020000
END:VEVENT
BEGIN:VEVENT
UID:343A6D01-7373-405B-9427-CB56B07F8CCD-6-242_awayreminder@199.badmintonne
 rs.net
DTSTAMP:20260420T055107Z
SUMMARY:Uitmatch bevestigd? (Huirtuits Dropke 2G (71) - Turnhout 1G (64))
DESCRIPTION:Je hebt 72 uur na aanvang om een uitmatch op Badmintonvlaandere
 n in te vullen. Match info: Huirtuits Dropke 2G (71) - Turnhout 1G (64) - 
 Link: https://www.badmintonvlaanderen.be/sport/teammatch.aspx?id=343A6D01-
 7373-405B-9427-CB56B07F8CCD&match=242
DTSTART;TZID=Europe/Brussels:20211119T200000
DTEND;TZID=Europe/Brussels:20211119T200000
END:VEVENT
BEGIN:VEVENT
UID:343A6D01-7373-405B-9427-CB56B07F8CCD-6-244_awayreminder@199.badmintonne
 rs.net
DTSTAMP:20260420T055107Z
SUMMARY:Uitmatch bevestigd? (Rijkerack 1G (70) - Turnhout 1G (64))
DESCRIPTION:Je hebt 72 uur na aanvang om een uitmatch op Badmintonvlaandere
 n in te vullen. Match info: Rijkerack 1G (70) - Turnhout 1G (64) - Link: h
 ttps://www.badmintonvlaanderen.be/sport/teammatch.aspx?id=343A6D01-7373-40
 5B-9427-CB56B07F8CCD&match=244
DTSTART;TZID=Europe/Brussels:20211201T190000
DTEND;TZID=Europe/Brussels:20211201T190000
END:VEVENT
BEGIN:VEVENT
UID:343A6D01-7373-405B-9427-CB56B07F8CCD-6-246_awayreminder@199.badmintonne
 rs.net
DTSTAMP:20260420T055107Z
SUMMARY:Uitmatch bevestigd? (Klein Boom 2G (65) - Turnhout 1G (64))
DESCRIPTION:Je hebt 72 uur na aanvang om een uitmatch op Badmintonvlaandere
 n in te vullen. Match info: Klein Boom 2G (65) - Turnhout 1G (64) - Link: 
 https://www.badmintonvlaanderen.be/sport/teammatch.aspx?id=343A6D01-7373-4
 05B-9427-CB56B07F8CCD&match=246
DTSTART;TZID=Europe/Brussels:20211209T200000
DTEND;TZID=Europe/Brussels:20211209T200000
END:VEVENT
BEGIN:VEVENT
UID:343A6D01-7373-405B-9427-CB56B07F8CCD-6-241_awayreminder@199.badmintonne
 rs.net
DTSTAMP:20260420T055107Z
SUMMARY:Uitmatch bevestigd? (Opslag 1G (60) - Turnhout 1G (64))
DESCRIPTION:Je hebt 72 uur na aanvang om een uitmatch op Badmintonvlaandere
 n in te vullen. Match info: Opslag 1G (60) - Turnhout 1G (64) - Link: http
 s://www.badmintonvlaanderen.be/sport/teammatch.aspx?id=343A6D01-7373-405B-
 9427-CB56B07F8CCD&match=241
DTSTART;TZID=Europe/Brussels:20220112T163000
DTEND;TZID=Europe/Brussels:20220112T163000
END:VEVENT
BEGIN:VEVENT
UID:343A6D01-7373-405B-9427-CB56B07F8CCD-6-245_awayreminder@199.badmintonne
 rs.net
DTSTAMP:20260420T055107Z
SUMMARY:Uitmatch bevestigd? (Brasschaat 4G (70) - Turnhout 1G (64))
DESCRIPTION:Je hebt 72 uur na aanvang om een uitmatch op Badmintonvlaandere
 n in te vullen. Match info: Brasschaat 4G (70) - Turnhout 1G (64) - Link: 
 https://www.badmintonvlaanderen.be/sport/teammatch.aspx?id=343A6D01-7373-4
 05B-9427-CB56B07F8CCD&match=245
DTSTART;TZID=Europe/Brussels:20220126T190000
DTEND;TZID=Europe/Brussels:20220126T190000
END:VEVENT
BEGIN:VEVENT
UID:343A6D01-7373-405B-9427-CB56B07F8CCD-6-243_awayreminder@199.badmintonne
 rs.net
DTSTAMP:20260420T055107Z
SUMMARY:Uitmatch bevestigd? (De Klamp 1G (64) - Turnhout 1G (64))
DESCRIPTION:Je hebt 72 uur na aanvang om een uitmatch op Badmintonvlaandere
 n in te vullen. Match info: De Klamp 1G (64) - Turnhout 1G (64) - Link: ht
 tps://www.badmintonvlaanderen.be/sport/teammatch.aspx?id=343A6D01-7373-405
 B-9427-CB56B07F8CCD&match=243
DTSTART;TZID=Europe/Brussels:20220323T181500
DTEND;TZID=Europe/Brussels:20220323T181500
END:VEVENT
END:VCALENDAR