BEGIN:VCALENDAR
VERSION:2.0
PRODID:spatie/icalendar-generator
NAME:brasschaat_4g_70_reminders
X-WR-CALNAME:brasschaat_4g_70_reminders
BEGIN:VTIMEZONE
TZID:Europe/Brussels
BEGIN:DAYLIGHT
DTSTART:20210328T010000
TZOFFSETFROM:+0100
TZOFFSETTO:+0200
END:DAYLIGHT
BEGIN:STANDARD
DTSTART:20211031T030000
TZOFFSETFROM:+0200
TZOFFSETTO:+0100
END:STANDARD
BEGIN:DAYLIGHT
DTSTART:20220327T010000
TZOFFSETFROM:+0100
TZOFFSETTO:+0200
END:DAYLIGHT
END:VTIMEZONE
BEGIN:VTIMEZONE
TZID:UTC
BEGIN:STANDARD
DTSTART:20250724T055106
TZOFFSETFROM:+0000
TZOFFSETTO:+0000
END:STANDARD
END:VTIMEZONE
BEGIN:VEVENT
UID:343A6D01-7373-405B-9427-CB56B07F8CCD-6-270_homereminder@34.badmintonner
 s.net
DTSTAMP:20260420T055106Z
SUMMARY:Thuismatch ingevuld? (Brasschaat 4G (70) - Klein Boom 2G (65))
DESCRIPTION:Je hebt 36 uur na aanvang om een thuismatch op Badmintonvlaande
 ren in te vullen. Match info: Brasschaat 4G (70) - Klein Boom 2G (65) - Li
 nk: https://www.badmintonvlaanderen.be/sport/teammatch.aspx?id=343A6D01-73
 73-405B-9427-CB56B07F8CCD&match=270
DTSTART;TZID=Europe/Brussels:20211019T070000
DTEND;TZID=Europe/Brussels:20211019T070000
END:VEVENT
BEGIN:VEVENT
UID:343A6D01-7373-405B-9427-CB56B07F8CCD-6-239_homereminder@34.badmintonner
 s.net
DTSTAMP:20260420T055106Z
SUMMARY:Thuismatch ingevuld? (Brasschaat 4G (70) - Huirtuits Dropke 2G (71)
 )
DESCRIPTION:Je hebt 36 uur na aanvang om een thuismatch op Badmintonvlaande
 ren in te vullen. Match info: Brasschaat 4G (70) - Huirtuits Dropke 2G (71
 ) - Link: https://www.badmintonvlaanderen.be/sport/teammatch.aspx?id=343A6
 D01-7373-405B-9427-CB56B07F8CCD&match=239
DTSTART;TZID=Europe/Brussels:20211102T070000
DTEND;TZID=Europe/Brussels:20211102T070000
END:VEVENT
BEGIN:VEVENT
UID:343A6D01-7373-405B-9427-CB56B07F8CCD-6-251_homereminder@34.badmintonner
 s.net
DTSTAMP:20260420T055106Z
SUMMARY:Thuismatch ingevuld? (Brasschaat 4G (70) - De Klamp 1G (64))
DESCRIPTION:Je hebt 36 uur na aanvang om een thuismatch op Badmintonvlaande
 ren in te vullen. Match info: Brasschaat 4G (70) - De Klamp 1G (64) - Link
 : https://www.badmintonvlaanderen.be/sport/teammatch.aspx?id=343A6D01-7373
 -405B-9427-CB56B07F8CCD&match=251
DTSTART;TZID=Europe/Brussels:20211116T070000
DTEND;TZID=Europe/Brussels:20211116T070000
END:VEVENT
BEGIN:VEVENT
UID:343A6D01-7373-405B-9427-CB56B07F8CCD-6-257_homereminder@34.badmintonner
 s.net
DTSTAMP:20260420T055106Z
SUMMARY:Thuismatch ingevuld? (Brasschaat 4G (70) - Rijkerack 1G (70))
DESCRIPTION:Je hebt 36 uur na aanvang om een thuismatch op Badmintonvlaande
 ren in te vullen. Match info: Brasschaat 4G (70) - Rijkerack 1G (70) - Lin
 k: https://www.badmintonvlaanderen.be/sport/teammatch.aspx?id=343A6D01-737
 3-405B-9427-CB56B07F8CCD&match=257
DTSTART;TZID=Europe/Brussels:20220111T080000
DTEND;TZID=Europe/Brussels:20220111T080000
END:VEVENT
BEGIN:VEVENT
UID:343A6D01-7373-405B-9427-CB56B07F8CCD-6-245_homereminder@34.badmintonner
 s.net
DTSTAMP:20260420T055106Z
SUMMARY:Thuismatch ingevuld? (Brasschaat 4G (70) - Turnhout 1G (64))
DESCRIPTION:Je hebt 36 uur na aanvang om een thuismatch op Badmintonvlaande
 ren in te vullen. Match info: Brasschaat 4G (70) - Turnhout 1G (64) - Link
 : https://www.badmintonvlaanderen.be/sport/teammatch.aspx?id=343A6D01-7373
 -405B-9427-CB56B07F8CCD&match=245
DTSTART;TZID=Europe/Brussels:20220125T070000
DTEND;TZID=Europe/Brussels:20220125T070000
END:VEVENT
BEGIN:VEVENT
UID:343A6D01-7373-405B-9427-CB56B07F8CCD-6-233_homereminder@34.badmintonner
 s.net
DTSTAMP:20260420T055106Z
SUMMARY:Thuismatch ingevuld? (Brasschaat 4G (70) - Opslag 1G (60))
DESCRIPTION:Je hebt 36 uur na aanvang om een thuismatch op Badmintonvlaande
 ren in te vullen. Match info: Brasschaat 4G (70) - Opslag 1G (60) - Link: 
 https://www.badmintonvlaanderen.be/sport/teammatch.aspx?id=343A6D01-7373-4
 05B-9427-CB56B07F8CCD&match=233
DTSTART;TZID=Europe/Brussels:20220308T070000
DTEND;TZID=Europe/Brussels:20220308T070000
END:VEVENT
BEGIN:VEVENT
UID:343A6D01-7373-405B-9427-CB56B07F8CCD-6-261_awayreminder@34.badmintonner
 s.net
DTSTAMP:20260420T055106Z
SUMMARY:Uitmatch bevestigd? (Turnhout 1G (64) - Brasschaat 4G (70))
DESCRIPTION:Je hebt 72 uur na aanvang om een uitmatch op Badmintonvlaandere
 n in te vullen. Match info: Turnhout 1G (64) - Brasschaat 4G (70) - Link: 
 https://www.badmintonvlaanderen.be/sport/teammatch.aspx?id=343A6D01-7373-4
 05B-9427-CB56B07F8CCD&match=261
DTSTART;TZID=Europe/Brussels:20211005T140000
DTEND;TZID=Europe/Brussels:20211005T140000
END:VEVENT
BEGIN:VEVENT
UID:343A6D01-7373-405B-9427-CB56B07F8CCD-6-263_awayreminder@34.badmintonner
 s.net
DTSTAMP:20260420T055106Z
SUMMARY:Uitmatch bevestigd? (Rijkerack 1G (70) - Brasschaat 4G (70))
DESCRIPTION:Je hebt 72 uur na aanvang om een uitmatch op Badmintonvlaandere
 n in te vullen. Match info: Rijkerack 1G (70) - Brasschaat 4G (70) - Link:
  https://www.badmintonvlaanderen.be/sport/teammatch.aspx?id=343A6D01-7373-
 405B-9427-CB56B07F8CCD&match=263
DTSTART;TZID=Europe/Brussels:20211113T200000
DTEND;TZID=Europe/Brussels:20211113T200000
END:VEVENT
BEGIN:VEVENT
UID:343A6D01-7373-405B-9427-CB56B07F8CCD-6-259_awayreminder@34.badmintonner
 s.net
DTSTAMP:20260420T055106Z
SUMMARY:Uitmatch bevestigd? (Opslag 1G (60) - Brasschaat 4G (70))
DESCRIPTION:Je hebt 72 uur na aanvang om een uitmatch op Badmintonvlaandere
 n in te vullen. Match info: Opslag 1G (60) - Brasschaat 4G (70) - Link: ht
 tps://www.badmintonvlaanderen.be/sport/teammatch.aspx?id=343A6D01-7373-405
 B-9427-CB56B07F8CCD&match=259
DTSTART;TZID=Europe/Brussels:20211215T163000
DTEND;TZID=Europe/Brussels:20211215T163000
END:VEVENT
BEGIN:VEVENT
UID:343A6D01-7373-405B-9427-CB56B07F8CCD-6-262_awayreminder@34.badmintonner
 s.net
DTSTAMP:20260420T055106Z
SUMMARY:Uitmatch bevestigd? (De Klamp 1G (64) - Brasschaat 4G (70))
DESCRIPTION:Je hebt 72 uur na aanvang om een uitmatch op Badmintonvlaandere
 n in te vullen. Match info: De Klamp 1G (64) - Brasschaat 4G (70) - Link: 
 https://www.badmintonvlaanderen.be/sport/teammatch.aspx?id=343A6D01-7373-4
 05B-9427-CB56B07F8CCD&match=262
DTSTART;TZID=Europe/Brussels:20220223T181500
DTEND;TZID=Europe/Brussels:20220223T181500
END:VEVENT
BEGIN:VEVENT
UID:343A6D01-7373-405B-9427-CB56B07F8CCD-6-260_awayreminder@34.badmintonner
 s.net
DTSTAMP:20260420T055106Z
SUMMARY:Uitmatch bevestigd? (Huirtuits Dropke 2G (71) - Brasschaat 4G (70))
DESCRIPTION:Je hebt 72 uur na aanvang om een uitmatch op Badmintonvlaandere
 n in te vullen. Match info: Huirtuits Dropke 2G (71) - Brasschaat 4G (70) 
 - Link: https://www.badmintonvlaanderen.be/sport/teammatch.aspx?id=343A6D0
 1-7373-405B-9427-CB56B07F8CCD&match=260
DTSTART;TZID=Europe/Brussels:20220323T183000
DTEND;TZID=Europe/Brussels:20220323T183000
END:VEVENT
BEGIN:VEVENT
UID:343A6D01-7373-405B-9427-CB56B07F8CCD-6-264_awayreminder@34.badmintonner
 s.net
DTSTAMP:20260420T055106Z
SUMMARY:Uitmatch bevestigd? (Klein Boom 2G (65) - Brasschaat 4G (70))
DESCRIPTION:Je hebt 72 uur na aanvang om een uitmatch op Badmintonvlaandere
 n in te vullen. Match info: Klein Boom 2G (65) - Brasschaat 4G (70) - Link
 : https://www.badmintonvlaanderen.be/sport/teammatch.aspx?id=343A6D01-7373
 -405B-9427-CB56B07F8CCD&match=264
DTSTART;TZID=Europe/Brussels:20220414T200000
DTEND;TZID=Europe/Brussels:20220414T200000
END:VEVENT
END:VCALENDAR