BEGIN:VCALENDAR
VERSION:2.0
PRODID:spatie/icalendar-generator
NAME:de_klamp_1g_64_reminders
X-WR-CALNAME:de_klamp_1g_64_reminders
BEGIN:VTIMEZONE
TZID:Europe/Brussels
BEGIN:DAYLIGHT
DTSTART:20210328T010000
TZOFFSETFROM:+0100
TZOFFSETTO:+0200
END:DAYLIGHT
BEGIN:STANDARD
DTSTART:20211031T030000
TZOFFSETFROM:+0200
TZOFFSETTO:+0100
END:STANDARD
BEGIN:DAYLIGHT
DTSTART:20220327T010000
TZOFFSETFROM:+0100
TZOFFSETTO:+0200
END:DAYLIGHT
END:VTIMEZONE
BEGIN:VTIMEZONE
TZID:UTC
BEGIN:STANDARD
DTSTART:20250724T055152
TZOFFSETFROM:+0000
TZOFFSETTO:+0000
END:STANDARD
END:VTIMEZONE
BEGIN:VEVENT
UID:343A6D01-7373-405B-9427-CB56B07F8CCD-6-268_homereminder@54.badmintonner
 s.net
DTSTAMP:20260420T055152Z
SUMMARY:Thuismatch ingevuld? (De Klamp 1G (64) - Klein Boom 2G (65))
DESCRIPTION:Je hebt 36 uur na aanvang om een thuismatch op Badmintonvlaande
 ren in te vullen. Match info: De Klamp 1G (64) - Klein Boom 2G (65) - Link
 : https://www.badmintonvlaanderen.be/sport/teammatch.aspx?id=343A6D01-7373
 -405B-9427-CB56B07F8CCD&match=268
DTSTART;TZID=Europe/Brussels:20210921T061500
DTEND;TZID=Europe/Brussels:20210921T061500
END:VEVENT
BEGIN:VEVENT
UID:343A6D01-7373-405B-9427-CB56B07F8CCD-6-256_homereminder@54.badmintonner
 s.net
DTSTAMP:20260420T055152Z
SUMMARY:Thuismatch ingevuld? (De Klamp 1G (64) - Rijkerack 1G (70))
DESCRIPTION:Je hebt 36 uur na aanvang om een thuismatch op Badmintonvlaande
 ren in te vullen. Match info: De Klamp 1G (64) - Rijkerack 1G (70) - Link:
  https://www.badmintonvlaanderen.be/sport/teammatch.aspx?id=343A6D01-7373-
 405B-9427-CB56B07F8CCD&match=256
DTSTART;TZID=Europe/Brussels:20211005T061500
DTEND;TZID=Europe/Brussels:20211005T061500
END:VEVENT
BEGIN:VEVENT
UID:343A6D01-7373-405B-9427-CB56B07F8CCD-6-237_homereminder@54.badmintonner
 s.net
DTSTAMP:20260420T055152Z
SUMMARY:Thuismatch ingevuld? (De Klamp 1G (64) - Huirtuits Dropke 2G (71))
DESCRIPTION:Je hebt 36 uur na aanvang om een thuismatch op Badmintonvlaande
 ren in te vullen. Match info: De Klamp 1G (64) - Huirtuits Dropke 2G (71) 
 - Link: https://www.badmintonvlaanderen.be/sport/teammatch.aspx?id=343A6D0
 1-7373-405B-9427-CB56B07F8CCD&match=237
DTSTART;TZID=Europe/Brussels:20211214T061500
DTEND;TZID=Europe/Brussels:20211214T061500
END:VEVENT
BEGIN:VEVENT
UID:343A6D01-7373-405B-9427-CB56B07F8CCD-6-262_homereminder@54.badmintonner
 s.net
DTSTAMP:20260420T055152Z
SUMMARY:Thuismatch ingevuld? (De Klamp 1G (64) - Brasschaat 4G (70))
DESCRIPTION:Je hebt 36 uur na aanvang om een thuismatch op Badmintonvlaande
 ren in te vullen. Match info: De Klamp 1G (64) - Brasschaat 4G (70) - Link
 : https://www.badmintonvlaanderen.be/sport/teammatch.aspx?id=343A6D01-7373
 -405B-9427-CB56B07F8CCD&match=262
DTSTART;TZID=Europe/Brussels:20220222T061500
DTEND;TZID=Europe/Brussels:20220222T061500
END:VEVENT
BEGIN:VEVENT
UID:343A6D01-7373-405B-9427-CB56B07F8CCD-6-231_homereminder@54.badmintonner
 s.net
DTSTAMP:20260420T055152Z
SUMMARY:Thuismatch ingevuld? (De Klamp 1G (64) - Opslag 1G (60))
DESCRIPTION:Je hebt 36 uur na aanvang om een thuismatch op Badmintonvlaande
 ren in te vullen. Match info: De Klamp 1G (64) - Opslag 1G (60) - Link: ht
 tps://www.badmintonvlaanderen.be/sport/teammatch.aspx?id=343A6D01-7373-405
 B-9427-CB56B07F8CCD&match=231
DTSTART;TZID=Europe/Brussels:20220307T210000
DTEND;TZID=Europe/Brussels:20220307T210000
END:VEVENT
BEGIN:VEVENT
UID:343A6D01-7373-405B-9427-CB56B07F8CCD-6-243_homereminder@54.badmintonner
 s.net
DTSTAMP:20260420T055152Z
SUMMARY:Thuismatch ingevuld? (De Klamp 1G (64) - Turnhout 1G (64))
DESCRIPTION:Je hebt 36 uur na aanvang om een thuismatch op Badmintonvlaande
 ren in te vullen. Match info: De Klamp 1G (64) - Turnhout 1G (64) - Link: 
 https://www.badmintonvlaanderen.be/sport/teammatch.aspx?id=343A6D01-7373-4
 05B-9427-CB56B07F8CCD&match=243
DTSTART;TZID=Europe/Brussels:20220322T061500
DTEND;TZID=Europe/Brussels:20220322T061500
END:VEVENT
BEGIN:VEVENT
UID:343A6D01-7373-405B-9427-CB56B07F8CCD-6-249_awayreminder@54.badmintonner
 s.net
DTSTAMP:20260420T055152Z
SUMMARY:Uitmatch bevestigd? (Turnhout 1G (64) - De Klamp 1G (64))
DESCRIPTION:Je hebt 72 uur na aanvang om een uitmatch op Badmintonvlaandere
 n in te vullen. Match info: Turnhout 1G (64) - De Klamp 1G (64) - Link: ht
 tps://www.badmintonvlaanderen.be/sport/teammatch.aspx?id=343A6D01-7373-405
 B-9427-CB56B07F8CCD&match=249
DTSTART;TZID=Europe/Brussels:20211102T130000
DTEND;TZID=Europe/Brussels:20211102T130000
END:VEVENT
BEGIN:VEVENT
UID:343A6D01-7373-405B-9427-CB56B07F8CCD-6-251_awayreminder@54.badmintonner
 s.net
DTSTAMP:20260420T055152Z
SUMMARY:Uitmatch bevestigd? (Brasschaat 4G (70) - De Klamp 1G (64))
DESCRIPTION:Je hebt 72 uur na aanvang om een uitmatch op Badmintonvlaandere
 n in te vullen. Match info: Brasschaat 4G (70) - De Klamp 1G (64) - Link: 
 https://www.badmintonvlaanderen.be/sport/teammatch.aspx?id=343A6D01-7373-4
 05B-9427-CB56B07F8CCD&match=251
DTSTART;TZID=Europe/Brussels:20211117T190000
DTEND;TZID=Europe/Brussels:20211117T190000
END:VEVENT
BEGIN:VEVENT
UID:343A6D01-7373-405B-9427-CB56B07F8CCD-6-247_awayreminder@54.badmintonner
 s.net
DTSTAMP:20260420T055152Z
SUMMARY:Uitmatch bevestigd? (Opslag 1G (60) - De Klamp 1G (64))
DESCRIPTION:Je hebt 72 uur na aanvang om een uitmatch op Badmintonvlaandere
 n in te vullen. Match info: Opslag 1G (60) - De Klamp 1G (64) - Link: http
 s://www.badmintonvlaanderen.be/sport/teammatch.aspx?id=343A6D01-7373-405B-
 9427-CB56B07F8CCD&match=247
DTSTART;TZID=Europe/Brussels:20211201T163000
DTEND;TZID=Europe/Brussels:20211201T163000
END:VEVENT
BEGIN:VEVENT
UID:343A6D01-7373-405B-9427-CB56B07F8CCD-6-248_awayreminder@54.badmintonner
 s.net
DTSTAMP:20260420T055152Z
SUMMARY:Uitmatch bevestigd? (Huirtuits Dropke 2G (71) - De Klamp 1G (64))
DESCRIPTION:Je hebt 72 uur na aanvang om een uitmatch op Badmintonvlaandere
 n in te vullen. Match info: Huirtuits Dropke 2G (71) - De Klamp 1G (64) - 
 Link: https://www.badmintonvlaanderen.be/sport/teammatch.aspx?id=343A6D01-
 7373-405B-9427-CB56B07F8CCD&match=248
DTSTART;TZID=Europe/Brussels:20220126T183000
DTEND;TZID=Europe/Brussels:20220126T183000
END:VEVENT
BEGIN:VEVENT
UID:343A6D01-7373-405B-9427-CB56B07F8CCD-6-252_awayreminder@54.badmintonner
 s.net
DTSTAMP:20260420T055152Z
SUMMARY:Uitmatch bevestigd? (Klein Boom 2G (65) - De Klamp 1G (64))
DESCRIPTION:Je hebt 72 uur na aanvang om een uitmatch op Badmintonvlaandere
 n in te vullen. Match info: Klein Boom 2G (65) - De Klamp 1G (64) - Link: 
 https://www.badmintonvlaanderen.be/sport/teammatch.aspx?id=343A6D01-7373-4
 05B-9427-CB56B07F8CCD&match=252
DTSTART;TZID=Europe/Brussels:20220303T200000
DTEND;TZID=Europe/Brussels:20220303T200000
END:VEVENT
BEGIN:VEVENT
UID:343A6D01-7373-405B-9427-CB56B07F8CCD-6-250_awayreminder@54.badmintonner
 s.net
DTSTAMP:20260420T055152Z
SUMMARY:Uitmatch bevestigd? (Rijkerack 1G (70) - De Klamp 1G (64))
DESCRIPTION:Je hebt 72 uur na aanvang om een uitmatch op Badmintonvlaandere
 n in te vullen. Match info: Rijkerack 1G (70) - De Klamp 1G (64) - Link: h
 ttps://www.badmintonvlaanderen.be/sport/teammatch.aspx?id=343A6D01-7373-40
 5B-9427-CB56B07F8CCD&match=250
DTSTART;TZID=Europe/Brussels:20220406T190000
DTEND;TZID=Europe/Brussels:20220406T190000
END:VEVENT
END:VCALENDAR