BEGIN:VCALENDAR
VERSION:2.0
PRODID:spatie/icalendar-generator
NAME:torpedo_1h_55_reminders
X-WR-CALNAME:torpedo_1h_55_reminders
BEGIN:VTIMEZONE
TZID:Europe/Brussels
BEGIN:DAYLIGHT
DTSTART:20240331T010000
TZOFFSETFROM:+0100
TZOFFSETTO:+0200
END:DAYLIGHT
BEGIN:STANDARD
DTSTART:20241027T030000
TZOFFSETFROM:+0200
TZOFFSETTO:+0100
END:STANDARD
BEGIN:DAYLIGHT
DTSTART:20250330T010000
TZOFFSETFROM:+0100
TZOFFSETTO:+0200
END:DAYLIGHT
BEGIN:STANDARD
DTSTART:20251026T030000
TZOFFSETFROM:+0200
TZOFFSETTO:+0100
END:STANDARD
END:VTIMEZONE
BEGIN:VTIMEZONE
TZID:UTC
BEGIN:STANDARD
DTSTART:20250724T072405
TZOFFSETFROM:+0000
TZOFFSETTO:+0000
END:STANDARD
END:VTIMEZONE
BEGIN:VEVENT
UID:541D9693-BA5C-49F3-B354-186D1A701882-11-464_homereminder@18.badmintonne
 rs.net
DTSTAMP:20260420T072405Z
SUMMARY:Thuismatch ingevuld? (Torpedo 1H (55) - Bacss 3H (47))
DESCRIPTION:Je hebt 36 uur na aanvang om een thuismatch op Badmintonvlaande
 ren in te vullen. Match info: Torpedo 1H (55) - Bacss 3H (47) - Link: http
 s://www.badmintonvlaanderen.be/sport/teammatch.aspx?id=541D9693-BA5C-49F3-
 B354-186D1A701882&match=464
DTSTART;TZID=Europe/Brussels:20241026T081500
DTEND;TZID=Europe/Brussels:20241026T081500
END:VEVENT
BEGIN:VEVENT
UID:541D9693-BA5C-49F3-B354-186D1A701882-11-471_homereminder@18.badmintonne
 rs.net
DTSTAMP:20260420T072405Z
SUMMARY:Thuismatch ingevuld? (Torpedo 1H (55) - Brasschaat 2H (44))
DESCRIPTION:Je hebt 36 uur na aanvang om een thuismatch op Badmintonvlaande
 ren in te vullen. Match info: Torpedo 1H (55) - Brasschaat 2H (44) - Link:
  https://www.badmintonvlaanderen.be/sport/teammatch.aspx?id=541D9693-BA5C-
 49F3-B354-186D1A701882&match=471
DTSTART;TZID=Europe/Brussels:20241109T081500
DTEND;TZID=Europe/Brussels:20241109T081500
END:VEVENT
BEGIN:VEVENT
UID:541D9693-BA5C-49F3-B354-186D1A701882-11-457_homereminder@18.badmintonne
 rs.net
DTSTAMP:20260420T072405Z
SUMMARY:Thuismatch ingevuld? (Torpedo 1H (55) - Opslag 3H (56))
DESCRIPTION:Je hebt 36 uur na aanvang om een thuismatch op Badmintonvlaande
 ren in te vullen. Match info: Torpedo 1H (55) - Opslag 3H (56) - Link: htt
 ps://www.badmintonvlaanderen.be/sport/teammatch.aspx?id=541D9693-BA5C-49F3
 -B354-186D1A701882&match=457
DTSTART;TZID=Europe/Brussels:20241130T081500
DTEND;TZID=Europe/Brussels:20241130T081500
END:VEVENT
BEGIN:VEVENT
UID:541D9693-BA5C-49F3-B354-186D1A701882-11-429_homereminder@18.badmintonne
 rs.net
DTSTAMP:20260420T072405Z
SUMMARY:Thuismatch ingevuld? (Torpedo 1H (55) - Klein Boom 2H (46))
DESCRIPTION:Je hebt 36 uur na aanvang om een thuismatch op Badmintonvlaande
 ren in te vullen. Match info: Torpedo 1H (55) - Klein Boom 2H (46) - Link:
  https://www.badmintonvlaanderen.be/sport/teammatch.aspx?id=541D9693-BA5C-
 49F3-B354-186D1A701882&match=429
DTSTART;TZID=Europe/Brussels:20250118T081500
DTEND;TZID=Europe/Brussels:20250118T081500
END:VEVENT
BEGIN:VEVENT
UID:541D9693-BA5C-49F3-B354-186D1A701882-11-436_homereminder@18.badmintonne
 rs.net
DTSTAMP:20260420T072405Z
SUMMARY:Thuismatch ingevuld? (Torpedo 1H (55) - Rita Serveert 2H (50))
DESCRIPTION:Je hebt 36 uur na aanvang om een thuismatch op Badmintonvlaande
 ren in te vullen. Match info: Torpedo 1H (55) - Rita Serveert 2H (50) - Li
 nk: https://www.badmintonvlaanderen.be/sport/teammatch.aspx?id=541D9693-BA
 5C-49F3-B354-186D1A701882&match=436
DTSTART;TZID=Europe/Brussels:20250215T081500
DTEND;TZID=Europe/Brussels:20250215T081500
END:VEVENT
BEGIN:VEVENT
UID:541D9693-BA5C-49F3-B354-186D1A701882-11-443_homereminder@18.badmintonne
 rs.net
DTSTAMP:20260420T072405Z
SUMMARY:Thuismatch ingevuld? (Torpedo 1H (55) - Poona 1H (46))
DESCRIPTION:Je hebt 36 uur na aanvang om een thuismatch op Badmintonvlaande
 ren in te vullen. Match info: Torpedo 1H (55) - Poona 1H (46) - Link: http
 s://www.badmintonvlaanderen.be/sport/teammatch.aspx?id=541D9693-BA5C-49F3-
 B354-186D1A701882&match=443
DTSTART;TZID=Europe/Brussels:20250315T081500
DTEND;TZID=Europe/Brussels:20250315T081500
END:VEVENT
BEGIN:VEVENT
UID:541D9693-BA5C-49F3-B354-186D1A701882-11-450_homereminder@18.badmintonne
 rs.net
DTSTAMP:20260420T072405Z
SUMMARY:Thuismatch ingevuld? (Torpedo 1H (55) - Smash 1H (50))
DESCRIPTION:Je hebt 36 uur na aanvang om een thuismatch op Badmintonvlaande
 ren in te vullen. Match info: Torpedo 1H (55) - Smash 1H (50) - Link: http
 s://www.badmintonvlaanderen.be/sport/teammatch.aspx?id=541D9693-BA5C-49F3-
 B354-186D1A701882&match=450
DTSTART;TZID=Europe/Brussels:20250329T081500
DTEND;TZID=Europe/Brussels:20250329T081500
END:VEVENT
BEGIN:VEVENT
UID:541D9693-BA5C-49F3-B354-186D1A701882-11-474_awayreminder@18.badmintonne
 rs.net
DTSTAMP:20260420T072405Z
SUMMARY:Uitmatch bevestigd? (Poona 1H (46) - Torpedo 1H (55))
DESCRIPTION:Je hebt 72 uur na aanvang om een uitmatch op Badmintonvlaandere
 n in te vullen. Match info: Poona 1H (46) - Torpedo 1H (55) - Link: https:
 //www.badmintonvlaanderen.be/sport/teammatch.aspx?id=541D9693-BA5C-49F3-B3
 54-186D1A701882&match=474
DTSTART;TZID=Europe/Brussels:20241024T200000
DTEND;TZID=Europe/Brussels:20241024T200000
END:VEVENT
BEGIN:VEVENT
UID:541D9693-BA5C-49F3-B354-186D1A701882-11-473_awayreminder@18.badmintonne
 rs.net
DTSTAMP:20260420T072405Z
SUMMARY:Uitmatch bevestigd? (Rita Serveert 2H (50) - Torpedo 1H (55))
DESCRIPTION:Je hebt 72 uur na aanvang om een uitmatch op Badmintonvlaandere
 n in te vullen. Match info: Rita Serveert 2H (50) - Torpedo 1H (55) - Link
 : https://www.badmintonvlaanderen.be/sport/teammatch.aspx?id=541D9693-BA5C
 -49F3-B354-186D1A701882&match=473
DTSTART;TZID=Europe/Brussels:20241204T190000
DTEND;TZID=Europe/Brussels:20241204T190000
END:VEVENT
BEGIN:VEVENT
UID:541D9693-BA5C-49F3-B354-186D1A701882-11-472_awayreminder@18.badmintonne
 rs.net
DTSTAMP:20260420T072405Z
SUMMARY:Uitmatch bevestigd? (Klein Boom 2H (46) - Torpedo 1H (55))
DESCRIPTION:Je hebt 72 uur na aanvang om een uitmatch op Badmintonvlaandere
 n in te vullen. Match info: Klein Boom 2H (46) - Torpedo 1H (55) - Link: h
 ttps://www.badmintonvlaanderen.be/sport/teammatch.aspx?id=541D9693-BA5C-49
 F3-B354-186D1A701882&match=472
DTSTART;TZID=Europe/Brussels:20241219T200000
DTEND;TZID=Europe/Brussels:20241219T200000
END:VEVENT
BEGIN:VEVENT
UID:541D9693-BA5C-49F3-B354-186D1A701882-11-475_awayreminder@18.badmintonne
 rs.net
DTSTAMP:20260420T072405Z
SUMMARY:Uitmatch bevestigd? (Smash 1H (50) - Torpedo 1H (55))
DESCRIPTION:Je hebt 72 uur na aanvang om een uitmatch op Badmintonvlaandere
 n in te vullen. Match info: Smash 1H (50) - Torpedo 1H (55) - Link: https:
 //www.badmintonvlaanderen.be/sport/teammatch.aspx?id=541D9693-BA5C-49F3-B3
 54-186D1A701882&match=475
DTSTART;TZID=Europe/Brussels:20241225T100000
DTEND;TZID=Europe/Brussels:20241225T100000
END:VEVENT
BEGIN:VEVENT
UID:541D9693-BA5C-49F3-B354-186D1A701882-11-477_awayreminder@18.badmintonne
 rs.net
DTSTAMP:20260420T072405Z
SUMMARY:Uitmatch bevestigd? (Bacss 3H (47) - Torpedo 1H (55))
DESCRIPTION:Je hebt 72 uur na aanvang om een uitmatch op Badmintonvlaandere
 n in te vullen. Match info: Bacss 3H (47) - Torpedo 1H (55) - Link: https:
 //www.badmintonvlaanderen.be/sport/teammatch.aspx?id=541D9693-BA5C-49F3-B3
 54-186D1A701882&match=477
DTSTART;TZID=Europe/Brussels:20250310T201500
DTEND;TZID=Europe/Brussels:20250310T201500
END:VEVENT
BEGIN:VEVENT
UID:541D9693-BA5C-49F3-B354-186D1A701882-11-476_awayreminder@18.badmintonne
 rs.net
DTSTAMP:20260420T072405Z
SUMMARY:Uitmatch bevestigd? (Opslag 3H (56) - Torpedo 1H (55))
DESCRIPTION:Je hebt 72 uur na aanvang om een uitmatch op Badmintonvlaandere
 n in te vullen. Match info: Opslag 3H (56) - Torpedo 1H (55) - Link: https
 ://www.badmintonvlaanderen.be/sport/teammatch.aspx?id=541D9693-BA5C-49F3-B
 354-186D1A701882&match=476
DTSTART;TZID=Europe/Brussels:20250319T191500
DTEND;TZID=Europe/Brussels:20250319T191500
END:VEVENT
BEGIN:VEVENT
UID:541D9693-BA5C-49F3-B354-186D1A701882-11-478_awayreminder@18.badmintonne
 rs.net
DTSTAMP:20260420T072405Z
SUMMARY:Uitmatch bevestigd? (Brasschaat 2H (44) - Torpedo 1H (55))
DESCRIPTION:Je hebt 72 uur na aanvang om een uitmatch op Badmintonvlaandere
 n in te vullen. Match info: Brasschaat 2H (44) - Torpedo 1H (55) - Link: h
 ttps://www.badmintonvlaanderen.be/sport/teammatch.aspx?id=541D9693-BA5C-49
 F3-B354-186D1A701882&match=478
DTSTART;TZID=Europe/Brussels:20250430T190000
DTEND;TZID=Europe/Brussels:20250430T190000
END:VEVENT
END:VCALENDAR