BEGIN:VCALENDAR
VERSION:2.0
PRODID:spatie/icalendar-generator
NAME:rita_serveert_2h_50_reminders
X-WR-CALNAME:rita_serveert_2h_50_reminders
BEGIN:VTIMEZONE
TZID:Europe/Brussels
BEGIN:DAYLIGHT
DTSTART:20240331T010000
TZOFFSETFROM:+0100
TZOFFSETTO:+0200
END:DAYLIGHT
BEGIN:STANDARD
DTSTART:20241027T030000
TZOFFSETFROM:+0200
TZOFFSETTO:+0100
END:STANDARD
BEGIN:DAYLIGHT
DTSTART:20250330T010000
TZOFFSETFROM:+0100
TZOFFSETTO:+0200
END:DAYLIGHT
BEGIN:STANDARD
DTSTART:20251026T030000
TZOFFSETFROM:+0200
TZOFFSETTO:+0100
END:STANDARD
END:VTIMEZONE
BEGIN:VTIMEZONE
TZID:UTC
BEGIN:STANDARD
DTSTART:20250724T072409
TZOFFSETFROM:+0000
TZOFFSETTO:+0000
END:STANDARD
END:VTIMEZONE
BEGIN:VEVENT
UID:541D9693-BA5C-49F3-B354-186D1A701882-11-438_homereminder@20.badmintonne
 rs.net
DTSTAMP:20260420T072409Z
SUMMARY:Thuismatch ingevuld? (Rita Serveert 2H (50) - Poona 1H (46))
DESCRIPTION:Je hebt 36 uur na aanvang om een thuismatch op Badmintonvlaande
 ren in te vullen. Match info: Rita Serveert 2H (50) - Poona 1H (46) - Link
 : https://www.badmintonvlaanderen.be/sport/teammatch.aspx?id=541D9693-BA5C
 -49F3-B354-186D1A701882&match=438
DTSTART;TZID=Europe/Brussels:20241015T070000
DTEND;TZID=Europe/Brussels:20241015T070000
END:VEVENT
BEGIN:VEVENT
UID:541D9693-BA5C-49F3-B354-186D1A701882-11-452_homereminder@20.badmintonne
 rs.net
DTSTAMP:20260420T072409Z
SUMMARY:Thuismatch ingevuld? (Rita Serveert 2H (50) - Opslag 3H (56))
DESCRIPTION:Je hebt 36 uur na aanvang om een thuismatch op Badmintonvlaande
 ren in te vullen. Match info: Rita Serveert 2H (50) - Opslag 3H (56) - Lin
 k: https://www.badmintonvlaanderen.be/sport/teammatch.aspx?id=541D9693-BA5
 C-49F3-B354-186D1A701882&match=452
DTSTART;TZID=Europe/Brussels:20241022T070000
DTEND;TZID=Europe/Brussels:20241022T070000
END:VEVENT
BEGIN:VEVENT
UID:541D9693-BA5C-49F3-B354-186D1A701882-11-473_homereminder@20.badmintonne
 rs.net
DTSTAMP:20260420T072409Z
SUMMARY:Thuismatch ingevuld? (Rita Serveert 2H (50) - Torpedo 1H (55))
DESCRIPTION:Je hebt 36 uur na aanvang om een thuismatch op Badmintonvlaande
 ren in te vullen. Match info: Rita Serveert 2H (50) - Torpedo 1H (55) - Li
 nk: https://www.badmintonvlaanderen.be/sport/teammatch.aspx?id=541D9693-BA
 5C-49F3-B354-186D1A701882&match=473
DTSTART;TZID=Europe/Brussels:20241203T070000
DTEND;TZID=Europe/Brussels:20241203T070000
END:VEVENT
BEGIN:VEVENT
UID:541D9693-BA5C-49F3-B354-186D1A701882-11-466_homereminder@20.badmintonne
 rs.net
DTSTAMP:20260420T072409Z
SUMMARY:Thuismatch ingevuld? (Rita Serveert 2H (50) - Brasschaat 2H (44))
DESCRIPTION:Je hebt 36 uur na aanvang om een thuismatch op Badmintonvlaande
 ren in te vullen. Match info: Rita Serveert 2H (50) - Brasschaat 2H (44) -
  Link: https://www.badmintonvlaanderen.be/sport/teammatch.aspx?id=541D9693
 -BA5C-49F3-B354-186D1A701882&match=466
DTSTART;TZID=Europe/Brussels:20241210T070000
DTEND;TZID=Europe/Brussels:20241210T070000
END:VEVENT
BEGIN:VEVENT
UID:541D9693-BA5C-49F3-B354-186D1A701882-11-423_homereminder@20.badmintonne
 rs.net
DTSTAMP:20260420T072409Z
SUMMARY:Thuismatch ingevuld? (Rita Serveert 2H (50) - Klein Boom 2H (46))
DESCRIPTION:Je hebt 36 uur na aanvang om een thuismatch op Badmintonvlaande
 ren in te vullen. Match info: Rita Serveert 2H (50) - Klein Boom 2H (46) -
  Link: https://www.badmintonvlaanderen.be/sport/teammatch.aspx?id=541D9693
 -BA5C-49F3-B354-186D1A701882&match=423
DTSTART;TZID=Europe/Brussels:20250204T070000
DTEND;TZID=Europe/Brussels:20250204T070000
END:VEVENT
BEGIN:VEVENT
UID:541D9693-BA5C-49F3-B354-186D1A701882-11-445_homereminder@20.badmintonne
 rs.net
DTSTAMP:20260420T072409Z
SUMMARY:Thuismatch ingevuld? (Rita Serveert 2H (50) - Smash 1H (50))
DESCRIPTION:Je hebt 36 uur na aanvang om een thuismatch op Badmintonvlaande
 ren in te vullen. Match info: Rita Serveert 2H (50) - Smash 1H (50) - Link
 : https://www.badmintonvlaanderen.be/sport/teammatch.aspx?id=541D9693-BA5C
 -49F3-B354-186D1A701882&match=445
DTSTART;TZID=Europe/Brussels:20250318T070000
DTEND;TZID=Europe/Brussels:20250318T070000
END:VEVENT
BEGIN:VEVENT
UID:541D9693-BA5C-49F3-B354-186D1A701882-11-459_homereminder@20.badmintonne
 rs.net
DTSTAMP:20260420T072409Z
SUMMARY:Thuismatch ingevuld? (Rita Serveert 2H (50) - Bacss 3H (47))
DESCRIPTION:Je hebt 36 uur na aanvang om een thuismatch op Badmintonvlaande
 ren in te vullen. Match info: Rita Serveert 2H (50) - Bacss 3H (47) - Link
 : https://www.badmintonvlaanderen.be/sport/teammatch.aspx?id=541D9693-BA5C
 -49F3-B354-186D1A701882&match=459
DTSTART;TZID=Europe/Brussels:20250401T070000
DTEND;TZID=Europe/Brussels:20250401T070000
END:VEVENT
BEGIN:VEVENT
UID:541D9693-BA5C-49F3-B354-186D1A701882-11-430_awayreminder@20.badmintonne
 rs.net
DTSTAMP:20260420T072409Z
SUMMARY:Uitmatch bevestigd? (Klein Boom 2H (46) - Rita Serveert 2H (50))
DESCRIPTION:Je hebt 72 uur na aanvang om een uitmatch op Badmintonvlaandere
 n in te vullen. Match info: Klein Boom 2H (46) - Rita Serveert 2H (50) - L
 ink: https://www.badmintonvlaanderen.be/sport/teammatch.aspx?id=541D9693-B
 A5C-49F3-B354-186D1A701882&match=430
DTSTART;TZID=Europe/Brussels:20240905T200000
DTEND;TZID=Europe/Brussels:20240905T200000
END:VEVENT
BEGIN:VEVENT
UID:541D9693-BA5C-49F3-B354-186D1A701882-11-432_awayreminder@20.badmintonne
 rs.net
DTSTAMP:20260420T072409Z
SUMMARY:Uitmatch bevestigd? (Smash 1H (50) - Rita Serveert 2H (50))
DESCRIPTION:Je hebt 72 uur na aanvang om een uitmatch op Badmintonvlaandere
 n in te vullen. Match info: Smash 1H (50) - Rita Serveert 2H (50) - Link: 
 https://www.badmintonvlaanderen.be/sport/teammatch.aspx?id=541D9693-BA5C-4
 9F3-B354-186D1A701882&match=432
DTSTART;TZID=Europe/Brussels:20241120T100000
DTEND;TZID=Europe/Brussels:20241120T100000
END:VEVENT
BEGIN:VEVENT
UID:541D9693-BA5C-49F3-B354-186D1A701882-11-434_awayreminder@20.badmintonne
 rs.net
DTSTAMP:20260420T072409Z
SUMMARY:Uitmatch bevestigd? (Bacss 3H (47) - Rita Serveert 2H (50))
DESCRIPTION:Je hebt 72 uur na aanvang om een uitmatch op Badmintonvlaandere
 n in te vullen. Match info: Bacss 3H (47) - Rita Serveert 2H (50) - Link: 
 https://www.badmintonvlaanderen.be/sport/teammatch.aspx?id=541D9693-BA5C-4
 9F3-B354-186D1A701882&match=434
DTSTART;TZID=Europe/Brussels:20241216T201500
DTEND;TZID=Europe/Brussels:20241216T201500
END:VEVENT
BEGIN:VEVENT
UID:541D9693-BA5C-49F3-B354-186D1A701882-11-435_awayreminder@20.badmintonne
 rs.net
DTSTAMP:20260420T072409Z
SUMMARY:Uitmatch bevestigd? (Brasschaat 2H (44) - Rita Serveert 2H (50))
DESCRIPTION:Je hebt 72 uur na aanvang om een uitmatch op Badmintonvlaandere
 n in te vullen. Match info: Brasschaat 2H (44) - Rita Serveert 2H (50) - L
 ink: https://www.badmintonvlaanderen.be/sport/teammatch.aspx?id=541D9693-B
 A5C-49F3-B354-186D1A701882&match=435
DTSTART;TZID=Europe/Brussels:20250122T190000
DTEND;TZID=Europe/Brussels:20250122T190000
END:VEVENT
BEGIN:VEVENT
UID:541D9693-BA5C-49F3-B354-186D1A701882-11-436_awayreminder@20.badmintonne
 rs.net
DTSTAMP:20260420T072409Z
SUMMARY:Uitmatch bevestigd? (Torpedo 1H (55) - Rita Serveert 2H (50))
DESCRIPTION:Je hebt 72 uur na aanvang om een uitmatch op Badmintonvlaandere
 n in te vullen. Match info: Torpedo 1H (55) - Rita Serveert 2H (50) - Link
 : https://www.badmintonvlaanderen.be/sport/teammatch.aspx?id=541D9693-BA5C
 -49F3-B354-186D1A701882&match=436
DTSTART;TZID=Europe/Brussels:20250216T201500
DTEND;TZID=Europe/Brussels:20250216T201500
END:VEVENT
BEGIN:VEVENT
UID:541D9693-BA5C-49F3-B354-186D1A701882-11-431_awayreminder@20.badmintonne
 rs.net
DTSTAMP:20260420T072409Z
SUMMARY:Uitmatch bevestigd? (Poona 1H (46) - Rita Serveert 2H (50))
DESCRIPTION:Je hebt 72 uur na aanvang om een uitmatch op Badmintonvlaandere
 n in te vullen. Match info: Poona 1H (46) - Rita Serveert 2H (50) - Link: 
 https://www.badmintonvlaanderen.be/sport/teammatch.aspx?id=541D9693-BA5C-4
 9F3-B354-186D1A701882&match=431
DTSTART;TZID=Europe/Brussels:20250227T200000
DTEND;TZID=Europe/Brussels:20250227T200000
END:VEVENT
BEGIN:VEVENT
UID:541D9693-BA5C-49F3-B354-186D1A701882-11-433_awayreminder@20.badmintonne
 rs.net
DTSTAMP:20260420T072409Z
SUMMARY:Uitmatch bevestigd? (Opslag 3H (56) - Rita Serveert 2H (50))
DESCRIPTION:Je hebt 72 uur na aanvang om een uitmatch op Badmintonvlaandere
 n in te vullen. Match info: Opslag 3H (56) - Rita Serveert 2H (50) - Link:
  https://www.badmintonvlaanderen.be/sport/teammatch.aspx?id=541D9693-BA5C-
 49F3-B354-186D1A701882&match=433
DTSTART;TZID=Europe/Brussels:20250430T163000
DTEND;TZID=Europe/Brussels:20250430T163000
END:VEVENT
END:VCALENDAR