BEGIN:VCALENDAR
VERSION:2.0
PRODID:spatie/icalendar-generator
NAME:bacss_3h_47_reminders
X-WR-CALNAME:bacss_3h_47_reminders
BEGIN:VTIMEZONE
TZID:Europe/Brussels
BEGIN:DAYLIGHT
DTSTART:20240331T010000
TZOFFSETFROM:+0100
TZOFFSETTO:+0200
END:DAYLIGHT
BEGIN:STANDARD
DTSTART:20241027T030000
TZOFFSETFROM:+0200
TZOFFSETTO:+0100
END:STANDARD
BEGIN:DAYLIGHT
DTSTART:20250330T010000
TZOFFSETFROM:+0100
TZOFFSETTO:+0200
END:DAYLIGHT
END:VTIMEZONE
BEGIN:VTIMEZONE
TZID:UTC
BEGIN:STANDARD
DTSTART:20250724T072410
TZOFFSETFROM:+0000
TZOFFSETTO:+0000
END:STANDARD
END:VTIMEZONE
BEGIN:VEVENT
UID:541D9693-BA5C-49F3-B354-186D1A701882-11-470_homereminder@21.badmintonne
 rs.net
DTSTAMP:20260420T072410Z
SUMMARY:Thuismatch ingevuld? (Bacss 3H (47) - Brasschaat 2H (44))
DESCRIPTION:Je hebt 36 uur na aanvang om een thuismatch op Badmintonvlaande
 ren in te vullen. Match info: Bacss 3H (47) - Brasschaat 2H (44) - Link: h
 ttps://www.badmintonvlaanderen.be/sport/teammatch.aspx?id=541D9693-BA5C-49
 F3-B354-186D1A701882&match=470
DTSTART;TZID=Europe/Brussels:20240915T081500
DTEND;TZID=Europe/Brussels:20240915T081500
END:VEVENT
BEGIN:VEVENT
UID:541D9693-BA5C-49F3-B354-186D1A701882-11-448_homereminder@21.badmintonne
 rs.net
DTSTAMP:20260420T072410Z
SUMMARY:Thuismatch ingevuld? (Bacss 3H (47) - Smash 1H (50))
DESCRIPTION:Je hebt 36 uur na aanvang om een thuismatch op Badmintonvlaande
 ren in te vullen. Match info: Bacss 3H (47) - Smash 1H (50) - Link: https:
 //www.badmintonvlaanderen.be/sport/teammatch.aspx?id=541D9693-BA5C-49F3-B3
 54-186D1A701882&match=448
DTSTART;TZID=Europe/Brussels:20241125T220000
DTEND;TZID=Europe/Brussels:20241125T220000
END:VEVENT
BEGIN:VEVENT
UID:541D9693-BA5C-49F3-B354-186D1A701882-11-434_homereminder@21.badmintonne
 rs.net
DTSTAMP:20260420T072410Z
SUMMARY:Thuismatch ingevuld? (Bacss 3H (47) - Rita Serveert 2H (50))
DESCRIPTION:Je hebt 36 uur na aanvang om een thuismatch op Badmintonvlaande
 ren in te vullen. Match info: Bacss 3H (47) - Rita Serveert 2H (50) - Link
 : https://www.badmintonvlaanderen.be/sport/teammatch.aspx?id=541D9693-BA5C
 -49F3-B354-186D1A701882&match=434
DTSTART;TZID=Europe/Brussels:20241215T081500
DTEND;TZID=Europe/Brussels:20241215T081500
END:VEVENT
BEGIN:VEVENT
UID:541D9693-BA5C-49F3-B354-186D1A701882-11-441_homereminder@21.badmintonne
 rs.net
DTSTAMP:20260420T072410Z
SUMMARY:Thuismatch ingevuld? (Bacss 3H (47) - Poona 1H (46))
DESCRIPTION:Je hebt 36 uur na aanvang om een thuismatch op Badmintonvlaande
 ren in te vullen. Match info: Bacss 3H (47) - Poona 1H (46) - Link: https:
 //www.badmintonvlaanderen.be/sport/teammatch.aspx?id=541D9693-BA5C-49F3-B3
 54-186D1A701882&match=441
DTSTART;TZID=Europe/Brussels:20250119T081500
DTEND;TZID=Europe/Brussels:20250119T081500
END:VEVENT
BEGIN:VEVENT
UID:541D9693-BA5C-49F3-B354-186D1A701882-11-455_homereminder@21.badmintonne
 rs.net
DTSTAMP:20260420T072410Z
SUMMARY:Thuismatch ingevuld? (Bacss 3H (47) - Opslag 3H (56))
DESCRIPTION:Je hebt 36 uur na aanvang om een thuismatch op Badmintonvlaande
 ren in te vullen. Match info: Bacss 3H (47) - Opslag 3H (56) - Link: https
 ://www.badmintonvlaanderen.be/sport/teammatch.aspx?id=541D9693-BA5C-49F3-B
 354-186D1A701882&match=455
DTSTART;TZID=Europe/Brussels:20250216T081500
DTEND;TZID=Europe/Brussels:20250216T081500
END:VEVENT
BEGIN:VEVENT
UID:541D9693-BA5C-49F3-B354-186D1A701882-11-477_homereminder@21.badmintonne
 rs.net
DTSTAMP:20260420T072410Z
SUMMARY:Thuismatch ingevuld? (Bacss 3H (47) - Torpedo 1H (55))
DESCRIPTION:Je hebt 36 uur na aanvang om een thuismatch op Badmintonvlaande
 ren in te vullen. Match info: Bacss 3H (47) - Torpedo 1H (55) - Link: http
 s://www.badmintonvlaanderen.be/sport/teammatch.aspx?id=541D9693-BA5C-49F3-
 B354-186D1A701882&match=477
DTSTART;TZID=Europe/Brussels:20250309T081500
DTEND;TZID=Europe/Brussels:20250309T081500
END:VEVENT
BEGIN:VEVENT
UID:541D9693-BA5C-49F3-B354-186D1A701882-11-427_homereminder@21.badmintonne
 rs.net
DTSTAMP:20260420T072410Z
SUMMARY:Thuismatch ingevuld? (Bacss 3H (47) - Klein Boom 2H (46))
DESCRIPTION:Je hebt 36 uur na aanvang om een thuismatch op Badmintonvlaande
 ren in te vullen. Match info: Bacss 3H (47) - Klein Boom 2H (46) - Link: h
 ttps://www.badmintonvlaanderen.be/sport/teammatch.aspx?id=541D9693-BA5C-49
 F3-B354-186D1A701882&match=427
DTSTART;TZID=Europe/Brussels:20250413T081500
DTEND;TZID=Europe/Brussels:20250413T081500
END:VEVENT
BEGIN:VEVENT
UID:541D9693-BA5C-49F3-B354-186D1A701882-11-462_awayreminder@21.badmintonne
 rs.net
DTSTAMP:20260420T072410Z
SUMMARY:Uitmatch bevestigd? (Opslag 3H (56) - Bacss 3H (47))
DESCRIPTION:Je hebt 72 uur na aanvang om een uitmatch op Badmintonvlaandere
 n in te vullen. Match info: Opslag 3H (56) - Bacss 3H (47) - Link: https:/
 /www.badmintonvlaanderen.be/sport/teammatch.aspx?id=541D9693-BA5C-49F3-B35
 4-186D1A701882&match=462
DTSTART;TZID=Europe/Brussels:20241002T163000
DTEND;TZID=Europe/Brussels:20241002T163000
END:VEVENT
BEGIN:VEVENT
UID:541D9693-BA5C-49F3-B354-186D1A701882-11-464_awayreminder@21.badmintonne
 rs.net
DTSTAMP:20260420T072410Z
SUMMARY:Uitmatch bevestigd? (Torpedo 1H (55) - Bacss 3H (47))
DESCRIPTION:Je hebt 72 uur na aanvang om een uitmatch op Badmintonvlaandere
 n in te vullen. Match info: Torpedo 1H (55) - Bacss 3H (47) - Link: https:
 //www.badmintonvlaanderen.be/sport/teammatch.aspx?id=541D9693-BA5C-49F3-B3
 54-186D1A701882&match=464
DTSTART;TZID=Europe/Brussels:20241027T191500
DTEND;TZID=Europe/Brussels:20241027T191500
END:VEVENT
BEGIN:VEVENT
UID:541D9693-BA5C-49F3-B354-186D1A701882-11-458_awayreminder@21.badmintonne
 rs.net
DTSTAMP:20260420T072410Z
SUMMARY:Uitmatch bevestigd? (Klein Boom 2H (46) - Bacss 3H (47))
DESCRIPTION:Je hebt 72 uur na aanvang om een uitmatch op Badmintonvlaandere
 n in te vullen. Match info: Klein Boom 2H (46) - Bacss 3H (47) - Link: htt
 ps://www.badmintonvlaanderen.be/sport/teammatch.aspx?id=541D9693-BA5C-49F3
 -B354-186D1A701882&match=458
DTSTART;TZID=Europe/Brussels:20241211T190000
DTEND;TZID=Europe/Brussels:20241211T190000
END:VEVENT
BEGIN:VEVENT
UID:541D9693-BA5C-49F3-B354-186D1A701882-11-460_awayreminder@21.badmintonne
 rs.net
DTSTAMP:20260420T072410Z
SUMMARY:Uitmatch bevestigd? (Poona 1H (46) - Bacss 3H (47))
DESCRIPTION:Je hebt 72 uur na aanvang om een uitmatch op Badmintonvlaandere
 n in te vullen. Match info: Poona 1H (46) - Bacss 3H (47) - Link: https://
 www.badmintonvlaanderen.be/sport/teammatch.aspx?id=541D9693-BA5C-49F3-B354
 -186D1A701882&match=460
DTSTART;TZID=Europe/Brussels:20241219T200000
DTEND;TZID=Europe/Brussels:20241219T200000
END:VEVENT
BEGIN:VEVENT
UID:541D9693-BA5C-49F3-B354-186D1A701882-11-463_awayreminder@21.badmintonne
 rs.net
DTSTAMP:20260420T072410Z
SUMMARY:Uitmatch bevestigd? (Brasschaat 2H (44) - Bacss 3H (47))
DESCRIPTION:Je hebt 72 uur na aanvang om een uitmatch op Badmintonvlaandere
 n in te vullen. Match info: Brasschaat 2H (44) - Bacss 3H (47) - Link: htt
 ps://www.badmintonvlaanderen.be/sport/teammatch.aspx?id=541D9693-BA5C-49F3
 -B354-186D1A701882&match=463
DTSTART;TZID=Europe/Brussels:20250129T190000
DTEND;TZID=Europe/Brussels:20250129T190000
END:VEVENT
BEGIN:VEVENT
UID:541D9693-BA5C-49F3-B354-186D1A701882-11-461_awayreminder@21.badmintonne
 rs.net
DTSTAMP:20260420T072410Z
SUMMARY:Uitmatch bevestigd? (Smash 1H (50) - Bacss 3H (47))
DESCRIPTION:Je hebt 72 uur na aanvang om een uitmatch op Badmintonvlaandere
 n in te vullen. Match info: Smash 1H (50) - Bacss 3H (47) - Link: https://
 www.badmintonvlaanderen.be/sport/teammatch.aspx?id=541D9693-BA5C-49F3-B354
 -186D1A701882&match=461
DTSTART;TZID=Europe/Brussels:20250205T100000
DTEND;TZID=Europe/Brussels:20250205T100000
END:VEVENT
BEGIN:VEVENT
UID:541D9693-BA5C-49F3-B354-186D1A701882-11-459_awayreminder@21.badmintonne
 rs.net
DTSTAMP:20260420T072410Z
SUMMARY:Uitmatch bevestigd? (Rita Serveert 2H (50) - Bacss 3H (47))
DESCRIPTION:Je hebt 72 uur na aanvang om een uitmatch op Badmintonvlaandere
 n in te vullen. Match info: Rita Serveert 2H (50) - Bacss 3H (47) - Link: 
 https://www.badmintonvlaanderen.be/sport/teammatch.aspx?id=541D9693-BA5C-4
 9F3-B354-186D1A701882&match=459
DTSTART;TZID=Europe/Brussels:20250402T190000
DTEND;TZID=Europe/Brussels:20250402T190000
END:VEVENT
END:VCALENDAR