BEGIN:VCALENDAR
VERSION:2.0
PRODID:spatie/icalendar-generator
NAME:brasschaat_2h_44_reminders
X-WR-CALNAME:brasschaat_2h_44_reminders
BEGIN:VTIMEZONE
TZID:Europe/Brussels
BEGIN:DAYLIGHT
DTSTART:20240331T010000
TZOFFSETFROM:+0100
TZOFFSETTO:+0200
END:DAYLIGHT
BEGIN:STANDARD
DTSTART:20241027T030000
TZOFFSETFROM:+0200
TZOFFSETTO:+0100
END:STANDARD
BEGIN:DAYLIGHT
DTSTART:20250330T010000
TZOFFSETFROM:+0100
TZOFFSETTO:+0200
END:DAYLIGHT
BEGIN:STANDARD
DTSTART:20251026T030000
TZOFFSETFROM:+0200
TZOFFSETTO:+0100
END:STANDARD
END:VTIMEZONE
BEGIN:VTIMEZONE
TZID:UTC
BEGIN:STANDARD
DTSTART:20250724T072405
TZOFFSETFROM:+0000
TZOFFSETTO:+0000
END:STANDARD
END:VTIMEZONE
BEGIN:VEVENT
UID:541D9693-BA5C-49F3-B354-186D1A701882-11-442_homereminder@23.badmintonne
 rs.net
DTSTAMP:20260420T072405Z
SUMMARY:Thuismatch ingevuld? (Brasschaat 2H (44) - Poona 1H (46))
DESCRIPTION:Je hebt 36 uur na aanvang om een thuismatch op Badmintonvlaande
 ren in te vullen. Match info: Brasschaat 2H (44) - Poona 1H (46) - Link: h
 ttps://www.badmintonvlaanderen.be/sport/teammatch.aspx?id=541D9693-BA5C-49
 F3-B354-186D1A701882&match=442
DTSTART;TZID=Europe/Brussels:20240917T070000
DTEND;TZID=Europe/Brussels:20240917T070000
END:VEVENT
BEGIN:VEVENT
UID:541D9693-BA5C-49F3-B354-186D1A701882-11-456_homereminder@23.badmintonne
 rs.net
DTSTAMP:20260420T072405Z
SUMMARY:Thuismatch ingevuld? (Brasschaat 2H (44) - Opslag 3H (56))
DESCRIPTION:Je hebt 36 uur na aanvang om een thuismatch op Badmintonvlaande
 ren in te vullen. Match info: Brasschaat 2H (44) - Opslag 3H (56) - Link: 
 https://www.badmintonvlaanderen.be/sport/teammatch.aspx?id=541D9693-BA5C-4
 9F3-B354-186D1A701882&match=456
DTSTART;TZID=Europe/Brussels:20241008T070000
DTEND;TZID=Europe/Brussels:20241008T070000
END:VEVENT
BEGIN:VEVENT
UID:541D9693-BA5C-49F3-B354-186D1A701882-11-428_homereminder@23.badmintonne
 rs.net
DTSTAMP:20260420T072405Z
SUMMARY:Thuismatch ingevuld? (Brasschaat 2H (44) - Klein Boom 2H (46))
DESCRIPTION:Je hebt 36 uur na aanvang om een thuismatch op Badmintonvlaande
 ren in te vullen. Match info: Brasschaat 2H (44) - Klein Boom 2H (46) - Li
 nk: https://www.badmintonvlaanderen.be/sport/teammatch.aspx?id=541D9693-BA
 5C-49F3-B354-186D1A701882&match=428
DTSTART;TZID=Europe/Brussels:20241126T070000
DTEND;TZID=Europe/Brussels:20241126T070000
END:VEVENT
BEGIN:VEVENT
UID:541D9693-BA5C-49F3-B354-186D1A701882-11-435_homereminder@23.badmintonne
 rs.net
DTSTAMP:20260420T072405Z
SUMMARY:Thuismatch ingevuld? (Brasschaat 2H (44) - Rita Serveert 2H (50))
DESCRIPTION:Je hebt 36 uur na aanvang om een thuismatch op Badmintonvlaande
 ren in te vullen. Match info: Brasschaat 2H (44) - Rita Serveert 2H (50) -
  Link: https://www.badmintonvlaanderen.be/sport/teammatch.aspx?id=541D9693
 -BA5C-49F3-B354-186D1A701882&match=435
DTSTART;TZID=Europe/Brussels:20250121T070000
DTEND;TZID=Europe/Brussels:20250121T070000
END:VEVENT
BEGIN:VEVENT
UID:541D9693-BA5C-49F3-B354-186D1A701882-11-463_homereminder@23.badmintonne
 rs.net
DTSTAMP:20260420T072405Z
SUMMARY:Thuismatch ingevuld? (Brasschaat 2H (44) - Bacss 3H (47))
DESCRIPTION:Je hebt 36 uur na aanvang om een thuismatch op Badmintonvlaande
 ren in te vullen. Match info: Brasschaat 2H (44) - Bacss 3H (47) - Link: h
 ttps://www.badmintonvlaanderen.be/sport/teammatch.aspx?id=541D9693-BA5C-49
 F3-B354-186D1A701882&match=463
DTSTART;TZID=Europe/Brussels:20250128T070000
DTEND;TZID=Europe/Brussels:20250128T070000
END:VEVENT
BEGIN:VEVENT
UID:541D9693-BA5C-49F3-B354-186D1A701882-11-449_homereminder@23.badmintonne
 rs.net
DTSTAMP:20260420T072405Z
SUMMARY:Thuismatch ingevuld? (Brasschaat 2H (44) - Smash 1H (50))
DESCRIPTION:Je hebt 36 uur na aanvang om een thuismatch op Badmintonvlaande
 ren in te vullen. Match info: Brasschaat 2H (44) - Smash 1H (50) - Link: h
 ttps://www.badmintonvlaanderen.be/sport/teammatch.aspx?id=541D9693-BA5C-49
 F3-B354-186D1A701882&match=449
DTSTART;TZID=Europe/Brussels:20250218T070000
DTEND;TZID=Europe/Brussels:20250218T070000
END:VEVENT
BEGIN:VEVENT
UID:541D9693-BA5C-49F3-B354-186D1A701882-11-478_homereminder@23.badmintonne
 rs.net
DTSTAMP:20260420T072405Z
SUMMARY:Thuismatch ingevuld? (Brasschaat 2H (44) - Torpedo 1H (55))
DESCRIPTION:Je hebt 36 uur na aanvang om een thuismatch op Badmintonvlaande
 ren in te vullen. Match info: Brasschaat 2H (44) - Torpedo 1H (55) - Link:
  https://www.badmintonvlaanderen.be/sport/teammatch.aspx?id=541D9693-BA5C-
 49F3-B354-186D1A701882&match=478
DTSTART;TZID=Europe/Brussels:20250429T070000
DTEND;TZID=Europe/Brussels:20250429T070000
END:VEVENT
BEGIN:VEVENT
UID:541D9693-BA5C-49F3-B354-186D1A701882-11-470_awayreminder@23.badmintonne
 rs.net
DTSTAMP:20260420T072405Z
SUMMARY:Uitmatch bevestigd? (Bacss 3H (47) - Brasschaat 2H (44))
DESCRIPTION:Je hebt 72 uur na aanvang om een uitmatch op Badmintonvlaandere
 n in te vullen. Match info: Bacss 3H (47) - Brasschaat 2H (44) - Link: htt
 ps://www.badmintonvlaanderen.be/sport/teammatch.aspx?id=541D9693-BA5C-49F3
 -B354-186D1A701882&match=470
DTSTART;TZID=Europe/Brussels:20240916T201500
DTEND;TZID=Europe/Brussels:20240916T201500
END:VEVENT
BEGIN:VEVENT
UID:541D9693-BA5C-49F3-B354-186D1A701882-11-471_awayreminder@23.badmintonne
 rs.net
DTSTAMP:20260420T072405Z
SUMMARY:Uitmatch bevestigd? (Torpedo 1H (55) - Brasschaat 2H (44))
DESCRIPTION:Je hebt 72 uur na aanvang om een uitmatch op Badmintonvlaandere
 n in te vullen. Match info: Torpedo 1H (55) - Brasschaat 2H (44) - Link: h
 ttps://www.badmintonvlaanderen.be/sport/teammatch.aspx?id=541D9693-BA5C-49
 F3-B354-186D1A701882&match=471
DTSTART;TZID=Europe/Brussels:20241110T201500
DTEND;TZID=Europe/Brussels:20241110T201500
END:VEVENT
BEGIN:VEVENT
UID:541D9693-BA5C-49F3-B354-186D1A701882-11-468_awayreminder@23.badmintonne
 rs.net
DTSTAMP:20260420T072405Z
SUMMARY:Uitmatch bevestigd? (Smash 1H (50) - Brasschaat 2H (44))
DESCRIPTION:Je hebt 72 uur na aanvang om een uitmatch op Badmintonvlaandere
 n in te vullen. Match info: Smash 1H (50) - Brasschaat 2H (44) - Link: htt
 ps://www.badmintonvlaanderen.be/sport/teammatch.aspx?id=541D9693-BA5C-49F3
 -B354-186D1A701882&match=468
DTSTART;TZID=Europe/Brussels:20241211T100000
DTEND;TZID=Europe/Brussels:20241211T100000
END:VEVENT
BEGIN:VEVENT
UID:541D9693-BA5C-49F3-B354-186D1A701882-11-466_awayreminder@23.badmintonne
 rs.net
DTSTAMP:20260420T072405Z
SUMMARY:Uitmatch bevestigd? (Rita Serveert 2H (50) - Brasschaat 2H (44))
DESCRIPTION:Je hebt 72 uur na aanvang om een uitmatch op Badmintonvlaandere
 n in te vullen. Match info: Rita Serveert 2H (50) - Brasschaat 2H (44) - L
 ink: https://www.badmintonvlaanderen.be/sport/teammatch.aspx?id=541D9693-B
 A5C-49F3-B354-186D1A701882&match=466
DTSTART;TZID=Europe/Brussels:20241211T190000
DTEND;TZID=Europe/Brussels:20241211T190000
END:VEVENT
BEGIN:VEVENT
UID:541D9693-BA5C-49F3-B354-186D1A701882-11-467_awayreminder@23.badmintonne
 rs.net
DTSTAMP:20260420T072405Z
SUMMARY:Uitmatch bevestigd? (Poona 1H (46) - Brasschaat 2H (44))
DESCRIPTION:Je hebt 72 uur na aanvang om een uitmatch op Badmintonvlaandere
 n in te vullen. Match info: Poona 1H (46) - Brasschaat 2H (44) - Link: htt
 ps://www.badmintonvlaanderen.be/sport/teammatch.aspx?id=541D9693-BA5C-49F3
 -B354-186D1A701882&match=467
DTSTART;TZID=Europe/Brussels:20250130T200000
DTEND;TZID=Europe/Brussels:20250130T200000
END:VEVENT
BEGIN:VEVENT
UID:541D9693-BA5C-49F3-B354-186D1A701882-11-469_awayreminder@23.badmintonne
 rs.net
DTSTAMP:20260420T072405Z
SUMMARY:Uitmatch bevestigd? (Opslag 3H (56) - Brasschaat 2H (44))
DESCRIPTION:Je hebt 72 uur na aanvang om een uitmatch op Badmintonvlaandere
 n in te vullen. Match info: Opslag 3H (56) - Brasschaat 2H (44) - Link: ht
 tps://www.badmintonvlaanderen.be/sport/teammatch.aspx?id=541D9693-BA5C-49F
 3-B354-186D1A701882&match=469
DTSTART;TZID=Europe/Brussels:20250305T163000
DTEND;TZID=Europe/Brussels:20250305T163000
END:VEVENT
BEGIN:VEVENT
UID:541D9693-BA5C-49F3-B354-186D1A701882-11-465_awayreminder@23.badmintonne
 rs.net
DTSTAMP:20260420T072405Z
SUMMARY:Uitmatch bevestigd? (Klein Boom 2H (46) - Brasschaat 2H (44))
DESCRIPTION:Je hebt 72 uur na aanvang om een uitmatch op Badmintonvlaandere
 n in te vullen. Match info: Klein Boom 2H (46) - Brasschaat 2H (44) - Link
 : https://www.badmintonvlaanderen.be/sport/teammatch.aspx?id=541D9693-BA5C
 -49F3-B354-186D1A701882&match=465
DTSTART;TZID=Europe/Brussels:20250327T200000
DTEND;TZID=Europe/Brussels:20250327T200000
END:VEVENT
END:VCALENDAR