BEGIN:VCALENDAR
VERSION:2.0
PRODID:spatie/icalendar-generator
NAME:opslag_3h_56_reminders
X-WR-CALNAME:opslag_3h_56_reminders
BEGIN:VTIMEZONE
TZID:Europe/Brussels
BEGIN:DAYLIGHT
DTSTART:20240331T010000
TZOFFSETFROM:+0100
TZOFFSETTO:+0200
END:DAYLIGHT
BEGIN:STANDARD
DTSTART:20241027T030000
TZOFFSETFROM:+0200
TZOFFSETTO:+0100
END:STANDARD
BEGIN:DAYLIGHT
DTSTART:20250330T010000
TZOFFSETFROM:+0100
TZOFFSETTO:+0200
END:DAYLIGHT
BEGIN:STANDARD
DTSTART:20251026T030000
TZOFFSETFROM:+0200
TZOFFSETTO:+0100
END:STANDARD
END:VTIMEZONE
BEGIN:VTIMEZONE
TZID:UTC
BEGIN:STANDARD
DTSTART:20250724T072406
TZOFFSETFROM:+0000
TZOFFSETTO:+0000
END:STANDARD
END:VTIMEZONE
BEGIN:VEVENT
UID:541D9693-BA5C-49F3-B354-186D1A701882-11-462_homereminder@24.badmintonne
 rs.net
DTSTAMP:20260420T072406Z
SUMMARY:Thuismatch ingevuld? (Opslag 3H (56) - Bacss 3H (47))
DESCRIPTION:Je hebt 36 uur na aanvang om een thuismatch op Badmintonvlaande
 ren in te vullen. Match info: Opslag 3H (56) - Bacss 3H (47) - Link: https
 ://www.badmintonvlaanderen.be/sport/teammatch.aspx?id=541D9693-BA5C-49F3-B
 354-186D1A701882&match=462
DTSTART;TZID=Europe/Brussels:20241001T043000
DTEND;TZID=Europe/Brussels:20241001T043000
END:VEVENT
BEGIN:VEVENT
UID:541D9693-BA5C-49F3-B354-186D1A701882-11-426_homereminder@24.badmintonne
 rs.net
DTSTAMP:20260420T072406Z
SUMMARY:Thuismatch ingevuld? (Opslag 3H (56) - Klein Boom 2H (46))
DESCRIPTION:Je hebt 36 uur na aanvang om een thuismatch op Badmintonvlaande
 ren in te vullen. Match info: Opslag 3H (56) - Klein Boom 2H (46) - Link: 
 https://www.badmintonvlaanderen.be/sport/teammatch.aspx?id=541D9693-BA5C-4
 9F3-B354-186D1A701882&match=426
DTSTART;TZID=Europe/Brussels:20241029T043000
DTEND;TZID=Europe/Brussels:20241029T043000
END:VEVENT
BEGIN:VEVENT
UID:541D9693-BA5C-49F3-B354-186D1A701882-11-440_homereminder@24.badmintonne
 rs.net
DTSTAMP:20260420T072406Z
SUMMARY:Thuismatch ingevuld? (Opslag 3H (56) - Poona 1H (46))
DESCRIPTION:Je hebt 36 uur na aanvang om een thuismatch op Badmintonvlaande
 ren in te vullen. Match info: Opslag 3H (56) - Poona 1H (46) - Link: https
 ://www.badmintonvlaanderen.be/sport/teammatch.aspx?id=541D9693-BA5C-49F3-B
 354-186D1A701882&match=440
DTSTART;TZID=Europe/Brussels:20241126T043000
DTEND;TZID=Europe/Brussels:20241126T043000
END:VEVENT
BEGIN:VEVENT
UID:541D9693-BA5C-49F3-B354-186D1A701882-11-469_homereminder@24.badmintonne
 rs.net
DTSTAMP:20260420T072406Z
SUMMARY:Thuismatch ingevuld? (Opslag 3H (56) - Brasschaat 2H (44))
DESCRIPTION:Je hebt 36 uur na aanvang om een thuismatch op Badmintonvlaande
 ren in te vullen. Match info: Opslag 3H (56) - Brasschaat 2H (44) - Link: 
 https://www.badmintonvlaanderen.be/sport/teammatch.aspx?id=541D9693-BA5C-4
 9F3-B354-186D1A701882&match=469
DTSTART;TZID=Europe/Brussels:20250304T043000
DTEND;TZID=Europe/Brussels:20250304T043000
END:VEVENT
BEGIN:VEVENT
UID:541D9693-BA5C-49F3-B354-186D1A701882-11-476_homereminder@24.badmintonne
 rs.net
DTSTAMP:20260420T072406Z
SUMMARY:Thuismatch ingevuld? (Opslag 3H (56) - Torpedo 1H (55))
DESCRIPTION:Je hebt 36 uur na aanvang om een thuismatch op Badmintonvlaande
 ren in te vullen. Match info: Opslag 3H (56) - Torpedo 1H (55) - Link: htt
 ps://www.badmintonvlaanderen.be/sport/teammatch.aspx?id=541D9693-BA5C-49F3
 -B354-186D1A701882&match=476
DTSTART;TZID=Europe/Brussels:20250318T071500
DTEND;TZID=Europe/Brussels:20250318T071500
END:VEVENT
BEGIN:VEVENT
UID:541D9693-BA5C-49F3-B354-186D1A701882-11-447_homereminder@24.badmintonne
 rs.net
DTSTAMP:20260420T072406Z
SUMMARY:Thuismatch ingevuld? (Opslag 3H (56) - Smash 1H (50))
DESCRIPTION:Je hebt 36 uur na aanvang om een thuismatch op Badmintonvlaande
 ren in te vullen. Match info: Opslag 3H (56) - Smash 1H (50) - Link: https
 ://www.badmintonvlaanderen.be/sport/teammatch.aspx?id=541D9693-BA5C-49F3-B
 354-186D1A701882&match=447
DTSTART;TZID=Europe/Brussels:20250401T071500
DTEND;TZID=Europe/Brussels:20250401T071500
END:VEVENT
BEGIN:VEVENT
UID:541D9693-BA5C-49F3-B354-186D1A701882-11-433_homereminder@24.badmintonne
 rs.net
DTSTAMP:20260420T072406Z
SUMMARY:Thuismatch ingevuld? (Opslag 3H (56) - Rita Serveert 2H (50))
DESCRIPTION:Je hebt 36 uur na aanvang om een thuismatch op Badmintonvlaande
 ren in te vullen. Match info: Opslag 3H (56) - Rita Serveert 2H (50) - Lin
 k: https://www.badmintonvlaanderen.be/sport/teammatch.aspx?id=541D9693-BA5
 C-49F3-B354-186D1A701882&match=433
DTSTART;TZID=Europe/Brussels:20250429T043000
DTEND;TZID=Europe/Brussels:20250429T043000
END:VEVENT
BEGIN:VEVENT
UID:541D9693-BA5C-49F3-B354-186D1A701882-11-456_awayreminder@24.badmintonne
 rs.net
DTSTAMP:20260420T072406Z
SUMMARY:Uitmatch bevestigd? (Brasschaat 2H (44) - Opslag 3H (56))
DESCRIPTION:Je hebt 72 uur na aanvang om een uitmatch op Badmintonvlaandere
 n in te vullen. Match info: Brasschaat 2H (44) - Opslag 3H (56) - Link: ht
 tps://www.badmintonvlaanderen.be/sport/teammatch.aspx?id=541D9693-BA5C-49F
 3-B354-186D1A701882&match=456
DTSTART;TZID=Europe/Brussels:20241009T190000
DTEND;TZID=Europe/Brussels:20241009T190000
END:VEVENT
BEGIN:VEVENT
UID:541D9693-BA5C-49F3-B354-186D1A701882-11-452_awayreminder@24.badmintonne
 rs.net
DTSTAMP:20260420T072406Z
SUMMARY:Uitmatch bevestigd? (Rita Serveert 2H (50) - Opslag 3H (56))
DESCRIPTION:Je hebt 72 uur na aanvang om een uitmatch op Badmintonvlaandere
 n in te vullen. Match info: Rita Serveert 2H (50) - Opslag 3H (56) - Link:
  https://www.badmintonvlaanderen.be/sport/teammatch.aspx?id=541D9693-BA5C-
 49F3-B354-186D1A701882&match=452
DTSTART;TZID=Europe/Brussels:20241023T190000
DTEND;TZID=Europe/Brussels:20241023T190000
END:VEVENT
BEGIN:VEVENT
UID:541D9693-BA5C-49F3-B354-186D1A701882-11-457_awayreminder@24.badmintonne
 rs.net
DTSTAMP:20260420T072406Z
SUMMARY:Uitmatch bevestigd? (Torpedo 1H (55) - Opslag 3H (56))
DESCRIPTION:Je hebt 72 uur na aanvang om een uitmatch op Badmintonvlaandere
 n in te vullen. Match info: Torpedo 1H (55) - Opslag 3H (56) - Link: https
 ://www.badmintonvlaanderen.be/sport/teammatch.aspx?id=541D9693-BA5C-49F3-B
 354-186D1A701882&match=457
DTSTART;TZID=Europe/Brussels:20241201T201500
DTEND;TZID=Europe/Brussels:20241201T201500
END:VEVENT
BEGIN:VEVENT
UID:541D9693-BA5C-49F3-B354-186D1A701882-11-454_awayreminder@24.badmintonne
 rs.net
DTSTAMP:20260420T072406Z
SUMMARY:Uitmatch bevestigd? (Smash 1H (50) - Opslag 3H (56))
DESCRIPTION:Je hebt 72 uur na aanvang om een uitmatch op Badmintonvlaandere
 n in te vullen. Match info: Smash 1H (50) - Opslag 3H (56) - Link: https:/
 /www.badmintonvlaanderen.be/sport/teammatch.aspx?id=541D9693-BA5C-49F3-B35
 4-186D1A701882&match=454
DTSTART;TZID=Europe/Brussels:20241218T100000
DTEND;TZID=Europe/Brussels:20241218T100000
END:VEVENT
BEGIN:VEVENT
UID:541D9693-BA5C-49F3-B354-186D1A701882-11-455_awayreminder@24.badmintonne
 rs.net
DTSTAMP:20260420T072406Z
SUMMARY:Uitmatch bevestigd? (Bacss 3H (47) - Opslag 3H (56))
DESCRIPTION:Je hebt 72 uur na aanvang om een uitmatch op Badmintonvlaandere
 n in te vullen. Match info: Bacss 3H (47) - Opslag 3H (56) - Link: https:/
 /www.badmintonvlaanderen.be/sport/teammatch.aspx?id=541D9693-BA5C-49F3-B35
 4-186D1A701882&match=455
DTSTART;TZID=Europe/Brussels:20250217T201500
DTEND;TZID=Europe/Brussels:20250217T201500
END:VEVENT
BEGIN:VEVENT
UID:541D9693-BA5C-49F3-B354-186D1A701882-11-451_awayreminder@24.badmintonne
 rs.net
DTSTAMP:20260420T072406Z
SUMMARY:Uitmatch bevestigd? (Klein Boom 2H (46) - Opslag 3H (56))
DESCRIPTION:Je hebt 72 uur na aanvang om een uitmatch op Badmintonvlaandere
 n in te vullen. Match info: Klein Boom 2H (46) - Opslag 3H (56) - Link: ht
 tps://www.badmintonvlaanderen.be/sport/teammatch.aspx?id=541D9693-BA5C-49F
 3-B354-186D1A701882&match=451
DTSTART;TZID=Europe/Brussels:20250313T200000
DTEND;TZID=Europe/Brussels:20250313T200000
END:VEVENT
BEGIN:VEVENT
UID:541D9693-BA5C-49F3-B354-186D1A701882-11-453_awayreminder@24.badmintonne
 rs.net
DTSTAMP:20260420T072406Z
SUMMARY:Uitmatch bevestigd? (Poona 1H (46) - Opslag 3H (56))
DESCRIPTION:Je hebt 72 uur na aanvang om een uitmatch op Badmintonvlaandere
 n in te vullen. Match info: Poona 1H (46) - Opslag 3H (56) - Link: https:/
 /www.badmintonvlaanderen.be/sport/teammatch.aspx?id=541D9693-BA5C-49F3-B35
 4-186D1A701882&match=453
DTSTART;TZID=Europe/Brussels:20250327T200000
DTEND;TZID=Europe/Brussels:20250327T200000
END:VEVENT
END:VCALENDAR