BEGIN:VCALENDAR
VERSION:2.0
PRODID:spatie/icalendar-generator
NAME:klein_boom_2h_46_reminders
X-WR-CALNAME:klein_boom_2h_46_reminders
BEGIN:VTIMEZONE
TZID:Europe/Brussels
BEGIN:DAYLIGHT
DTSTART:20240331T010000
TZOFFSETFROM:+0100
TZOFFSETTO:+0200
END:DAYLIGHT
BEGIN:STANDARD
DTSTART:20241027T030000
TZOFFSETFROM:+0200
TZOFFSETTO:+0100
END:STANDARD
BEGIN:DAYLIGHT
DTSTART:20250330T010000
TZOFFSETFROM:+0100
TZOFFSETTO:+0200
END:DAYLIGHT
END:VTIMEZONE
BEGIN:VTIMEZONE
TZID:UTC
BEGIN:STANDARD
DTSTART:20250724T072409
TZOFFSETFROM:+0000
TZOFFSETTO:+0000
END:STANDARD
END:VTIMEZONE
BEGIN:VEVENT
UID:541D9693-BA5C-49F3-B354-186D1A701882-11-430_homereminder@28.badmintonne
 rs.net
DTSTAMP:20260420T072409Z
SUMMARY:Thuismatch ingevuld? (Klein Boom 2H (46) - Rita Serveert 2H (50))
DESCRIPTION:Je hebt 36 uur na aanvang om een thuismatch op Badmintonvlaande
 ren in te vullen. Match info: Klein Boom 2H (46) - Rita Serveert 2H (50) -
  Link: https://www.badmintonvlaanderen.be/sport/teammatch.aspx?id=541D9693
 -BA5C-49F3-B354-186D1A701882&match=430
DTSTART;TZID=Europe/Brussels:20240904T080000
DTEND;TZID=Europe/Brussels:20240904T080000
END:VEVENT
BEGIN:VEVENT
UID:541D9693-BA5C-49F3-B354-186D1A701882-11-444_homereminder@28.badmintonne
 rs.net
DTSTAMP:20260420T072409Z
SUMMARY:Thuismatch ingevuld? (Klein Boom 2H (46) - Smash 1H (50))
DESCRIPTION:Je hebt 36 uur na aanvang om een thuismatch op Badmintonvlaande
 ren in te vullen. Match info: Klein Boom 2H (46) - Smash 1H (50) - Link: h
 ttps://www.badmintonvlaanderen.be/sport/teammatch.aspx?id=541D9693-BA5C-49
 F3-B354-186D1A701882&match=444
DTSTART;TZID=Europe/Brussels:20241009T080000
DTEND;TZID=Europe/Brussels:20241009T080000
END:VEVENT
BEGIN:VEVENT
UID:541D9693-BA5C-49F3-B354-186D1A701882-11-458_homereminder@28.badmintonne
 rs.net
DTSTAMP:20260420T072409Z
SUMMARY:Thuismatch ingevuld? (Klein Boom 2H (46) - Bacss 3H (47))
DESCRIPTION:Je hebt 36 uur na aanvang om een thuismatch op Badmintonvlaande
 ren in te vullen. Match info: Klein Boom 2H (46) - Bacss 3H (47) - Link: h
 ttps://www.badmintonvlaanderen.be/sport/teammatch.aspx?id=541D9693-BA5C-49
 F3-B354-186D1A701882&match=458
DTSTART;TZID=Europe/Brussels:20241210T070000
DTEND;TZID=Europe/Brussels:20241210T070000
END:VEVENT
BEGIN:VEVENT
UID:541D9693-BA5C-49F3-B354-186D1A701882-11-472_homereminder@28.badmintonne
 rs.net
DTSTAMP:20260420T072409Z
SUMMARY:Thuismatch ingevuld? (Klein Boom 2H (46) - Torpedo 1H (55))
DESCRIPTION:Je hebt 36 uur na aanvang om een thuismatch op Badmintonvlaande
 ren in te vullen. Match info: Klein Boom 2H (46) - Torpedo 1H (55) - Link:
  https://www.badmintonvlaanderen.be/sport/teammatch.aspx?id=541D9693-BA5C-
 49F3-B354-186D1A701882&match=472
DTSTART;TZID=Europe/Brussels:20241218T080000
DTEND;TZID=Europe/Brussels:20241218T080000
END:VEVENT
BEGIN:VEVENT
UID:541D9693-BA5C-49F3-B354-186D1A701882-11-437_homereminder@28.badmintonne
 rs.net
DTSTAMP:20260420T072409Z
SUMMARY:Thuismatch ingevuld? (Klein Boom 2H (46) - Poona 1H (46))
DESCRIPTION:Je hebt 36 uur na aanvang om een thuismatch op Badmintonvlaande
 ren in te vullen. Match info: Klein Boom 2H (46) - Poona 1H (46) - Link: h
 ttps://www.badmintonvlaanderen.be/sport/teammatch.aspx?id=541D9693-BA5C-49
 F3-B354-186D1A701882&match=437
DTSTART;TZID=Europe/Brussels:20250212T080000
DTEND;TZID=Europe/Brussels:20250212T080000
END:VEVENT
BEGIN:VEVENT
UID:541D9693-BA5C-49F3-B354-186D1A701882-11-451_homereminder@28.badmintonne
 rs.net
DTSTAMP:20260420T072409Z
SUMMARY:Thuismatch ingevuld? (Klein Boom 2H (46) - Opslag 3H (56))
DESCRIPTION:Je hebt 36 uur na aanvang om een thuismatch op Badmintonvlaande
 ren in te vullen. Match info: Klein Boom 2H (46) - Opslag 3H (56) - Link: 
 https://www.badmintonvlaanderen.be/sport/teammatch.aspx?id=541D9693-BA5C-4
 9F3-B354-186D1A701882&match=451
DTSTART;TZID=Europe/Brussels:20250312T080000
DTEND;TZID=Europe/Brussels:20250312T080000
END:VEVENT
BEGIN:VEVENT
UID:541D9693-BA5C-49F3-B354-186D1A701882-11-465_homereminder@28.badmintonne
 rs.net
DTSTAMP:20260420T072409Z
SUMMARY:Thuismatch ingevuld? (Klein Boom 2H (46) - Brasschaat 2H (44))
DESCRIPTION:Je hebt 36 uur na aanvang om een thuismatch op Badmintonvlaande
 ren in te vullen. Match info: Klein Boom 2H (46) - Brasschaat 2H (44) - Li
 nk: https://www.badmintonvlaanderen.be/sport/teammatch.aspx?id=541D9693-BA
 5C-49F3-B354-186D1A701882&match=465
DTSTART;TZID=Europe/Brussels:20250326T080000
DTEND;TZID=Europe/Brussels:20250326T080000
END:VEVENT
BEGIN:VEVENT
UID:541D9693-BA5C-49F3-B354-186D1A701882-11-426_awayreminder@28.badmintonne
 rs.net
DTSTAMP:20260420T072409Z
SUMMARY:Uitmatch bevestigd? (Opslag 3H (56) - Klein Boom 2H (46))
DESCRIPTION:Je hebt 72 uur na aanvang om een uitmatch op Badmintonvlaandere
 n in te vullen. Match info: Opslag 3H (56) - Klein Boom 2H (46) - Link: ht
 tps://www.badmintonvlaanderen.be/sport/teammatch.aspx?id=541D9693-BA5C-49F
 3-B354-186D1A701882&match=426
DTSTART;TZID=Europe/Brussels:20241030T163000
DTEND;TZID=Europe/Brussels:20241030T163000
END:VEVENT
BEGIN:VEVENT
UID:541D9693-BA5C-49F3-B354-186D1A701882-11-428_awayreminder@28.badmintonne
 rs.net
DTSTAMP:20260420T072409Z
SUMMARY:Uitmatch bevestigd? (Brasschaat 2H (44) - Klein Boom 2H (46))
DESCRIPTION:Je hebt 72 uur na aanvang om een uitmatch op Badmintonvlaandere
 n in te vullen. Match info: Brasschaat 2H (44) - Klein Boom 2H (46) - Link
 : https://www.badmintonvlaanderen.be/sport/teammatch.aspx?id=541D9693-BA5C
 -49F3-B354-186D1A701882&match=428
DTSTART;TZID=Europe/Brussels:20241127T190000
DTEND;TZID=Europe/Brussels:20241127T190000
END:VEVENT
BEGIN:VEVENT
UID:541D9693-BA5C-49F3-B354-186D1A701882-11-424_awayreminder@28.badmintonne
 rs.net
DTSTAMP:20260420T072409Z
SUMMARY:Uitmatch bevestigd? (Poona 1H (46) - Klein Boom 2H (46))
DESCRIPTION:Je hebt 72 uur na aanvang om een uitmatch op Badmintonvlaandere
 n in te vullen. Match info: Poona 1H (46) - Klein Boom 2H (46) - Link: htt
 ps://www.badmintonvlaanderen.be/sport/teammatch.aspx?id=541D9693-BA5C-49F3
 -B354-186D1A701882&match=424
DTSTART;TZID=Europe/Brussels:20241205T200000
DTEND;TZID=Europe/Brussels:20241205T200000
END:VEVENT
BEGIN:VEVENT
UID:541D9693-BA5C-49F3-B354-186D1A701882-11-429_awayreminder@28.badmintonne
 rs.net
DTSTAMP:20260420T072409Z
SUMMARY:Uitmatch bevestigd? (Torpedo 1H (55) - Klein Boom 2H (46))
DESCRIPTION:Je hebt 72 uur na aanvang om een uitmatch op Badmintonvlaandere
 n in te vullen. Match info: Torpedo 1H (55) - Klein Boom 2H (46) - Link: h
 ttps://www.badmintonvlaanderen.be/sport/teammatch.aspx?id=541D9693-BA5C-49
 F3-B354-186D1A701882&match=429
DTSTART;TZID=Europe/Brussels:20250119T201500
DTEND;TZID=Europe/Brussels:20250119T201500
END:VEVENT
BEGIN:VEVENT
UID:541D9693-BA5C-49F3-B354-186D1A701882-11-425_awayreminder@28.badmintonne
 rs.net
DTSTAMP:20260420T072409Z
SUMMARY:Uitmatch bevestigd? (Smash 1H (50) - Klein Boom 2H (46))
DESCRIPTION:Je hebt 72 uur na aanvang om een uitmatch op Badmintonvlaandere
 n in te vullen. Match info: Smash 1H (50) - Klein Boom 2H (46) - Link: htt
 ps://www.badmintonvlaanderen.be/sport/teammatch.aspx?id=541D9693-BA5C-49F3
 -B354-186D1A701882&match=425
DTSTART;TZID=Europe/Brussels:20250122T100000
DTEND;TZID=Europe/Brussels:20250122T100000
END:VEVENT
BEGIN:VEVENT
UID:541D9693-BA5C-49F3-B354-186D1A701882-11-423_awayreminder@28.badmintonne
 rs.net
DTSTAMP:20260420T072409Z
SUMMARY:Uitmatch bevestigd? (Rita Serveert 2H (50) - Klein Boom 2H (46))
DESCRIPTION:Je hebt 72 uur na aanvang om een uitmatch op Badmintonvlaandere
 n in te vullen. Match info: Rita Serveert 2H (50) - Klein Boom 2H (46) - L
 ink: https://www.badmintonvlaanderen.be/sport/teammatch.aspx?id=541D9693-B
 A5C-49F3-B354-186D1A701882&match=423
DTSTART;TZID=Europe/Brussels:20250205T190000
DTEND;TZID=Europe/Brussels:20250205T190000
END:VEVENT
BEGIN:VEVENT
UID:541D9693-BA5C-49F3-B354-186D1A701882-11-427_awayreminder@28.badmintonne
 rs.net
DTSTAMP:20260420T072409Z
SUMMARY:Uitmatch bevestigd? (Bacss 3H (47) - Klein Boom 2H (46))
DESCRIPTION:Je hebt 72 uur na aanvang om een uitmatch op Badmintonvlaandere
 n in te vullen. Match info: Bacss 3H (47) - Klein Boom 2H (46) - Link: htt
 ps://www.badmintonvlaanderen.be/sport/teammatch.aspx?id=541D9693-BA5C-49F3
 -B354-186D1A701882&match=427
DTSTART;TZID=Europe/Brussels:20250414T201500
DTEND;TZID=Europe/Brussels:20250414T201500
END:VEVENT
END:VCALENDAR