BEGIN:VCALENDAR
VERSION:2.0
PRODID:spatie/icalendar-generator
NAME:smash_1h_50_reminders
X-WR-CALNAME:smash_1h_50_reminders
BEGIN:VTIMEZONE
TZID:Europe/Brussels
BEGIN:DAYLIGHT
DTSTART:20240331T010000
TZOFFSETFROM:+0100
TZOFFSETTO:+0200
END:DAYLIGHT
BEGIN:STANDARD
DTSTART:20241027T030000
TZOFFSETFROM:+0200
TZOFFSETTO:+0100
END:STANDARD
BEGIN:DAYLIGHT
DTSTART:20250330T010000
TZOFFSETFROM:+0100
TZOFFSETTO:+0200
END:DAYLIGHT
BEGIN:STANDARD
DTSTART:20251026T030000
TZOFFSETFROM:+0200
TZOFFSETTO:+0100
END:STANDARD
END:VTIMEZONE
BEGIN:VTIMEZONE
TZID:UTC
BEGIN:STANDARD
DTSTART:20250724T055126
TZOFFSETFROM:+0000
TZOFFSETTO:+0000
END:STANDARD
END:VTIMEZONE
BEGIN:VEVENT
UID:541D9693-BA5C-49F3-B354-186D1A701882-11-432_homereminder@30.badmintonne
 rs.net
DTSTAMP:20260420T055126Z
SUMMARY:Thuismatch ingevuld? (Smash 1H (50) - Rita Serveert 2H (50))
DESCRIPTION:Je hebt 36 uur na aanvang om een thuismatch op Badmintonvlaande
 ren in te vullen. Match info: Smash 1H (50) - Rita Serveert 2H (50) - Link
 : https://www.badmintonvlaanderen.be/sport/teammatch.aspx?id=541D9693-BA5C
 -49F3-B354-186D1A701882&match=432
DTSTART;TZID=Europe/Brussels:20241118T220000
DTEND;TZID=Europe/Brussels:20241118T220000
END:VEVENT
BEGIN:VEVENT
UID:541D9693-BA5C-49F3-B354-186D1A701882-11-468_homereminder@30.badmintonne
 rs.net
DTSTAMP:20260420T055126Z
SUMMARY:Thuismatch ingevuld? (Smash 1H (50) - Brasschaat 2H (44))
DESCRIPTION:Je hebt 36 uur na aanvang om een thuismatch op Badmintonvlaande
 ren in te vullen. Match info: Smash 1H (50) - Brasschaat 2H (44) - Link: h
 ttps://www.badmintonvlaanderen.be/sport/teammatch.aspx?id=541D9693-BA5C-49
 F3-B354-186D1A701882&match=468
DTSTART;TZID=Europe/Brussels:20241209T220000
DTEND;TZID=Europe/Brussels:20241209T220000
END:VEVENT
BEGIN:VEVENT
UID:541D9693-BA5C-49F3-B354-186D1A701882-11-454_homereminder@30.badmintonne
 rs.net
DTSTAMP:20260420T055126Z
SUMMARY:Thuismatch ingevuld? (Smash 1H (50) - Opslag 3H (56))
DESCRIPTION:Je hebt 36 uur na aanvang om een thuismatch op Badmintonvlaande
 ren in te vullen. Match info: Smash 1H (50) - Opslag 3H (56) - Link: https
 ://www.badmintonvlaanderen.be/sport/teammatch.aspx?id=541D9693-BA5C-49F3-B
 354-186D1A701882&match=454
DTSTART;TZID=Europe/Brussels:20241216T220000
DTEND;TZID=Europe/Brussels:20241216T220000
END:VEVENT
BEGIN:VEVENT
UID:541D9693-BA5C-49F3-B354-186D1A701882-11-475_homereminder@30.badmintonne
 rs.net
DTSTAMP:20260420T055126Z
SUMMARY:Thuismatch ingevuld? (Smash 1H (50) - Torpedo 1H (55))
DESCRIPTION:Je hebt 36 uur na aanvang om een thuismatch op Badmintonvlaande
 ren in te vullen. Match info: Smash 1H (50) - Torpedo 1H (55) - Link: http
 s://www.badmintonvlaanderen.be/sport/teammatch.aspx?id=541D9693-BA5C-49F3-
 B354-186D1A701882&match=475
DTSTART;TZID=Europe/Brussels:20241223T220000
DTEND;TZID=Europe/Brussels:20241223T220000
END:VEVENT
BEGIN:VEVENT
UID:541D9693-BA5C-49F3-B354-186D1A701882-11-425_homereminder@30.badmintonne
 rs.net
DTSTAMP:20260420T055126Z
SUMMARY:Thuismatch ingevuld? (Smash 1H (50) - Klein Boom 2H (46))
DESCRIPTION:Je hebt 36 uur na aanvang om een thuismatch op Badmintonvlaande
 ren in te vullen. Match info: Smash 1H (50) - Klein Boom 2H (46) - Link: h
 ttps://www.badmintonvlaanderen.be/sport/teammatch.aspx?id=541D9693-BA5C-49
 F3-B354-186D1A701882&match=425
DTSTART;TZID=Europe/Brussels:20250120T220000
DTEND;TZID=Europe/Brussels:20250120T220000
END:VEVENT
BEGIN:VEVENT
UID:541D9693-BA5C-49F3-B354-186D1A701882-11-461_homereminder@30.badmintonne
 rs.net
DTSTAMP:20260420T055126Z
SUMMARY:Thuismatch ingevuld? (Smash 1H (50) - Bacss 3H (47))
DESCRIPTION:Je hebt 36 uur na aanvang om een thuismatch op Badmintonvlaande
 ren in te vullen. Match info: Smash 1H (50) - Bacss 3H (47) - Link: https:
 //www.badmintonvlaanderen.be/sport/teammatch.aspx?id=541D9693-BA5C-49F3-B3
 54-186D1A701882&match=461
DTSTART;TZID=Europe/Brussels:20250203T220000
DTEND;TZID=Europe/Brussels:20250203T220000
END:VEVENT
BEGIN:VEVENT
UID:541D9693-BA5C-49F3-B354-186D1A701882-11-439_homereminder@30.badmintonne
 rs.net
DTSTAMP:20260420T055126Z
SUMMARY:Thuismatch ingevuld? (Smash 1H (50) - Poona 1H (46))
DESCRIPTION:Je hebt 36 uur na aanvang om een thuismatch op Badmintonvlaande
 ren in te vullen. Match info: Smash 1H (50) - Poona 1H (46) - Link: https:
 //www.badmintonvlaanderen.be/sport/teammatch.aspx?id=541D9693-BA5C-49F3-B3
 54-186D1A701882&match=439
DTSTART;TZID=Europe/Brussels:20250426T080000
DTEND;TZID=Europe/Brussels:20250426T080000
END:VEVENT
BEGIN:VEVENT
UID:541D9693-BA5C-49F3-B354-186D1A701882-11-444_awayreminder@30.badmintonne
 rs.net
DTSTAMP:20260420T055126Z
SUMMARY:Uitmatch bevestigd? (Klein Boom 2H (46) - Smash 1H (50))
DESCRIPTION:Je hebt 72 uur na aanvang om een uitmatch op Badmintonvlaandere
 n in te vullen. Match info: Klein Boom 2H (46) - Smash 1H (50) - Link: htt
 ps://www.badmintonvlaanderen.be/sport/teammatch.aspx?id=541D9693-BA5C-49F3
 -B354-186D1A701882&match=444
DTSTART;TZID=Europe/Brussels:20241010T200000
DTEND;TZID=Europe/Brussels:20241010T200000
END:VEVENT
BEGIN:VEVENT
UID:541D9693-BA5C-49F3-B354-186D1A701882-11-446_awayreminder@30.badmintonne
 rs.net
DTSTAMP:20260420T055126Z
SUMMARY:Uitmatch bevestigd? (Poona 1H (46) - Smash 1H (50))
DESCRIPTION:Je hebt 72 uur na aanvang om een uitmatch op Badmintonvlaandere
 n in te vullen. Match info: Poona 1H (46) - Smash 1H (50) - Link: https://
 www.badmintonvlaanderen.be/sport/teammatch.aspx?id=541D9693-BA5C-49F3-B354
 -186D1A701882&match=446
DTSTART;TZID=Europe/Brussels:20241107T200000
DTEND;TZID=Europe/Brussels:20241107T200000
END:VEVENT
BEGIN:VEVENT
UID:541D9693-BA5C-49F3-B354-186D1A701882-11-448_awayreminder@30.badmintonne
 rs.net
DTSTAMP:20260420T055126Z
SUMMARY:Uitmatch bevestigd? (Bacss 3H (47) - Smash 1H (50))
DESCRIPTION:Je hebt 72 uur na aanvang om een uitmatch op Badmintonvlaandere
 n in te vullen. Match info: Bacss 3H (47) - Smash 1H (50) - Link: https://
 www.badmintonvlaanderen.be/sport/teammatch.aspx?id=541D9693-BA5C-49F3-B354
 -186D1A701882&match=448
DTSTART;TZID=Europe/Brussels:20241127T100000
DTEND;TZID=Europe/Brussels:20241127T100000
END:VEVENT
BEGIN:VEVENT
UID:541D9693-BA5C-49F3-B354-186D1A701882-11-449_awayreminder@30.badmintonne
 rs.net
DTSTAMP:20260420T055126Z
SUMMARY:Uitmatch bevestigd? (Brasschaat 2H (44) - Smash 1H (50))
DESCRIPTION:Je hebt 72 uur na aanvang om een uitmatch op Badmintonvlaandere
 n in te vullen. Match info: Brasschaat 2H (44) - Smash 1H (50) - Link: htt
 ps://www.badmintonvlaanderen.be/sport/teammatch.aspx?id=541D9693-BA5C-49F3
 -B354-186D1A701882&match=449
DTSTART;TZID=Europe/Brussels:20250219T190000
DTEND;TZID=Europe/Brussels:20250219T190000
END:VEVENT
BEGIN:VEVENT
UID:541D9693-BA5C-49F3-B354-186D1A701882-11-445_awayreminder@30.badmintonne
 rs.net
DTSTAMP:20260420T055126Z
SUMMARY:Uitmatch bevestigd? (Rita Serveert 2H (50) - Smash 1H (50))
DESCRIPTION:Je hebt 72 uur na aanvang om een uitmatch op Badmintonvlaandere
 n in te vullen. Match info: Rita Serveert 2H (50) - Smash 1H (50) - Link: 
 https://www.badmintonvlaanderen.be/sport/teammatch.aspx?id=541D9693-BA5C-4
 9F3-B354-186D1A701882&match=445
DTSTART;TZID=Europe/Brussels:20250319T190000
DTEND;TZID=Europe/Brussels:20250319T190000
END:VEVENT
BEGIN:VEVENT
UID:541D9693-BA5C-49F3-B354-186D1A701882-11-450_awayreminder@30.badmintonne
 rs.net
DTSTAMP:20260420T055126Z
SUMMARY:Uitmatch bevestigd? (Torpedo 1H (55) - Smash 1H (50))
DESCRIPTION:Je hebt 72 uur na aanvang om een uitmatch op Badmintonvlaandere
 n in te vullen. Match info: Torpedo 1H (55) - Smash 1H (50) - Link: https:
 //www.badmintonvlaanderen.be/sport/teammatch.aspx?id=541D9693-BA5C-49F3-B3
 54-186D1A701882&match=450
DTSTART;TZID=Europe/Brussels:20250330T211500
DTEND;TZID=Europe/Brussels:20250330T211500
END:VEVENT
BEGIN:VEVENT
UID:541D9693-BA5C-49F3-B354-186D1A701882-11-447_awayreminder@30.badmintonne
 rs.net
DTSTAMP:20260420T055126Z
SUMMARY:Uitmatch bevestigd? (Opslag 3H (56) - Smash 1H (50))
DESCRIPTION:Je hebt 72 uur na aanvang om een uitmatch op Badmintonvlaandere
 n in te vullen. Match info: Opslag 3H (56) - Smash 1H (50) - Link: https:/
 /www.badmintonvlaanderen.be/sport/teammatch.aspx?id=541D9693-BA5C-49F3-B35
 4-186D1A701882&match=447
DTSTART;TZID=Europe/Brussels:20250402T191500
DTEND;TZID=Europe/Brussels:20250402T191500
END:VEVENT
END:VCALENDAR