BEGIN:VCALENDAR
VERSION:2.0
PRODID:spatie/icalendar-generator
NAME:poona_1h_46_reminders
X-WR-CALNAME:poona_1h_46_reminders
BEGIN:VTIMEZONE
TZID:Europe/Brussels
BEGIN:DAYLIGHT
DTSTART:20240331T010000
TZOFFSETFROM:+0100
TZOFFSETTO:+0200
END:DAYLIGHT
BEGIN:STANDARD
DTSTART:20241027T030000
TZOFFSETFROM:+0200
TZOFFSETTO:+0100
END:STANDARD
BEGIN:DAYLIGHT
DTSTART:20250330T010000
TZOFFSETFROM:+0100
TZOFFSETTO:+0200
END:DAYLIGHT
BEGIN:STANDARD
DTSTART:20251026T030000
TZOFFSETFROM:+0200
TZOFFSETTO:+0100
END:STANDARD
END:VTIMEZONE
BEGIN:VTIMEZONE
TZID:UTC
BEGIN:STANDARD
DTSTART:20250724T072404
TZOFFSETFROM:+0000
TZOFFSETTO:+0000
END:STANDARD
END:VTIMEZONE
BEGIN:VEVENT
UID:541D9693-BA5C-49F3-B354-186D1A701882-11-474_homereminder@31.badmintonne
 rs.net
DTSTAMP:20260420T072404Z
SUMMARY:Thuismatch ingevuld? (Poona 1H (46) - Torpedo 1H (55))
DESCRIPTION:Je hebt 36 uur na aanvang om een thuismatch op Badmintonvlaande
 ren in te vullen. Match info: Poona 1H (46) - Torpedo 1H (55) - Link: http
 s://www.badmintonvlaanderen.be/sport/teammatch.aspx?id=541D9693-BA5C-49F3-
 B354-186D1A701882&match=474
DTSTART;TZID=Europe/Brussels:20241023T080000
DTEND;TZID=Europe/Brussels:20241023T080000
END:VEVENT
BEGIN:VEVENT
UID:541D9693-BA5C-49F3-B354-186D1A701882-11-446_homereminder@31.badmintonne
 rs.net
DTSTAMP:20260420T072404Z
SUMMARY:Thuismatch ingevuld? (Poona 1H (46) - Smash 1H (50))
DESCRIPTION:Je hebt 36 uur na aanvang om een thuismatch op Badmintonvlaande
 ren in te vullen. Match info: Poona 1H (46) - Smash 1H (50) - Link: https:
 //www.badmintonvlaanderen.be/sport/teammatch.aspx?id=541D9693-BA5C-49F3-B3
 54-186D1A701882&match=446
DTSTART;TZID=Europe/Brussels:20241106T080000
DTEND;TZID=Europe/Brussels:20241106T080000
END:VEVENT
BEGIN:VEVENT
UID:541D9693-BA5C-49F3-B354-186D1A701882-11-424_homereminder@31.badmintonne
 rs.net
DTSTAMP:20260420T072404Z
SUMMARY:Thuismatch ingevuld? (Poona 1H (46) - Klein Boom 2H (46))
DESCRIPTION:Je hebt 36 uur na aanvang om een thuismatch op Badmintonvlaande
 ren in te vullen. Match info: Poona 1H (46) - Klein Boom 2H (46) - Link: h
 ttps://www.badmintonvlaanderen.be/sport/teammatch.aspx?id=541D9693-BA5C-49
 F3-B354-186D1A701882&match=424
DTSTART;TZID=Europe/Brussels:20241204T080000
DTEND;TZID=Europe/Brussels:20241204T080000
END:VEVENT
BEGIN:VEVENT
UID:541D9693-BA5C-49F3-B354-186D1A701882-11-460_homereminder@31.badmintonne
 rs.net
DTSTAMP:20260420T072404Z
SUMMARY:Thuismatch ingevuld? (Poona 1H (46) - Bacss 3H (47))
DESCRIPTION:Je hebt 36 uur na aanvang om een thuismatch op Badmintonvlaande
 ren in te vullen. Match info: Poona 1H (46) - Bacss 3H (47) - Link: https:
 //www.badmintonvlaanderen.be/sport/teammatch.aspx?id=541D9693-BA5C-49F3-B3
 54-186D1A701882&match=460
DTSTART;TZID=Europe/Brussels:20241218T080000
DTEND;TZID=Europe/Brussels:20241218T080000
END:VEVENT
BEGIN:VEVENT
UID:541D9693-BA5C-49F3-B354-186D1A701882-11-467_homereminder@31.badmintonne
 rs.net
DTSTAMP:20260420T072404Z
SUMMARY:Thuismatch ingevuld? (Poona 1H (46) - Brasschaat 2H (44))
DESCRIPTION:Je hebt 36 uur na aanvang om een thuismatch op Badmintonvlaande
 ren in te vullen. Match info: Poona 1H (46) - Brasschaat 2H (44) - Link: h
 ttps://www.badmintonvlaanderen.be/sport/teammatch.aspx?id=541D9693-BA5C-49
 F3-B354-186D1A701882&match=467
DTSTART;TZID=Europe/Brussels:20250129T080000
DTEND;TZID=Europe/Brussels:20250129T080000
END:VEVENT
BEGIN:VEVENT
UID:541D9693-BA5C-49F3-B354-186D1A701882-11-431_homereminder@31.badmintonne
 rs.net
DTSTAMP:20260420T072404Z
SUMMARY:Thuismatch ingevuld? (Poona 1H (46) - Rita Serveert 2H (50))
DESCRIPTION:Je hebt 36 uur na aanvang om een thuismatch op Badmintonvlaande
 ren in te vullen. Match info: Poona 1H (46) - Rita Serveert 2H (50) - Link
 : https://www.badmintonvlaanderen.be/sport/teammatch.aspx?id=541D9693-BA5C
 -49F3-B354-186D1A701882&match=431
DTSTART;TZID=Europe/Brussels:20250226T080000
DTEND;TZID=Europe/Brussels:20250226T080000
END:VEVENT
BEGIN:VEVENT
UID:541D9693-BA5C-49F3-B354-186D1A701882-11-453_homereminder@31.badmintonne
 rs.net
DTSTAMP:20260420T072404Z
SUMMARY:Thuismatch ingevuld? (Poona 1H (46) - Opslag 3H (56))
DESCRIPTION:Je hebt 36 uur na aanvang om een thuismatch op Badmintonvlaande
 ren in te vullen. Match info: Poona 1H (46) - Opslag 3H (56) - Link: https
 ://www.badmintonvlaanderen.be/sport/teammatch.aspx?id=541D9693-BA5C-49F3-B
 354-186D1A701882&match=453
DTSTART;TZID=Europe/Brussels:20250326T080000
DTEND;TZID=Europe/Brussels:20250326T080000
END:VEVENT
BEGIN:VEVENT
UID:541D9693-BA5C-49F3-B354-186D1A701882-11-442_awayreminder@31.badmintonne
 rs.net
DTSTAMP:20260420T072404Z
SUMMARY:Uitmatch bevestigd? (Brasschaat 2H (44) - Poona 1H (46))
DESCRIPTION:Je hebt 72 uur na aanvang om een uitmatch op Badmintonvlaandere
 n in te vullen. Match info: Brasschaat 2H (44) - Poona 1H (46) - Link: htt
 ps://www.badmintonvlaanderen.be/sport/teammatch.aspx?id=541D9693-BA5C-49F3
 -B354-186D1A701882&match=442
DTSTART;TZID=Europe/Brussels:20240918T190000
DTEND;TZID=Europe/Brussels:20240918T190000
END:VEVENT
BEGIN:VEVENT
UID:541D9693-BA5C-49F3-B354-186D1A701882-11-438_awayreminder@31.badmintonne
 rs.net
DTSTAMP:20260420T072404Z
SUMMARY:Uitmatch bevestigd? (Rita Serveert 2H (50) - Poona 1H (46))
DESCRIPTION:Je hebt 72 uur na aanvang om een uitmatch op Badmintonvlaandere
 n in te vullen. Match info: Rita Serveert 2H (50) - Poona 1H (46) - Link: 
 https://www.badmintonvlaanderen.be/sport/teammatch.aspx?id=541D9693-BA5C-4
 9F3-B354-186D1A701882&match=438
DTSTART;TZID=Europe/Brussels:20241016T190000
DTEND;TZID=Europe/Brussels:20241016T190000
END:VEVENT
BEGIN:VEVENT
UID:541D9693-BA5C-49F3-B354-186D1A701882-11-440_awayreminder@31.badmintonne
 rs.net
DTSTAMP:20260420T072404Z
SUMMARY:Uitmatch bevestigd? (Opslag 3H (56) - Poona 1H (46))
DESCRIPTION:Je hebt 72 uur na aanvang om een uitmatch op Badmintonvlaandere
 n in te vullen. Match info: Opslag 3H (56) - Poona 1H (46) - Link: https:/
 /www.badmintonvlaanderen.be/sport/teammatch.aspx?id=541D9693-BA5C-49F3-B35
 4-186D1A701882&match=440
DTSTART;TZID=Europe/Brussels:20241127T163000
DTEND;TZID=Europe/Brussels:20241127T163000
END:VEVENT
BEGIN:VEVENT
UID:541D9693-BA5C-49F3-B354-186D1A701882-11-441_awayreminder@31.badmintonne
 rs.net
DTSTAMP:20260420T072404Z
SUMMARY:Uitmatch bevestigd? (Bacss 3H (47) - Poona 1H (46))
DESCRIPTION:Je hebt 72 uur na aanvang om een uitmatch op Badmintonvlaandere
 n in te vullen. Match info: Bacss 3H (47) - Poona 1H (46) - Link: https://
 www.badmintonvlaanderen.be/sport/teammatch.aspx?id=541D9693-BA5C-49F3-B354
 -186D1A701882&match=441
DTSTART;TZID=Europe/Brussels:20250120T201500
DTEND;TZID=Europe/Brussels:20250120T201500
END:VEVENT
BEGIN:VEVENT
UID:541D9693-BA5C-49F3-B354-186D1A701882-11-437_awayreminder@31.badmintonne
 rs.net
DTSTAMP:20260420T072404Z
SUMMARY:Uitmatch bevestigd? (Klein Boom 2H (46) - Poona 1H (46))
DESCRIPTION:Je hebt 72 uur na aanvang om een uitmatch op Badmintonvlaandere
 n in te vullen. Match info: Klein Boom 2H (46) - Poona 1H (46) - Link: htt
 ps://www.badmintonvlaanderen.be/sport/teammatch.aspx?id=541D9693-BA5C-49F3
 -B354-186D1A701882&match=437
DTSTART;TZID=Europe/Brussels:20250213T200000
DTEND;TZID=Europe/Brussels:20250213T200000
END:VEVENT
BEGIN:VEVENT
UID:541D9693-BA5C-49F3-B354-186D1A701882-11-443_awayreminder@31.badmintonne
 rs.net
DTSTAMP:20260420T072404Z
SUMMARY:Uitmatch bevestigd? (Torpedo 1H (55) - Poona 1H (46))
DESCRIPTION:Je hebt 72 uur na aanvang om een uitmatch op Badmintonvlaandere
 n in te vullen. Match info: Torpedo 1H (55) - Poona 1H (46) - Link: https:
 //www.badmintonvlaanderen.be/sport/teammatch.aspx?id=541D9693-BA5C-49F3-B3
 54-186D1A701882&match=443
DTSTART;TZID=Europe/Brussels:20250316T201500
DTEND;TZID=Europe/Brussels:20250316T201500
END:VEVENT
BEGIN:VEVENT
UID:541D9693-BA5C-49F3-B354-186D1A701882-11-439_awayreminder@31.badmintonne
 rs.net
DTSTAMP:20260420T072404Z
SUMMARY:Uitmatch bevestigd? (Smash 1H (50) - Poona 1H (46))
DESCRIPTION:Je hebt 72 uur na aanvang om een uitmatch op Badmintonvlaandere
 n in te vullen. Match info: Smash 1H (50) - Poona 1H (46) - Link: https://
 www.badmintonvlaanderen.be/sport/teammatch.aspx?id=541D9693-BA5C-49F3-B354
 -186D1A701882&match=439
DTSTART;TZID=Europe/Brussels:20250427T200000
DTEND;TZID=Europe/Brussels:20250427T200000
END:VEVENT
END:VCALENDAR