BEGIN:VCALENDAR
VERSION:2.0
PRODID:spatie/icalendar-generator
NAME:waverse_1h_76_reminders
X-WR-CALNAME:waverse_1h_76_reminders
BEGIN:VTIMEZONE
TZID:Europe/Brussels
BEGIN:DAYLIGHT
DTSTART:20240331T010000
TZOFFSETFROM:+0100
TZOFFSETTO:+0200
END:DAYLIGHT
BEGIN:STANDARD
DTSTART:20241027T030000
TZOFFSETFROM:+0200
TZOFFSETTO:+0100
END:STANDARD
BEGIN:DAYLIGHT
DTSTART:20250330T010000
TZOFFSETFROM:+0100
TZOFFSETTO:+0200
END:DAYLIGHT
BEGIN:STANDARD
DTSTART:20251026T030000
TZOFFSETFROM:+0200
TZOFFSETTO:+0100
END:STANDARD
END:VTIMEZONE
BEGIN:VTIMEZONE
TZID:UTC
BEGIN:STANDARD
DTSTART:20250724T072410
TZOFFSETFROM:+0000
TZOFFSETTO:+0000
END:STANDARD
END:VTIMEZONE
BEGIN:VEVENT
UID:541D9693-BA5C-49F3-B354-186D1A701882-17-766_homereminder@64.badmintonne
 rs.net
DTSTAMP:20260420T072410Z
SUMMARY:Thuismatch ingevuld? (Waverse 1H (76) - Bacss 4H (68))
DESCRIPTION:Je hebt 36 uur na aanvang om een thuismatch op Badmintonvlaande
 ren in te vullen. Match info: Waverse 1H (76) - Bacss 4H (68) - Link: http
 s://www.badmintonvlaanderen.be/sport/teammatch.aspx?id=541D9693-BA5C-49F3-
 B354-186D1A701882&match=766
DTSTART;TZID=Europe/Brussels:20240917T020000
DTEND;TZID=Europe/Brussels:20240917T020000
END:VEVENT
BEGIN:VEVENT
UID:541D9693-BA5C-49F3-B354-186D1A701882-17-771_homereminder@64.badmintonne
 rs.net
DTSTAMP:20260420T072410Z
SUMMARY:Thuismatch ingevuld? (Waverse 1H (76) - Merksplas 2H (69))
DESCRIPTION:Je hebt 36 uur na aanvang om een thuismatch op Badmintonvlaande
 ren in te vullen. Match info: Waverse 1H (76) - Merksplas 2H (69) - Link: 
 https://www.badmintonvlaanderen.be/sport/teammatch.aspx?id=541D9693-BA5C-4
 9F3-B354-186D1A701882&match=771
DTSTART;TZID=Europe/Brussels:20241029T020000
DTEND;TZID=Europe/Brussels:20241029T020000
END:VEVENT
BEGIN:VEVENT
UID:541D9693-BA5C-49F3-B354-186D1A701882-17-756_homereminder@64.badmintonne
 rs.net
DTSTAMP:20260420T072410Z
SUMMARY:Thuismatch ingevuld? (Waverse 1H (76) - Klein Boom 3H (68))
DESCRIPTION:Je hebt 36 uur na aanvang om een thuismatch op Badmintonvlaande
 ren in te vullen. Match info: Waverse 1H (76) - Klein Boom 3H (68) - Link:
  https://www.badmintonvlaanderen.be/sport/teammatch.aspx?id=541D9693-BA5C-
 49F3-B354-186D1A701882&match=756
DTSTART;TZID=Europe/Brussels:20250218T020000
DTEND;TZID=Europe/Brussels:20250218T020000
END:VEVENT
BEGIN:VEVENT
UID:541D9693-BA5C-49F3-B354-186D1A701882-17-751_homereminder@64.badmintonne
 rs.net
DTSTAMP:20260420T072410Z
SUMMARY:Thuismatch ingevuld? (Waverse 1H (76) - Spinshuttle 3H (65))
DESCRIPTION:Je hebt 36 uur na aanvang om een thuismatch op Badmintonvlaande
 ren in te vullen. Match info: Waverse 1H (76) - Spinshuttle 3H (65) - Link
 : https://www.badmintonvlaanderen.be/sport/teammatch.aspx?id=541D9693-BA5C
 -49F3-B354-186D1A701882&match=751
DTSTART;TZID=Europe/Brussels:20250311T020000
DTEND;TZID=Europe/Brussels:20250311T020000
END:VEVENT
BEGIN:VEVENT
UID:541D9693-BA5C-49F3-B354-186D1A701882-17-761_homereminder@64.badmintonne
 rs.net
DTSTAMP:20260420T072410Z
SUMMARY:Thuismatch ingevuld? (Waverse 1H (76) - De Pluim 3H (79))
DESCRIPTION:Je hebt 36 uur na aanvang om een thuismatch op Badmintonvlaande
 ren in te vullen. Match info: Waverse 1H (76) - De Pluim 3H (79) - Link: h
 ttps://www.badmintonvlaanderen.be/sport/teammatch.aspx?id=541D9693-BA5C-49
 F3-B354-186D1A701882&match=761
DTSTART;TZID=Europe/Brussels:20250401T020000
DTEND;TZID=Europe/Brussels:20250401T020000
END:VEVENT
BEGIN:VEVENT
UID:541D9693-BA5C-49F3-B354-186D1A701882-17-773_awayreminder@64.badmintonne
 rs.net
DTSTAMP:20260420T072410Z
SUMMARY:Uitmatch bevestigd? (Klein Boom 3H (68) - Waverse 1H (76))
DESCRIPTION:Je hebt 72 uur na aanvang om een uitmatch op Badmintonvlaandere
 n in te vullen. Match info: Klein Boom 3H (68) - Waverse 1H (76) - Link: h
 ttps://www.badmintonvlaanderen.be/sport/teammatch.aspx?id=541D9693-BA5C-49
 F3-B354-186D1A701882&match=773
DTSTART;TZID=Europe/Brussels:20241002T190000
DTEND;TZID=Europe/Brussels:20241002T190000
END:VEVENT
BEGIN:VEVENT
UID:541D9693-BA5C-49F3-B354-186D1A701882-17-772_awayreminder@64.badmintonne
 rs.net
DTSTAMP:20260420T072410Z
SUMMARY:Uitmatch bevestigd? (Spinshuttle 3H (65) - Waverse 1H (76))
DESCRIPTION:Je hebt 72 uur na aanvang om een uitmatch op Badmintonvlaandere
 n in te vullen. Match info: Spinshuttle 3H (65) - Waverse 1H (76) - Link: 
 https://www.badmintonvlaanderen.be/sport/teammatch.aspx?id=541D9693-BA5C-4
 9F3-B354-186D1A701882&match=772
DTSTART;TZID=Europe/Brussels:20241101T200000
DTEND;TZID=Europe/Brussels:20241101T200000
END:VEVENT
BEGIN:VEVENT
UID:541D9693-BA5C-49F3-B354-186D1A701882-17-774_awayreminder@64.badmintonne
 rs.net
DTSTAMP:20260420T072410Z
SUMMARY:Uitmatch bevestigd? (De Pluim 3H (79) - Waverse 1H (76))
DESCRIPTION:Je hebt 72 uur na aanvang om een uitmatch op Badmintonvlaandere
 n in te vullen. Match info: De Pluim 3H (79) - Waverse 1H (76) - Link: htt
 ps://www.badmintonvlaanderen.be/sport/teammatch.aspx?id=541D9693-BA5C-49F3
 -B354-186D1A701882&match=774
DTSTART;TZID=Europe/Brussels:20241127T181500
DTEND;TZID=Europe/Brussels:20241127T181500
END:VEVENT
BEGIN:VEVENT
UID:541D9693-BA5C-49F3-B354-186D1A701882-17-775_awayreminder@64.badmintonne
 rs.net
DTSTAMP:20260420T072410Z
SUMMARY:Uitmatch bevestigd? (Bacss 4H (68) - Waverse 1H (76))
DESCRIPTION:Je hebt 72 uur na aanvang om een uitmatch op Badmintonvlaandere
 n in te vullen. Match info: Bacss 4H (68) - Waverse 1H (76) - Link: https:
 //www.badmintonvlaanderen.be/sport/teammatch.aspx?id=541D9693-BA5C-49F3-B3
 54-186D1A701882&match=775
DTSTART;TZID=Europe/Brussels:20250331T211500
DTEND;TZID=Europe/Brussels:20250331T211500
END:VEVENT
BEGIN:VEVENT
UID:541D9693-BA5C-49F3-B354-186D1A701882-17-776_awayreminder@64.badmintonne
 rs.net
DTSTAMP:20260420T072410Z
SUMMARY:Uitmatch bevestigd? (Merksplas 2H (69) - Waverse 1H (76))
DESCRIPTION:Je hebt 72 uur na aanvang om een uitmatch op Badmintonvlaandere
 n in te vullen. Match info: Merksplas 2H (69) - Waverse 1H (76) - Link: ht
 tps://www.badmintonvlaanderen.be/sport/teammatch.aspx?id=541D9693-BA5C-49F
 3-B354-186D1A701882&match=776
DTSTART;TZID=Europe/Brussels:20250430T183000
DTEND;TZID=Europe/Brussels:20250430T183000
END:VEVENT
END:VCALENDAR