BEGIN:VCALENDAR
VERSION:2.0
PRODID:spatie/icalendar-generator
NAME:merksplas_2h_69_reminders
X-WR-CALNAME:merksplas_2h_69_reminders
BEGIN:VTIMEZONE
TZID:Europe/Brussels
BEGIN:DAYLIGHT
DTSTART:20240331T010000
TZOFFSETFROM:+0100
TZOFFSETTO:+0200
END:DAYLIGHT
BEGIN:STANDARD
DTSTART:20241027T030000
TZOFFSETFROM:+0200
TZOFFSETTO:+0100
END:STANDARD
BEGIN:DAYLIGHT
DTSTART:20250330T010000
TZOFFSETFROM:+0100
TZOFFSETTO:+0200
END:DAYLIGHT
BEGIN:STANDARD
DTSTART:20251026T030000
TZOFFSETFROM:+0200
TZOFFSETTO:+0100
END:STANDARD
END:VTIMEZONE
BEGIN:VTIMEZONE
TZID:UTC
BEGIN:STANDARD
DTSTART:20250724T055128
TZOFFSETFROM:+0000
TZOFFSETTO:+0000
END:STANDARD
END:VTIMEZONE
BEGIN:VEVENT
UID:541D9693-BA5C-49F3-B354-186D1A701882-17-760_homereminder@65.badmintonne
 rs.net
DTSTAMP:20260420T055128Z
SUMMARY:Thuismatch ingevuld? (Merksplas 2H (69) - De Pluim 3H (79))
DESCRIPTION:Je hebt 36 uur na aanvang om een thuismatch op Badmintonvlaande
 ren in te vullen. Match info: Merksplas 2H (69) - De Pluim 3H (79) - Link:
  https://www.badmintonvlaanderen.be/sport/teammatch.aspx?id=541D9693-BA5C-
 49F3-B354-186D1A701882&match=760
DTSTART;TZID=Europe/Brussels:20240917T063000
DTEND;TZID=Europe/Brussels:20240917T063000
END:VEVENT
BEGIN:VEVENT
UID:541D9693-BA5C-49F3-B354-186D1A701882-17-750_homereminder@65.badmintonne
 rs.net
DTSTAMP:20260420T055128Z
SUMMARY:Thuismatch ingevuld? (Merksplas 2H (69) - Spinshuttle 3H (65))
DESCRIPTION:Je hebt 36 uur na aanvang om een thuismatch op Badmintonvlaande
 ren in te vullen. Match info: Merksplas 2H (69) - Spinshuttle 3H (65) - Li
 nk: https://www.badmintonvlaanderen.be/sport/teammatch.aspx?id=541D9693-BA
 5C-49F3-B354-186D1A701882&match=750
DTSTART;TZID=Europe/Brussels:20241112T063000
DTEND;TZID=Europe/Brussels:20241112T063000
END:VEVENT
BEGIN:VEVENT
UID:541D9693-BA5C-49F3-B354-186D1A701882-17-755_homereminder@65.badmintonne
 rs.net
DTSTAMP:20260420T055128Z
SUMMARY:Thuismatch ingevuld? (Merksplas 2H (69) - Klein Boom 3H (68))
DESCRIPTION:Je hebt 36 uur na aanvang om een thuismatch op Badmintonvlaande
 ren in te vullen. Match info: Merksplas 2H (69) - Klein Boom 3H (68) - Lin
 k: https://www.badmintonvlaanderen.be/sport/teammatch.aspx?id=541D9693-BA5
 C-49F3-B354-186D1A701882&match=755
DTSTART;TZID=Europe/Brussels:20250107T063000
DTEND;TZID=Europe/Brussels:20250107T063000
END:VEVENT
BEGIN:VEVENT
UID:541D9693-BA5C-49F3-B354-186D1A701882-17-765_homereminder@65.badmintonne
 rs.net
DTSTAMP:20260420T055128Z
SUMMARY:Thuismatch ingevuld? (Merksplas 2H (69) - Bacss 4H (68))
DESCRIPTION:Je hebt 36 uur na aanvang om een thuismatch op Badmintonvlaande
 ren in te vullen. Match info: Merksplas 2H (69) - Bacss 4H (68) - Link: ht
 tps://www.badmintonvlaanderen.be/sport/teammatch.aspx?id=541D9693-BA5C-49F
 3-B354-186D1A701882&match=765
DTSTART;TZID=Europe/Brussels:20250304T063000
DTEND;TZID=Europe/Brussels:20250304T063000
END:VEVENT
BEGIN:VEVENT
UID:541D9693-BA5C-49F3-B354-186D1A701882-17-776_homereminder@65.badmintonne
 rs.net
DTSTAMP:20260420T055128Z
SUMMARY:Thuismatch ingevuld? (Merksplas 2H (69) - Waverse 1H (76))
DESCRIPTION:Je hebt 36 uur na aanvang om een thuismatch op Badmintonvlaande
 ren in te vullen. Match info: Merksplas 2H (69) - Waverse 1H (76) - Link: 
 https://www.badmintonvlaanderen.be/sport/teammatch.aspx?id=541D9693-BA5C-4
 9F3-B354-186D1A701882&match=776
DTSTART;TZID=Europe/Brussels:20250429T063000
DTEND;TZID=Europe/Brussels:20250429T063000
END:VEVENT
BEGIN:VEVENT
UID:541D9693-BA5C-49F3-B354-186D1A701882-17-770_awayreminder@65.badmintonne
 rs.net
DTSTAMP:20260420T055128Z
SUMMARY:Uitmatch bevestigd? (Bacss 4H (68) - Merksplas 2H (69))
DESCRIPTION:Je hebt 72 uur na aanvang om een uitmatch op Badmintonvlaandere
 n in te vullen. Match info: Bacss 4H (68) - Merksplas 2H (69) - Link: http
 s://www.badmintonvlaanderen.be/sport/teammatch.aspx?id=541D9693-BA5C-49F3-
 B354-186D1A701882&match=770
DTSTART;TZID=Europe/Brussels:20241002T100000
DTEND;TZID=Europe/Brussels:20241002T100000
END:VEVENT
BEGIN:VEVENT
UID:541D9693-BA5C-49F3-B354-186D1A701882-17-771_awayreminder@65.badmintonne
 rs.net
DTSTAMP:20260420T055128Z
SUMMARY:Uitmatch bevestigd? (Waverse 1H (76) - Merksplas 2H (69))
DESCRIPTION:Je hebt 72 uur na aanvang om een uitmatch op Badmintonvlaandere
 n in te vullen. Match info: Waverse 1H (76) - Merksplas 2H (69) - Link: ht
 tps://www.badmintonvlaanderen.be/sport/teammatch.aspx?id=541D9693-BA5C-49F
 3-B354-186D1A701882&match=771
DTSTART;TZID=Europe/Brussels:20241030T140000
DTEND;TZID=Europe/Brussels:20241030T140000
END:VEVENT
BEGIN:VEVENT
UID:541D9693-BA5C-49F3-B354-186D1A701882-17-768_awayreminder@65.badmintonne
 rs.net
DTSTAMP:20260420T055128Z
SUMMARY:Uitmatch bevestigd? (Klein Boom 3H (68) - Merksplas 2H (69))
DESCRIPTION:Je hebt 72 uur na aanvang om een uitmatch op Badmintonvlaandere
 n in te vullen. Match info: Klein Boom 3H (68) - Merksplas 2H (69) - Link:
  https://www.badmintonvlaanderen.be/sport/teammatch.aspx?id=541D9693-BA5C-
 49F3-B354-186D1A701882&match=768
DTSTART;TZID=Europe/Brussels:20241211T190000
DTEND;TZID=Europe/Brussels:20241211T190000
END:VEVENT
BEGIN:VEVENT
UID:541D9693-BA5C-49F3-B354-186D1A701882-17-769_awayreminder@65.badmintonne
 rs.net
DTSTAMP:20260420T055128Z
SUMMARY:Uitmatch bevestigd? (De Pluim 3H (79) - Merksplas 2H (69))
DESCRIPTION:Je hebt 72 uur na aanvang om een uitmatch op Badmintonvlaandere
 n in te vullen. Match info: De Pluim 3H (79) - Merksplas 2H (69) - Link: h
 ttps://www.badmintonvlaanderen.be/sport/teammatch.aspx?id=541D9693-BA5C-49
 F3-B354-186D1A701882&match=769
DTSTART;TZID=Europe/Brussels:20250205T181500
DTEND;TZID=Europe/Brussels:20250205T181500
END:VEVENT
BEGIN:VEVENT
UID:541D9693-BA5C-49F3-B354-186D1A701882-17-767_awayreminder@65.badmintonne
 rs.net
DTSTAMP:20260420T055128Z
SUMMARY:Uitmatch bevestigd? (Spinshuttle 3H (65) - Merksplas 2H (69))
DESCRIPTION:Je hebt 72 uur na aanvang om een uitmatch op Badmintonvlaandere
 n in te vullen. Match info: Spinshuttle 3H (65) - Merksplas 2H (69) - Link
 : https://www.badmintonvlaanderen.be/sport/teammatch.aspx?id=541D9693-BA5C
 -49F3-B354-186D1A701882&match=767
DTSTART;TZID=Europe/Brussels:20250314T200000
DTEND;TZID=Europe/Brussels:20250314T200000
END:VEVENT
END:VCALENDAR