BEGIN:VCALENDAR
VERSION:2.0
PRODID:spatie/icalendar-generator
NAME:bacss_4h_68_reminders
X-WR-CALNAME:bacss_4h_68_reminders
BEGIN:VTIMEZONE
TZID:Europe/Brussels
BEGIN:DAYLIGHT
DTSTART:20240331T010000
TZOFFSETFROM:+0100
TZOFFSETTO:+0200
END:DAYLIGHT
BEGIN:STANDARD
DTSTART:20241027T030000
TZOFFSETFROM:+0200
TZOFFSETTO:+0100
END:STANDARD
BEGIN:DAYLIGHT
DTSTART:20250330T010000
TZOFFSETFROM:+0100
TZOFFSETTO:+0200
END:DAYLIGHT
BEGIN:STANDARD
DTSTART:20251026T030000
TZOFFSETFROM:+0200
TZOFFSETTO:+0100
END:STANDARD
END:VTIMEZONE
BEGIN:VTIMEZONE
TZID:UTC
BEGIN:STANDARD
DTSTART:20250724T072435
TZOFFSETFROM:+0000
TZOFFSETTO:+0000
END:STANDARD
END:VTIMEZONE
BEGIN:VEVENT
UID:541D9693-BA5C-49F3-B354-186D1A701882-17-770_homereminder@66.badmintonne
 rs.net
DTSTAMP:20260420T072435Z
SUMMARY:Thuismatch ingevuld? (Bacss 4H (68) - Merksplas 2H (69))
DESCRIPTION:Je hebt 36 uur na aanvang om een thuismatch op Badmintonvlaande
 ren in te vullen. Match info: Bacss 4H (68) - Merksplas 2H (69) - Link: ht
 tps://www.badmintonvlaanderen.be/sport/teammatch.aspx?id=541D9693-BA5C-49F
 3-B354-186D1A701882&match=770
DTSTART;TZID=Europe/Brussels:20240930T220000
DTEND;TZID=Europe/Brussels:20240930T220000
END:VEVENT
BEGIN:VEVENT
UID:541D9693-BA5C-49F3-B354-186D1A701882-17-754_homereminder@66.badmintonne
 rs.net
DTSTAMP:20260420T072435Z
SUMMARY:Thuismatch ingevuld? (Bacss 4H (68) - Klein Boom 3H (68))
DESCRIPTION:Je hebt 36 uur na aanvang om een thuismatch op Badmintonvlaande
 ren in te vullen. Match info: Bacss 4H (68) - Klein Boom 3H (68) - Link: h
 ttps://www.badmintonvlaanderen.be/sport/teammatch.aspx?id=541D9693-BA5C-49
 F3-B354-186D1A701882&match=754
DTSTART;TZID=Europe/Brussels:20241125T220000
DTEND;TZID=Europe/Brussels:20241125T220000
END:VEVENT
BEGIN:VEVENT
UID:541D9693-BA5C-49F3-B354-186D1A701882-17-759_homereminder@66.badmintonne
 rs.net
DTSTAMP:20260420T072435Z
SUMMARY:Thuismatch ingevuld? (Bacss 4H (68) - De Pluim 3H (79))
DESCRIPTION:Je hebt 36 uur na aanvang om een thuismatch op Badmintonvlaande
 ren in te vullen. Match info: Bacss 4H (68) - De Pluim 3H (79) - Link: htt
 ps://www.badmintonvlaanderen.be/sport/teammatch.aspx?id=541D9693-BA5C-49F3
 -B354-186D1A701882&match=759
DTSTART;TZID=Europe/Brussels:20250106T220000
DTEND;TZID=Europe/Brussels:20250106T220000
END:VEVENT
BEGIN:VEVENT
UID:541D9693-BA5C-49F3-B354-186D1A701882-17-775_homereminder@66.badmintonne
 rs.net
DTSTAMP:20260420T072435Z
SUMMARY:Thuismatch ingevuld? (Bacss 4H (68) - Waverse 1H (76))
DESCRIPTION:Je hebt 36 uur na aanvang om een thuismatch op Badmintonvlaande
 ren in te vullen. Match info: Bacss 4H (68) - Waverse 1H (76) - Link: http
 s://www.badmintonvlaanderen.be/sport/teammatch.aspx?id=541D9693-BA5C-49F3-
 B354-186D1A701882&match=775
DTSTART;TZID=Europe/Brussels:20250330T091500
DTEND;TZID=Europe/Brussels:20250330T091500
END:VEVENT
BEGIN:VEVENT
UID:541D9693-BA5C-49F3-B354-186D1A701882-17-749_homereminder@66.badmintonne
 rs.net
DTSTAMP:20260420T072435Z
SUMMARY:Thuismatch ingevuld? (Bacss 4H (68) - Spinshuttle 3H (65))
DESCRIPTION:Je hebt 36 uur na aanvang om een thuismatch op Badmintonvlaande
 ren in te vullen. Match info: Bacss 4H (68) - Spinshuttle 3H (65) - Link: 
 https://www.badmintonvlaanderen.be/sport/teammatch.aspx?id=541D9693-BA5C-4
 9F3-B354-186D1A701882&match=749
DTSTART;TZID=Europe/Brussels:20250428T220000
DTEND;TZID=Europe/Brussels:20250428T220000
END:VEVENT
BEGIN:VEVENT
UID:541D9693-BA5C-49F3-B354-186D1A701882-17-766_awayreminder@66.badmintonne
 rs.net
DTSTAMP:20260420T072435Z
SUMMARY:Uitmatch bevestigd? (Waverse 1H (76) - Bacss 4H (68))
DESCRIPTION:Je hebt 72 uur na aanvang om een uitmatch op Badmintonvlaandere
 n in te vullen. Match info: Waverse 1H (76) - Bacss 4H (68) - Link: https:
 //www.badmintonvlaanderen.be/sport/teammatch.aspx?id=541D9693-BA5C-49F3-B3
 54-186D1A701882&match=766
DTSTART;TZID=Europe/Brussels:20240918T140000
DTEND;TZID=Europe/Brussels:20240918T140000
END:VEVENT
BEGIN:VEVENT
UID:541D9693-BA5C-49F3-B354-186D1A701882-17-762_awayreminder@66.badmintonne
 rs.net
DTSTAMP:20260420T072435Z
SUMMARY:Uitmatch bevestigd? (Spinshuttle 3H (65) - Bacss 4H (68))
DESCRIPTION:Je hebt 72 uur na aanvang om een uitmatch op Badmintonvlaandere
 n in te vullen. Match info: Spinshuttle 3H (65) - Bacss 4H (68) - Link: ht
 tps://www.badmintonvlaanderen.be/sport/teammatch.aspx?id=541D9693-BA5C-49F
 3-B354-186D1A701882&match=762
DTSTART;TZID=Europe/Brussels:20241011T200000
DTEND;TZID=Europe/Brussels:20241011T200000
END:VEVENT
BEGIN:VEVENT
UID:541D9693-BA5C-49F3-B354-186D1A701882-17-764_awayreminder@66.badmintonne
 rs.net
DTSTAMP:20260420T072435Z
SUMMARY:Uitmatch bevestigd? (De Pluim 3H (79) - Bacss 4H (68))
DESCRIPTION:Je hebt 72 uur na aanvang om een uitmatch op Badmintonvlaandere
 n in te vullen. Match info: De Pluim 3H (79) - Bacss 4H (68) - Link: https
 ://www.badmintonvlaanderen.be/sport/teammatch.aspx?id=541D9693-BA5C-49F3-B
 354-186D1A701882&match=764
DTSTART;TZID=Europe/Brussels:20241211T181500
DTEND;TZID=Europe/Brussels:20241211T181500
END:VEVENT
BEGIN:VEVENT
UID:541D9693-BA5C-49F3-B354-186D1A701882-17-765_awayreminder@66.badmintonne
 rs.net
DTSTAMP:20260420T072435Z
SUMMARY:Uitmatch bevestigd? (Merksplas 2H (69) - Bacss 4H (68))
DESCRIPTION:Je hebt 72 uur na aanvang om een uitmatch op Badmintonvlaandere
 n in te vullen. Match info: Merksplas 2H (69) - Bacss 4H (68) - Link: http
 s://www.badmintonvlaanderen.be/sport/teammatch.aspx?id=541D9693-BA5C-49F3-
 B354-186D1A701882&match=765
DTSTART;TZID=Europe/Brussels:20250305T183000
DTEND;TZID=Europe/Brussels:20250305T183000
END:VEVENT
BEGIN:VEVENT
UID:541D9693-BA5C-49F3-B354-186D1A701882-17-763_awayreminder@66.badmintonne
 rs.net
DTSTAMP:20260420T072435Z
SUMMARY:Uitmatch bevestigd? (Klein Boom 3H (68) - Bacss 4H (68))
DESCRIPTION:Je hebt 72 uur na aanvang om een uitmatch op Badmintonvlaandere
 n in te vullen. Match info: Klein Boom 3H (68) - Bacss 4H (68) - Link: htt
 ps://www.badmintonvlaanderen.be/sport/teammatch.aspx?id=541D9693-BA5C-49F3
 -B354-186D1A701882&match=763
DTSTART;TZID=Europe/Brussels:20250402T190000
DTEND;TZID=Europe/Brussels:20250402T190000
END:VEVENT
END:VCALENDAR