BEGIN:VCALENDAR
VERSION:2.0
PRODID:spatie/icalendar-generator
NAME:klein_boom_3h_68_reminders
X-WR-CALNAME:klein_boom_3h_68_reminders
BEGIN:VTIMEZONE
TZID:Europe/Brussels
BEGIN:DAYLIGHT
DTSTART:20240331T010000
TZOFFSETFROM:+0100
TZOFFSETTO:+0200
END:DAYLIGHT
BEGIN:STANDARD
DTSTART:20241027T030000
TZOFFSETFROM:+0200
TZOFFSETTO:+0100
END:STANDARD
BEGIN:DAYLIGHT
DTSTART:20250330T010000
TZOFFSETFROM:+0100
TZOFFSETTO:+0200
END:DAYLIGHT
END:VTIMEZONE
BEGIN:VTIMEZONE
TZID:UTC
BEGIN:STANDARD
DTSTART:20250724T072410
TZOFFSETFROM:+0000
TZOFFSETTO:+0000
END:STANDARD
END:VTIMEZONE
BEGIN:VEVENT
UID:541D9693-BA5C-49F3-B354-186D1A701882-17-773_homereminder@71.badmintonne
 rs.net
DTSTAMP:20260420T072410Z
SUMMARY:Thuismatch ingevuld? (Klein Boom 3H (68) - Waverse 1H (76))
DESCRIPTION:Je hebt 36 uur na aanvang om een thuismatch op Badmintonvlaande
 ren in te vullen. Match info: Klein Boom 3H (68) - Waverse 1H (76) - Link:
  https://www.badmintonvlaanderen.be/sport/teammatch.aspx?id=541D9693-BA5C-
 49F3-B354-186D1A701882&match=773
DTSTART;TZID=Europe/Brussels:20241001T070000
DTEND;TZID=Europe/Brussels:20241001T070000
END:VEVENT
BEGIN:VEVENT
UID:541D9693-BA5C-49F3-B354-186D1A701882-17-758_homereminder@71.badmintonne
 rs.net
DTSTAMP:20260420T072410Z
SUMMARY:Thuismatch ingevuld? (Klein Boom 3H (68) - De Pluim 3H (79))
DESCRIPTION:Je hebt 36 uur na aanvang om een thuismatch op Badmintonvlaande
 ren in te vullen. Match info: Klein Boom 3H (68) - De Pluim 3H (79) - Link
 : https://www.badmintonvlaanderen.be/sport/teammatch.aspx?id=541D9693-BA5C
 -49F3-B354-186D1A701882&match=758
DTSTART;TZID=Europe/Brussels:20241029T070000
DTEND;TZID=Europe/Brussels:20241029T070000
END:VEVENT
BEGIN:VEVENT
UID:541D9693-BA5C-49F3-B354-186D1A701882-17-768_homereminder@71.badmintonne
 rs.net
DTSTAMP:20260420T072410Z
SUMMARY:Thuismatch ingevuld? (Klein Boom 3H (68) - Merksplas 2H (69))
DESCRIPTION:Je hebt 36 uur na aanvang om een thuismatch op Badmintonvlaande
 ren in te vullen. Match info: Klein Boom 3H (68) - Merksplas 2H (69) - Lin
 k: https://www.badmintonvlaanderen.be/sport/teammatch.aspx?id=541D9693-BA5
 C-49F3-B354-186D1A701882&match=768
DTSTART;TZID=Europe/Brussels:20241210T070000
DTEND;TZID=Europe/Brussels:20241210T070000
END:VEVENT
BEGIN:VEVENT
UID:541D9693-BA5C-49F3-B354-186D1A701882-17-747_homereminder@71.badmintonne
 rs.net
DTSTAMP:20260420T072410Z
SUMMARY:Thuismatch ingevuld? (Klein Boom 3H (68) - Spinshuttle 3H (65))
DESCRIPTION:Je hebt 36 uur na aanvang om een thuismatch op Badmintonvlaande
 ren in te vullen. Match info: Klein Boom 3H (68) - Spinshuttle 3H (65) - L
 ink: https://www.badmintonvlaanderen.be/sport/teammatch.aspx?id=541D9693-B
 A5C-49F3-B354-186D1A701882&match=747
DTSTART;TZID=Europe/Brussels:20250121T070000
DTEND;TZID=Europe/Brussels:20250121T070000
END:VEVENT
BEGIN:VEVENT
UID:541D9693-BA5C-49F3-B354-186D1A701882-17-763_homereminder@71.badmintonne
 rs.net
DTSTAMP:20260420T072410Z
SUMMARY:Thuismatch ingevuld? (Klein Boom 3H (68) - Bacss 4H (68))
DESCRIPTION:Je hebt 36 uur na aanvang om een thuismatch op Badmintonvlaande
 ren in te vullen. Match info: Klein Boom 3H (68) - Bacss 4H (68) - Link: h
 ttps://www.badmintonvlaanderen.be/sport/teammatch.aspx?id=541D9693-BA5C-49
 F3-B354-186D1A701882&match=763
DTSTART;TZID=Europe/Brussels:20250401T070000
DTEND;TZID=Europe/Brussels:20250401T070000
END:VEVENT
BEGIN:VEVENT
UID:541D9693-BA5C-49F3-B354-186D1A701882-17-752_awayreminder@71.badmintonne
 rs.net
DTSTAMP:20260420T072410Z
SUMMARY:Uitmatch bevestigd? (Spinshuttle 3H (65) - Klein Boom 3H (68))
DESCRIPTION:Je hebt 72 uur na aanvang om een uitmatch op Badmintonvlaandere
 n in te vullen. Match info: Spinshuttle 3H (65) - Klein Boom 3H (68) - Lin
 k: https://www.badmintonvlaanderen.be/sport/teammatch.aspx?id=541D9693-BA5
 C-49F3-B354-186D1A701882&match=752
DTSTART;TZID=Europe/Brussels:20240913T200000
DTEND;TZID=Europe/Brussels:20240913T200000
END:VEVENT
BEGIN:VEVENT
UID:541D9693-BA5C-49F3-B354-186D1A701882-17-754_awayreminder@71.badmintonne
 rs.net
DTSTAMP:20260420T072410Z
SUMMARY:Uitmatch bevestigd? (Bacss 4H (68) - Klein Boom 3H (68))
DESCRIPTION:Je hebt 72 uur na aanvang om een uitmatch op Badmintonvlaandere
 n in te vullen. Match info: Bacss 4H (68) - Klein Boom 3H (68) - Link: htt
 ps://www.badmintonvlaanderen.be/sport/teammatch.aspx?id=541D9693-BA5C-49F3
 -B354-186D1A701882&match=754
DTSTART;TZID=Europe/Brussels:20241127T100000
DTEND;TZID=Europe/Brussels:20241127T100000
END:VEVENT
BEGIN:VEVENT
UID:541D9693-BA5C-49F3-B354-186D1A701882-17-755_awayreminder@71.badmintonne
 rs.net
DTSTAMP:20260420T072410Z
SUMMARY:Uitmatch bevestigd? (Merksplas 2H (69) - Klein Boom 3H (68))
DESCRIPTION:Je hebt 72 uur na aanvang om een uitmatch op Badmintonvlaandere
 n in te vullen. Match info: Merksplas 2H (69) - Klein Boom 3H (68) - Link:
  https://www.badmintonvlaanderen.be/sport/teammatch.aspx?id=541D9693-BA5C-
 49F3-B354-186D1A701882&match=755
DTSTART;TZID=Europe/Brussels:20250108T183000
DTEND;TZID=Europe/Brussels:20250108T183000
END:VEVENT
BEGIN:VEVENT
UID:541D9693-BA5C-49F3-B354-186D1A701882-17-756_awayreminder@71.badmintonne
 rs.net
DTSTAMP:20260420T072410Z
SUMMARY:Uitmatch bevestigd? (Waverse 1H (76) - Klein Boom 3H (68))
DESCRIPTION:Je hebt 72 uur na aanvang om een uitmatch op Badmintonvlaandere
 n in te vullen. Match info: Waverse 1H (76) - Klein Boom 3H (68) - Link: h
 ttps://www.badmintonvlaanderen.be/sport/teammatch.aspx?id=541D9693-BA5C-49
 F3-B354-186D1A701882&match=756
DTSTART;TZID=Europe/Brussels:20250219T140000
DTEND;TZID=Europe/Brussels:20250219T140000
END:VEVENT
BEGIN:VEVENT
UID:541D9693-BA5C-49F3-B354-186D1A701882-17-753_awayreminder@71.badmintonne
 rs.net
DTSTAMP:20260420T072410Z
SUMMARY:Uitmatch bevestigd? (De Pluim 3H (79) - Klein Boom 3H (68))
DESCRIPTION:Je hebt 72 uur na aanvang om een uitmatch op Badmintonvlaandere
 n in te vullen. Match info: De Pluim 3H (79) - Klein Boom 3H (68) - Link: 
 https://www.badmintonvlaanderen.be/sport/teammatch.aspx?id=541D9693-BA5C-4
 9F3-B354-186D1A701882&match=753
DTSTART;TZID=Europe/Brussels:20250416T181500
DTEND;TZID=Europe/Brussels:20250416T181500
END:VEVENT
END:VCALENDAR