BEGIN:VCALENDAR
VERSION:2.0
PRODID:spatie/icalendar-generator
NAME:de_pluim_3h_79_reminders
X-WR-CALNAME:de_pluim_3h_79_reminders
BEGIN:VTIMEZONE
TZID:Europe/Brussels
BEGIN:DAYLIGHT
DTSTART:20240331T010000
TZOFFSETFROM:+0100
TZOFFSETTO:+0200
END:DAYLIGHT
BEGIN:STANDARD
DTSTART:20241027T030000
TZOFFSETFROM:+0200
TZOFFSETTO:+0100
END:STANDARD
BEGIN:DAYLIGHT
DTSTART:20250330T010000
TZOFFSETFROM:+0100
TZOFFSETTO:+0200
END:DAYLIGHT
END:VTIMEZONE
BEGIN:VTIMEZONE
TZID:UTC
BEGIN:STANDARD
DTSTART:20250724T072410
TZOFFSETFROM:+0000
TZOFFSETTO:+0000
END:STANDARD
END:VTIMEZONE
BEGIN:VEVENT
UID:541D9693-BA5C-49F3-B354-186D1A701882-17-748_homereminder@75.badmintonne
 rs.net
DTSTAMP:20260420T072410Z
SUMMARY:Thuismatch ingevuld? (De Pluim 3H (79) - Spinshuttle 3H (65))
DESCRIPTION:Je hebt 36 uur na aanvang om een thuismatch op Badmintonvlaande
 ren in te vullen. Match info: De Pluim 3H (79) - Spinshuttle 3H (65) - Lin
 k: https://www.badmintonvlaanderen.be/sport/teammatch.aspx?id=541D9693-BA5
 C-49F3-B354-186D1A701882&match=748
DTSTART;TZID=Europe/Brussels:20240925T080000
DTEND;TZID=Europe/Brussels:20240925T080000
END:VEVENT
BEGIN:VEVENT
UID:541D9693-BA5C-49F3-B354-186D1A701882-17-774_homereminder@75.badmintonne
 rs.net
DTSTAMP:20260420T072410Z
SUMMARY:Thuismatch ingevuld? (De Pluim 3H (79) - Waverse 1H (76))
DESCRIPTION:Je hebt 36 uur na aanvang om een thuismatch op Badmintonvlaande
 ren in te vullen. Match info: De Pluim 3H (79) - Waverse 1H (76) - Link: h
 ttps://www.badmintonvlaanderen.be/sport/teammatch.aspx?id=541D9693-BA5C-49
 F3-B354-186D1A701882&match=774
DTSTART;TZID=Europe/Brussels:20241126T061500
DTEND;TZID=Europe/Brussels:20241126T061500
END:VEVENT
BEGIN:VEVENT
UID:541D9693-BA5C-49F3-B354-186D1A701882-17-764_homereminder@75.badmintonne
 rs.net
DTSTAMP:20260420T072410Z
SUMMARY:Thuismatch ingevuld? (De Pluim 3H (79) - Bacss 4H (68))
DESCRIPTION:Je hebt 36 uur na aanvang om een thuismatch op Badmintonvlaande
 ren in te vullen. Match info: De Pluim 3H (79) - Bacss 4H (68) - Link: htt
 ps://www.badmintonvlaanderen.be/sport/teammatch.aspx?id=541D9693-BA5C-49F3
 -B354-186D1A701882&match=764
DTSTART;TZID=Europe/Brussels:20241210T061500
DTEND;TZID=Europe/Brussels:20241210T061500
END:VEVENT
BEGIN:VEVENT
UID:541D9693-BA5C-49F3-B354-186D1A701882-17-769_homereminder@75.badmintonne
 rs.net
DTSTAMP:20260420T072410Z
SUMMARY:Thuismatch ingevuld? (De Pluim 3H (79) - Merksplas 2H (69))
DESCRIPTION:Je hebt 36 uur na aanvang om een thuismatch op Badmintonvlaande
 ren in te vullen. Match info: De Pluim 3H (79) - Merksplas 2H (69) - Link:
  https://www.badmintonvlaanderen.be/sport/teammatch.aspx?id=541D9693-BA5C-
 49F3-B354-186D1A701882&match=769
DTSTART;TZID=Europe/Brussels:20250204T061500
DTEND;TZID=Europe/Brussels:20250204T061500
END:VEVENT
BEGIN:VEVENT
UID:541D9693-BA5C-49F3-B354-186D1A701882-17-753_homereminder@75.badmintonne
 rs.net
DTSTAMP:20260420T072410Z
SUMMARY:Thuismatch ingevuld? (De Pluim 3H (79) - Klein Boom 3H (68))
DESCRIPTION:Je hebt 36 uur na aanvang om een thuismatch op Badmintonvlaande
 ren in te vullen. Match info: De Pluim 3H (79) - Klein Boom 3H (68) - Link
 : https://www.badmintonvlaanderen.be/sport/teammatch.aspx?id=541D9693-BA5C
 -49F3-B354-186D1A701882&match=753
DTSTART;TZID=Europe/Brussels:20250415T061500
DTEND;TZID=Europe/Brussels:20250415T061500
END:VEVENT
BEGIN:VEVENT
UID:541D9693-BA5C-49F3-B354-186D1A701882-17-760_awayreminder@75.badmintonne
 rs.net
DTSTAMP:20260420T072410Z
SUMMARY:Uitmatch bevestigd? (Merksplas 2H (69) - De Pluim 3H (79))
DESCRIPTION:Je hebt 72 uur na aanvang om een uitmatch op Badmintonvlaandere
 n in te vullen. Match info: Merksplas 2H (69) - De Pluim 3H (79) - Link: h
 ttps://www.badmintonvlaanderen.be/sport/teammatch.aspx?id=541D9693-BA5C-49
 F3-B354-186D1A701882&match=760
DTSTART;TZID=Europe/Brussels:20240918T183000
DTEND;TZID=Europe/Brussels:20240918T183000
END:VEVENT
BEGIN:VEVENT
UID:541D9693-BA5C-49F3-B354-186D1A701882-17-758_awayreminder@75.badmintonne
 rs.net
DTSTAMP:20260420T072410Z
SUMMARY:Uitmatch bevestigd? (Klein Boom 3H (68) - De Pluim 3H (79))
DESCRIPTION:Je hebt 72 uur na aanvang om een uitmatch op Badmintonvlaandere
 n in te vullen. Match info: Klein Boom 3H (68) - De Pluim 3H (79) - Link: 
 https://www.badmintonvlaanderen.be/sport/teammatch.aspx?id=541D9693-BA5C-4
 9F3-B354-186D1A701882&match=758
DTSTART;TZID=Europe/Brussels:20241030T190000
DTEND;TZID=Europe/Brussels:20241030T190000
END:VEVENT
BEGIN:VEVENT
UID:541D9693-BA5C-49F3-B354-186D1A701882-17-759_awayreminder@75.badmintonne
 rs.net
DTSTAMP:20260420T072410Z
SUMMARY:Uitmatch bevestigd? (Bacss 4H (68) - De Pluim 3H (79))
DESCRIPTION:Je hebt 72 uur na aanvang om een uitmatch op Badmintonvlaandere
 n in te vullen. Match info: Bacss 4H (68) - De Pluim 3H (79) - Link: https
 ://www.badmintonvlaanderen.be/sport/teammatch.aspx?id=541D9693-BA5C-49F3-B
 354-186D1A701882&match=759
DTSTART;TZID=Europe/Brussels:20250108T100000
DTEND;TZID=Europe/Brussels:20250108T100000
END:VEVENT
BEGIN:VEVENT
UID:541D9693-BA5C-49F3-B354-186D1A701882-17-757_awayreminder@75.badmintonne
 rs.net
DTSTAMP:20260420T072410Z
SUMMARY:Uitmatch bevestigd? (Spinshuttle 3H (65) - De Pluim 3H (79))
DESCRIPTION:Je hebt 72 uur na aanvang om een uitmatch op Badmintonvlaandere
 n in te vullen. Match info: Spinshuttle 3H (65) - De Pluim 3H (79) - Link:
  https://www.badmintonvlaanderen.be/sport/teammatch.aspx?id=541D9693-BA5C-
 49F3-B354-186D1A701882&match=757
DTSTART;TZID=Europe/Brussels:20250214T200000
DTEND;TZID=Europe/Brussels:20250214T200000
END:VEVENT
BEGIN:VEVENT
UID:541D9693-BA5C-49F3-B354-186D1A701882-17-761_awayreminder@75.badmintonne
 rs.net
DTSTAMP:20260420T072410Z
SUMMARY:Uitmatch bevestigd? (Waverse 1H (76) - De Pluim 3H (79))
DESCRIPTION:Je hebt 72 uur na aanvang om een uitmatch op Badmintonvlaandere
 n in te vullen. Match info: Waverse 1H (76) - De Pluim 3H (79) - Link: htt
 ps://www.badmintonvlaanderen.be/sport/teammatch.aspx?id=541D9693-BA5C-49F3
 -B354-186D1A701882&match=761
DTSTART;TZID=Europe/Brussels:20250402T140000
DTEND;TZID=Europe/Brussels:20250402T140000
END:VEVENT
END:VCALENDAR