BEGIN:VCALENDAR
VERSION:2.0
PRODID:spatie/icalendar-generator
NAME:spinshuttle_3h_65_reminders
X-WR-CALNAME:spinshuttle_3h_65_reminders
BEGIN:VTIMEZONE
TZID:Europe/Brussels
BEGIN:DAYLIGHT
DTSTART:20240331T010000
TZOFFSETFROM:+0100
TZOFFSETTO:+0200
END:DAYLIGHT
BEGIN:STANDARD
DTSTART:20241027T030000
TZOFFSETFROM:+0200
TZOFFSETTO:+0100
END:STANDARD
BEGIN:DAYLIGHT
DTSTART:20250330T010000
TZOFFSETFROM:+0100
TZOFFSETTO:+0200
END:DAYLIGHT
BEGIN:STANDARD
DTSTART:20251026T030000
TZOFFSETFROM:+0200
TZOFFSETTO:+0100
END:STANDARD
END:VTIMEZONE
BEGIN:VTIMEZONE
TZID:UTC
BEGIN:STANDARD
DTSTART:20250724T072406
TZOFFSETFROM:+0000
TZOFFSETTO:+0000
END:STANDARD
END:VTIMEZONE
BEGIN:VEVENT
UID:541D9693-BA5C-49F3-B354-186D1A701882-17-752_homereminder@78.badmintonne
 rs.net
DTSTAMP:20260420T072406Z
SUMMARY:Thuismatch ingevuld? (Spinshuttle 3H (65) - Klein Boom 3H (68))
DESCRIPTION:Je hebt 36 uur na aanvang om een thuismatch op Badmintonvlaande
 ren in te vullen. Match info: Spinshuttle 3H (65) - Klein Boom 3H (68) - L
 ink: https://www.badmintonvlaanderen.be/sport/teammatch.aspx?id=541D9693-B
 A5C-49F3-B354-186D1A701882&match=752
DTSTART;TZID=Europe/Brussels:20240912T080000
DTEND;TZID=Europe/Brussels:20240912T080000
END:VEVENT
BEGIN:VEVENT
UID:541D9693-BA5C-49F3-B354-186D1A701882-17-762_homereminder@78.badmintonne
 rs.net
DTSTAMP:20260420T072406Z
SUMMARY:Thuismatch ingevuld? (Spinshuttle 3H (65) - Bacss 4H (68))
DESCRIPTION:Je hebt 36 uur na aanvang om een thuismatch op Badmintonvlaande
 ren in te vullen. Match info: Spinshuttle 3H (65) - Bacss 4H (68) - Link: 
 https://www.badmintonvlaanderen.be/sport/teammatch.aspx?id=541D9693-BA5C-4
 9F3-B354-186D1A701882&match=762
DTSTART;TZID=Europe/Brussels:20241010T080000
DTEND;TZID=Europe/Brussels:20241010T080000
END:VEVENT
BEGIN:VEVENT
UID:541D9693-BA5C-49F3-B354-186D1A701882-17-772_homereminder@78.badmintonne
 rs.net
DTSTAMP:20260420T072406Z
SUMMARY:Thuismatch ingevuld? (Spinshuttle 3H (65) - Waverse 1H (76))
DESCRIPTION:Je hebt 36 uur na aanvang om een thuismatch op Badmintonvlaande
 ren in te vullen. Match info: Spinshuttle 3H (65) - Waverse 1H (76) - Link
 : https://www.badmintonvlaanderen.be/sport/teammatch.aspx?id=541D9693-BA5C
 -49F3-B354-186D1A701882&match=772
DTSTART;TZID=Europe/Brussels:20241031T080000
DTEND;TZID=Europe/Brussels:20241031T080000
END:VEVENT
BEGIN:VEVENT
UID:541D9693-BA5C-49F3-B354-186D1A701882-17-757_homereminder@78.badmintonne
 rs.net
DTSTAMP:20260420T072406Z
SUMMARY:Thuismatch ingevuld? (Spinshuttle 3H (65) - De Pluim 3H (79))
DESCRIPTION:Je hebt 36 uur na aanvang om een thuismatch op Badmintonvlaande
 ren in te vullen. Match info: Spinshuttle 3H (65) - De Pluim 3H (79) - Lin
 k: https://www.badmintonvlaanderen.be/sport/teammatch.aspx?id=541D9693-BA5
 C-49F3-B354-186D1A701882&match=757
DTSTART;TZID=Europe/Brussels:20250213T080000
DTEND;TZID=Europe/Brussels:20250213T080000
END:VEVENT
BEGIN:VEVENT
UID:541D9693-BA5C-49F3-B354-186D1A701882-17-767_homereminder@78.badmintonne
 rs.net
DTSTAMP:20260420T072406Z
SUMMARY:Thuismatch ingevuld? (Spinshuttle 3H (65) - Merksplas 2H (69))
DESCRIPTION:Je hebt 36 uur na aanvang om een thuismatch op Badmintonvlaande
 ren in te vullen. Match info: Spinshuttle 3H (65) - Merksplas 2H (69) - Li
 nk: https://www.badmintonvlaanderen.be/sport/teammatch.aspx?id=541D9693-BA
 5C-49F3-B354-186D1A701882&match=767
DTSTART;TZID=Europe/Brussels:20250313T080000
DTEND;TZID=Europe/Brussels:20250313T080000
END:VEVENT
BEGIN:VEVENT
UID:541D9693-BA5C-49F3-B354-186D1A701882-17-748_awayreminder@78.badmintonne
 rs.net
DTSTAMP:20260420T072406Z
SUMMARY:Uitmatch bevestigd? (De Pluim 3H (79) - Spinshuttle 3H (65))
DESCRIPTION:Je hebt 72 uur na aanvang om een uitmatch op Badmintonvlaandere
 n in te vullen. Match info: De Pluim 3H (79) - Spinshuttle 3H (65) - Link:
  https://www.badmintonvlaanderen.be/sport/teammatch.aspx?id=541D9693-BA5C-
 49F3-B354-186D1A701882&match=748
DTSTART;TZID=Europe/Brussels:20240926T200000
DTEND;TZID=Europe/Brussels:20240926T200000
END:VEVENT
BEGIN:VEVENT
UID:541D9693-BA5C-49F3-B354-186D1A701882-17-750_awayreminder@78.badmintonne
 rs.net
DTSTAMP:20260420T072406Z
SUMMARY:Uitmatch bevestigd? (Merksplas 2H (69) - Spinshuttle 3H (65))
DESCRIPTION:Je hebt 72 uur na aanvang om een uitmatch op Badmintonvlaandere
 n in te vullen. Match info: Merksplas 2H (69) - Spinshuttle 3H (65) - Link
 : https://www.badmintonvlaanderen.be/sport/teammatch.aspx?id=541D9693-BA5C
 -49F3-B354-186D1A701882&match=750
DTSTART;TZID=Europe/Brussels:20241113T183000
DTEND;TZID=Europe/Brussels:20241113T183000
END:VEVENT
BEGIN:VEVENT
UID:541D9693-BA5C-49F3-B354-186D1A701882-17-747_awayreminder@78.badmintonne
 rs.net
DTSTAMP:20260420T072406Z
SUMMARY:Uitmatch bevestigd? (Klein Boom 3H (68) - Spinshuttle 3H (65))
DESCRIPTION:Je hebt 72 uur na aanvang om een uitmatch op Badmintonvlaandere
 n in te vullen. Match info: Klein Boom 3H (68) - Spinshuttle 3H (65) - Lin
 k: https://www.badmintonvlaanderen.be/sport/teammatch.aspx?id=541D9693-BA5
 C-49F3-B354-186D1A701882&match=747
DTSTART;TZID=Europe/Brussels:20250122T190000
DTEND;TZID=Europe/Brussels:20250122T190000
END:VEVENT
BEGIN:VEVENT
UID:541D9693-BA5C-49F3-B354-186D1A701882-17-751_awayreminder@78.badmintonne
 rs.net
DTSTAMP:20260420T072406Z
SUMMARY:Uitmatch bevestigd? (Waverse 1H (76) - Spinshuttle 3H (65))
DESCRIPTION:Je hebt 72 uur na aanvang om een uitmatch op Badmintonvlaandere
 n in te vullen. Match info: Waverse 1H (76) - Spinshuttle 3H (65) - Link: 
 https://www.badmintonvlaanderen.be/sport/teammatch.aspx?id=541D9693-BA5C-4
 9F3-B354-186D1A701882&match=751
DTSTART;TZID=Europe/Brussels:20250312T140000
DTEND;TZID=Europe/Brussels:20250312T140000
END:VEVENT
BEGIN:VEVENT
UID:541D9693-BA5C-49F3-B354-186D1A701882-17-749_awayreminder@78.badmintonne
 rs.net
DTSTAMP:20260420T072406Z
SUMMARY:Uitmatch bevestigd? (Bacss 4H (68) - Spinshuttle 3H (65))
DESCRIPTION:Je hebt 72 uur na aanvang om een uitmatch op Badmintonvlaandere
 n in te vullen. Match info: Bacss 4H (68) - Spinshuttle 3H (65) - Link: ht
 tps://www.badmintonvlaanderen.be/sport/teammatch.aspx?id=541D9693-BA5C-49F
 3-B354-186D1A701882&match=749
DTSTART;TZID=Europe/Brussels:20250430T100000
DTEND;TZID=Europe/Brussels:20250430T100000
END:VEVENT
END:VCALENDAR