BEGIN:VCALENDAR
VERSION:2.0
PRODID:spatie/icalendar-generator
NAME:turnhout_2h_77_reminders
X-WR-CALNAME:turnhout_2h_77_reminders
BEGIN:VTIMEZONE
TZID:Europe/Brussels
BEGIN:DAYLIGHT
DTSTART:20240331T010000
TZOFFSETFROM:+0100
TZOFFSETTO:+0200
END:DAYLIGHT
BEGIN:STANDARD
DTSTART:20241027T030000
TZOFFSETFROM:+0200
TZOFFSETTO:+0100
END:STANDARD
BEGIN:DAYLIGHT
DTSTART:20250330T010000
TZOFFSETFROM:+0100
TZOFFSETTO:+0200
END:DAYLIGHT
END:VTIMEZONE
BEGIN:VTIMEZONE
TZID:UTC
BEGIN:STANDARD
DTSTART:20250724T072408
TZOFFSETFROM:+0000
TZOFFSETTO:+0000
END:STANDARD
END:VTIMEZONE
BEGIN:VEVENT
UID:541D9693-BA5C-49F3-B354-186D1A701882-18-794_homereminder@61.badmintonne
 rs.net
DTSTAMP:20260420T072408Z
SUMMARY:Thuismatch ingevuld? (Turnhout 2H (77) - Beerke 2H (67))
DESCRIPTION:Je hebt 36 uur na aanvang om een thuismatch op Badmintonvlaande
 ren in te vullen. Match info: Turnhout 2H (77) - Beerke 2H (67) - Link: ht
 tps://www.badmintonvlaanderen.be/sport/teammatch.aspx?id=541D9693-BA5C-49F
 3-B354-186D1A701882&match=794
DTSTART;TZID=Europe/Brussels:20241010T080000
DTEND;TZID=Europe/Brussels:20241010T080000
END:VEVENT
BEGIN:VEVENT
UID:541D9693-BA5C-49F3-B354-186D1A701882-18-809_homereminder@61.badmintonne
 rs.net
DTSTAMP:20260420T072408Z
SUMMARY:Thuismatch ingevuld? (Turnhout 2H (77) - Klein Boom 4H (69))
DESCRIPTION:Je hebt 36 uur na aanvang om een thuismatch op Badmintonvlaande
 ren in te vullen. Match info: Turnhout 2H (77) - Klein Boom 4H (69) - Link
 : https://www.badmintonvlaanderen.be/sport/teammatch.aspx?id=541D9693-BA5C
 -49F3-B354-186D1A701882&match=809
DTSTART;TZID=Europe/Brussels:20241121T080000
DTEND;TZID=Europe/Brussels:20241121T080000
END:VEVENT
BEGIN:VEVENT
UID:541D9693-BA5C-49F3-B354-186D1A701882-18-804_homereminder@61.badmintonne
 rs.net
DTSTAMP:20260420T072408Z
SUMMARY:Thuismatch ingevuld? (Turnhout 2H (77) - Zoersel 4H (75))
DESCRIPTION:Je hebt 36 uur na aanvang om een thuismatch op Badmintonvlaande
 ren in te vullen. Match info: Turnhout 2H (77) - Zoersel 4H (75) - Link: h
 ttps://www.badmintonvlaanderen.be/sport/teammatch.aspx?id=541D9693-BA5C-49
 F3-B354-186D1A701882&match=804
DTSTART;TZID=Europe/Brussels:20241205T080000
DTEND;TZID=Europe/Brussels:20241205T080000
END:VEVENT
BEGIN:VEVENT
UID:541D9693-BA5C-49F3-B354-186D1A701882-18-783_homereminder@61.badmintonne
 rs.net
DTSTAMP:20260420T072408Z
SUMMARY:Thuismatch ingevuld? (Turnhout 2H (77) - Olve 5H (71))
DESCRIPTION:Je hebt 36 uur na aanvang om een thuismatch op Badmintonvlaande
 ren in te vullen. Match info: Turnhout 2H (77) - Olve 5H (71) - Link: http
 s://www.badmintonvlaanderen.be/sport/teammatch.aspx?id=541D9693-BA5C-49F3-
 B354-186D1A701882&match=783
DTSTART;TZID=Europe/Brussels:20250130T080000
DTEND;TZID=Europe/Brussels:20250130T080000
END:VEVENT
BEGIN:VEVENT
UID:541D9693-BA5C-49F3-B354-186D1A701882-18-799_homereminder@61.badmintonne
 rs.net
DTSTAMP:20260420T072408Z
SUMMARY:Thuismatch ingevuld? (Turnhout 2H (77) - Herentals 5H (74))
DESCRIPTION:Je hebt 36 uur na aanvang om een thuismatch op Badmintonvlaande
 ren in te vullen. Match info: Turnhout 2H (77) - Herentals 5H (74) - Link:
  https://www.badmintonvlaanderen.be/sport/teammatch.aspx?id=541D9693-BA5C-
 49F3-B354-186D1A701882&match=799
DTSTART;TZID=Europe/Brussels:20250227T080000
DTEND;TZID=Europe/Brussels:20250227T080000
END:VEVENT
BEGIN:VEVENT
UID:541D9693-BA5C-49F3-B354-186D1A701882-18-790_awayreminder@61.badmintonne
 rs.net
DTSTAMP:20260420T072408Z
SUMMARY:Uitmatch bevestigd? (Herentals 5H (74) - Turnhout 2H (77))
DESCRIPTION:Je hebt 72 uur na aanvang om een uitmatch op Badmintonvlaandere
 n in te vullen. Match info: Herentals 5H (74) - Turnhout 2H (77) - Link: h
 ttps://www.badmintonvlaanderen.be/sport/teammatch.aspx?id=541D9693-BA5C-49
 F3-B354-186D1A701882&match=790
DTSTART;TZID=Europe/Brussels:20240912T210000
DTEND;TZID=Europe/Brussels:20240912T210000
END:VEVENT
BEGIN:VEVENT
UID:541D9693-BA5C-49F3-B354-186D1A701882-18-788_awayreminder@61.badmintonne
 rs.net
DTSTAMP:20260420T072408Z
SUMMARY:Uitmatch bevestigd? (Olve 5H (71) - Turnhout 2H (77))
DESCRIPTION:Je hebt 72 uur na aanvang om een uitmatch op Badmintonvlaandere
 n in te vullen. Match info: Olve 5H (71) - Turnhout 2H (77) - Link: https:
 //www.badmintonvlaanderen.be/sport/teammatch.aspx?id=541D9693-BA5C-49F3-B3
 54-186D1A701882&match=788
DTSTART;TZID=Europe/Brussels:20241029T093000
DTEND;TZID=Europe/Brussels:20241029T093000
END:VEVENT
BEGIN:VEVENT
UID:541D9693-BA5C-49F3-B354-186D1A701882-18-791_awayreminder@61.badmintonne
 rs.net
DTSTAMP:20260420T072408Z
SUMMARY:Uitmatch bevestigd? (Zoersel 4H (75) - Turnhout 2H (77))
DESCRIPTION:Je hebt 72 uur na aanvang om een uitmatch op Badmintonvlaandere
 n in te vullen. Match info: Zoersel 4H (75) - Turnhout 2H (77) - Link: htt
 ps://www.badmintonvlaanderen.be/sport/teammatch.aspx?id=541D9693-BA5C-49F3
 -B354-186D1A701882&match=791
DTSTART;TZID=Europe/Brussels:20250122T120000
DTEND;TZID=Europe/Brussels:20250122T120000
END:VEVENT
BEGIN:VEVENT
UID:541D9693-BA5C-49F3-B354-186D1A701882-18-789_awayreminder@61.badmintonne
 rs.net
DTSTAMP:20260420T072408Z
SUMMARY:Uitmatch bevestigd? (Beerke 2H (67) - Turnhout 2H (77))
DESCRIPTION:Je hebt 72 uur na aanvang om een uitmatch op Badmintonvlaandere
 n in te vullen. Match info: Beerke 2H (67) - Turnhout 2H (77) - Link: http
 s://www.badmintonvlaanderen.be/sport/teammatch.aspx?id=541D9693-BA5C-49F3-
 B354-186D1A701882&match=789
DTSTART;TZID=Europe/Brussels:20250316T201500
DTEND;TZID=Europe/Brussels:20250316T201500
END:VEVENT
BEGIN:VEVENT
UID:541D9693-BA5C-49F3-B354-186D1A701882-18-792_awayreminder@61.badmintonne
 rs.net
DTSTAMP:20260420T072408Z
SUMMARY:Uitmatch bevestigd? (Klein Boom 4H (69) - Turnhout 2H (77))
DESCRIPTION:Je hebt 72 uur na aanvang om een uitmatch op Badmintonvlaandere
 n in te vullen. Match info: Klein Boom 4H (69) - Turnhout 2H (77) - Link: 
 https://www.badmintonvlaanderen.be/sport/teammatch.aspx?id=541D9693-BA5C-4
 9F3-B354-186D1A701882&match=792
DTSTART;TZID=Europe/Brussels:20250416T190000
DTEND;TZID=Europe/Brussels:20250416T190000
END:VEVENT
END:VCALENDAR