BEGIN:VCALENDAR
VERSION:2.0
PRODID:spatie/icalendar-generator
NAME:beerke_2h_67_reminders
X-WR-CALNAME:beerke_2h_67_reminders
BEGIN:VTIMEZONE
TZID:Europe/Brussels
BEGIN:DAYLIGHT
DTSTART:20240331T010000
TZOFFSETFROM:+0100
TZOFFSETTO:+0200
END:DAYLIGHT
BEGIN:STANDARD
DTSTART:20241027T030000
TZOFFSETFROM:+0200
TZOFFSETTO:+0100
END:STANDARD
BEGIN:DAYLIGHT
DTSTART:20250330T010000
TZOFFSETFROM:+0100
TZOFFSETTO:+0200
END:DAYLIGHT
BEGIN:STANDARD
DTSTART:20251026T030000
TZOFFSETFROM:+0200
TZOFFSETTO:+0100
END:STANDARD
END:VTIMEZONE
BEGIN:VTIMEZONE
TZID:UTC
BEGIN:STANDARD
DTSTART:20250724T072405
TZOFFSETFROM:+0000
TZOFFSETTO:+0000
END:STANDARD
END:VTIMEZONE
BEGIN:VEVENT
UID:541D9693-BA5C-49F3-B354-186D1A701882-18-810_homereminder@62.badmintonne
 rs.net
DTSTAMP:20260420T072405Z
SUMMARY:Thuismatch ingevuld? (Beerke 2H (67) - Klein Boom 4H (69))
DESCRIPTION:Je hebt 36 uur na aanvang om een thuismatch op Badmintonvlaande
 ren in te vullen. Match info: Beerke 2H (67) - Klein Boom 4H (69) - Link: 
 https://www.badmintonvlaanderen.be/sport/teammatch.aspx?id=541D9693-BA5C-4
 9F3-B354-186D1A701882&match=810
DTSTART;TZID=Europe/Brussels:20240928T081500
DTEND;TZID=Europe/Brussels:20240928T081500
END:VEVENT
BEGIN:VEVENT
UID:541D9693-BA5C-49F3-B354-186D1A701882-18-784_homereminder@62.badmintonne
 rs.net
DTSTAMP:20260420T072405Z
SUMMARY:Thuismatch ingevuld? (Beerke 2H (67) - Olve 5H (71))
DESCRIPTION:Je hebt 36 uur na aanvang om een thuismatch op Badmintonvlaande
 ren in te vullen. Match info: Beerke 2H (67) - Olve 5H (71) - Link: https:
 //www.badmintonvlaanderen.be/sport/teammatch.aspx?id=541D9693-BA5C-49F3-B3
 54-186D1A701882&match=784
DTSTART;TZID=Europe/Brussels:20241123T081500
DTEND;TZID=Europe/Brussels:20241123T081500
END:VEVENT
BEGIN:VEVENT
UID:541D9693-BA5C-49F3-B354-186D1A701882-18-800_homereminder@62.badmintonne
 rs.net
DTSTAMP:20260420T072405Z
SUMMARY:Thuismatch ingevuld? (Beerke 2H (67) - Herentals 5H (74))
DESCRIPTION:Je hebt 36 uur na aanvang om een thuismatch op Badmintonvlaande
 ren in te vullen. Match info: Beerke 2H (67) - Herentals 5H (74) - Link: h
 ttps://www.badmintonvlaanderen.be/sport/teammatch.aspx?id=541D9693-BA5C-49
 F3-B354-186D1A701882&match=800
DTSTART;TZID=Europe/Brussels:20241207T081500
DTEND;TZID=Europe/Brussels:20241207T081500
END:VEVENT
BEGIN:VEVENT
UID:541D9693-BA5C-49F3-B354-186D1A701882-18-805_homereminder@62.badmintonne
 rs.net
DTSTAMP:20260420T072405Z
SUMMARY:Thuismatch ingevuld? (Beerke 2H (67) - Zoersel 4H (75))
DESCRIPTION:Je hebt 36 uur na aanvang om een thuismatch op Badmintonvlaande
 ren in te vullen. Match info: Beerke 2H (67) - Zoersel 4H (75) - Link: htt
 ps://www.badmintonvlaanderen.be/sport/teammatch.aspx?id=541D9693-BA5C-49F3
 -B354-186D1A701882&match=805
DTSTART;TZID=Europe/Brussels:20250201T081500
DTEND;TZID=Europe/Brussels:20250201T081500
END:VEVENT
BEGIN:VEVENT
UID:541D9693-BA5C-49F3-B354-186D1A701882-18-789_homereminder@62.badmintonne
 rs.net
DTSTAMP:20260420T072405Z
SUMMARY:Thuismatch ingevuld? (Beerke 2H (67) - Turnhout 2H (77))
DESCRIPTION:Je hebt 36 uur na aanvang om een thuismatch op Badmintonvlaande
 ren in te vullen. Match info: Beerke 2H (67) - Turnhout 2H (77) - Link: ht
 tps://www.badmintonvlaanderen.be/sport/teammatch.aspx?id=541D9693-BA5C-49F
 3-B354-186D1A701882&match=789
DTSTART;TZID=Europe/Brussels:20250315T081500
DTEND;TZID=Europe/Brussels:20250315T081500
END:VEVENT
BEGIN:VEVENT
UID:541D9693-BA5C-49F3-B354-186D1A701882-18-794_awayreminder@62.badmintonne
 rs.net
DTSTAMP:20260420T072405Z
SUMMARY:Uitmatch bevestigd? (Turnhout 2H (77) - Beerke 2H (67))
DESCRIPTION:Je hebt 72 uur na aanvang om een uitmatch op Badmintonvlaandere
 n in te vullen. Match info: Turnhout 2H (77) - Beerke 2H (67) - Link: http
 s://www.badmintonvlaanderen.be/sport/teammatch.aspx?id=541D9693-BA5C-49F3-
 B354-186D1A701882&match=794
DTSTART;TZID=Europe/Brussels:20241011T200000
DTEND;TZID=Europe/Brussels:20241011T200000
END:VEVENT
BEGIN:VEVENT
UID:541D9693-BA5C-49F3-B354-186D1A701882-18-796_awayreminder@62.badmintonne
 rs.net
DTSTAMP:20260420T072405Z
SUMMARY:Uitmatch bevestigd? (Zoersel 4H (75) - Beerke 2H (67))
DESCRIPTION:Je hebt 72 uur na aanvang om een uitmatch op Badmintonvlaandere
 n in te vullen. Match info: Zoersel 4H (75) - Beerke 2H (67) - Link: https
 ://www.badmintonvlaanderen.be/sport/teammatch.aspx?id=541D9693-BA5C-49F3-B
 354-186D1A701882&match=796
DTSTART;TZID=Europe/Brussels:20241030T120000
DTEND;TZID=Europe/Brussels:20241030T120000
END:VEVENT
BEGIN:VEVENT
UID:541D9693-BA5C-49F3-B354-186D1A701882-18-795_awayreminder@62.badmintonne
 rs.net
DTSTAMP:20260420T072405Z
SUMMARY:Uitmatch bevestigd? (Herentals 5H (74) - Beerke 2H (67))
DESCRIPTION:Je hebt 72 uur na aanvang om een uitmatch op Badmintonvlaandere
 n in te vullen. Match info: Herentals 5H (74) - Beerke 2H (67) - Link: htt
 ps://www.badmintonvlaanderen.be/sport/teammatch.aspx?id=541D9693-BA5C-49F3
 -B354-186D1A701882&match=795
DTSTART;TZID=Europe/Brussels:20250116T210000
DTEND;TZID=Europe/Brussels:20250116T210000
END:VEVENT
BEGIN:VEVENT
UID:541D9693-BA5C-49F3-B354-186D1A701882-18-797_awayreminder@62.badmintonne
 rs.net
DTSTAMP:20260420T072405Z
SUMMARY:Uitmatch bevestigd? (Klein Boom 4H (69) - Beerke 2H (67))
DESCRIPTION:Je hebt 72 uur na aanvang om een uitmatch op Badmintonvlaandere
 n in te vullen. Match info: Klein Boom 4H (69) - Beerke 2H (67) - Link: ht
 tps://www.badmintonvlaanderen.be/sport/teammatch.aspx?id=541D9693-BA5C-49F
 3-B354-186D1A701882&match=797
DTSTART;TZID=Europe/Brussels:20250219T190000
DTEND;TZID=Europe/Brussels:20250219T190000
END:VEVENT
BEGIN:VEVENT
UID:541D9693-BA5C-49F3-B354-186D1A701882-18-793_awayreminder@62.badmintonne
 rs.net
DTSTAMP:20260420T072405Z
SUMMARY:Uitmatch bevestigd? (Olve 5H (71) - Beerke 2H (67))
DESCRIPTION:Je hebt 72 uur na aanvang om een uitmatch op Badmintonvlaandere
 n in te vullen. Match info: Olve 5H (71) - Beerke 2H (67) - Link: https://
 www.badmintonvlaanderen.be/sport/teammatch.aspx?id=541D9693-BA5C-49F3-B354
 -186D1A701882&match=793
DTSTART;TZID=Europe/Brussels:20250429T103000
DTEND;TZID=Europe/Brussels:20250429T103000
END:VEVENT
END:VCALENDAR