BEGIN:VCALENDAR
VERSION:2.0
PRODID:spatie/icalendar-generator
NAME:klein_boom_4h_69_reminders
X-WR-CALNAME:klein_boom_4h_69_reminders
BEGIN:VTIMEZONE
TZID:Europe/Brussels
BEGIN:DAYLIGHT
DTSTART:20240331T010000
TZOFFSETFROM:+0100
TZOFFSETTO:+0200
END:DAYLIGHT
BEGIN:STANDARD
DTSTART:20241027T030000
TZOFFSETFROM:+0200
TZOFFSETTO:+0100
END:STANDARD
BEGIN:DAYLIGHT
DTSTART:20250330T010000
TZOFFSETFROM:+0100
TZOFFSETTO:+0200
END:DAYLIGHT
END:VTIMEZONE
BEGIN:VTIMEZONE
TZID:UTC
BEGIN:STANDARD
DTSTART:20250724T055125
TZOFFSETFROM:+0000
TZOFFSETTO:+0000
END:STANDARD
END:VTIMEZONE
BEGIN:VEVENT
UID:541D9693-BA5C-49F3-B354-186D1A701882-18-807_homereminder@72.badmintonne
 rs.net
DTSTAMP:20260420T055125Z
SUMMARY:Thuismatch ingevuld? (Klein Boom 4H (69) - Zoersel 4H (75))
DESCRIPTION:Je hebt 36 uur na aanvang om een thuismatch op Badmintonvlaande
 ren in te vullen. Match info: Klein Boom 4H (69) - Zoersel 4H (75) - Link:
  https://www.badmintonvlaanderen.be/sport/teammatch.aspx?id=541D9693-BA5C-
 49F3-B354-186D1A701882&match=807
DTSTART;TZID=Europe/Brussels:20241015T070000
DTEND;TZID=Europe/Brussels:20241015T070000
END:VEVENT
BEGIN:VEVENT
UID:541D9693-BA5C-49F3-B354-186D1A701882-18-802_homereminder@72.badmintonne
 rs.net
DTSTAMP:20260420T055125Z
SUMMARY:Thuismatch ingevuld? (Klein Boom 4H (69) - Herentals 5H (74))
DESCRIPTION:Je hebt 36 uur na aanvang om een thuismatch op Badmintonvlaande
 ren in te vullen. Match info: Klein Boom 4H (69) - Herentals 5H (74) - Lin
 k: https://www.badmintonvlaanderen.be/sport/teammatch.aspx?id=541D9693-BA5
 C-49F3-B354-186D1A701882&match=802
DTSTART;TZID=Europe/Brussels:20241029T070000
DTEND;TZID=Europe/Brussels:20241029T070000
END:VEVENT
BEGIN:VEVENT
UID:541D9693-BA5C-49F3-B354-186D1A701882-18-787_homereminder@72.badmintonne
 rs.net
DTSTAMP:20260420T055125Z
SUMMARY:Thuismatch ingevuld? (Klein Boom 4H (69) - Olve 5H (71))
DESCRIPTION:Je hebt 36 uur na aanvang om een thuismatch op Badmintonvlaande
 ren in te vullen. Match info: Klein Boom 4H (69) - Olve 5H (71) - Link: ht
 tps://www.badmintonvlaanderen.be/sport/teammatch.aspx?id=541D9693-BA5C-49F
 3-B354-186D1A701882&match=787
DTSTART;TZID=Europe/Brussels:20250107T070000
DTEND;TZID=Europe/Brussels:20250107T070000
END:VEVENT
BEGIN:VEVENT
UID:541D9693-BA5C-49F3-B354-186D1A701882-18-797_homereminder@72.badmintonne
 rs.net
DTSTAMP:20260420T055125Z
SUMMARY:Thuismatch ingevuld? (Klein Boom 4H (69) - Beerke 2H (67))
DESCRIPTION:Je hebt 36 uur na aanvang om een thuismatch op Badmintonvlaande
 ren in te vullen. Match info: Klein Boom 4H (69) - Beerke 2H (67) - Link: 
 https://www.badmintonvlaanderen.be/sport/teammatch.aspx?id=541D9693-BA5C-4
 9F3-B354-186D1A701882&match=797
DTSTART;TZID=Europe/Brussels:20250218T070000
DTEND;TZID=Europe/Brussels:20250218T070000
END:VEVENT
BEGIN:VEVENT
UID:541D9693-BA5C-49F3-B354-186D1A701882-18-792_homereminder@72.badmintonne
 rs.net
DTSTAMP:20260420T055125Z
SUMMARY:Thuismatch ingevuld? (Klein Boom 4H (69) - Turnhout 2H (77))
DESCRIPTION:Je hebt 36 uur na aanvang om een thuismatch op Badmintonvlaande
 ren in te vullen. Match info: Klein Boom 4H (69) - Turnhout 2H (77) - Link
 : https://www.badmintonvlaanderen.be/sport/teammatch.aspx?id=541D9693-BA5C
 -49F3-B354-186D1A701882&match=792
DTSTART;TZID=Europe/Brussels:20250415T070000
DTEND;TZID=Europe/Brussels:20250415T070000
END:VEVENT
BEGIN:VEVENT
UID:541D9693-BA5C-49F3-B354-186D1A701882-18-810_awayreminder@72.badmintonne
 rs.net
DTSTAMP:20260420T055125Z
SUMMARY:Uitmatch bevestigd? (Beerke 2H (67) - Klein Boom 4H (69))
DESCRIPTION:Je hebt 72 uur na aanvang om een uitmatch op Badmintonvlaandere
 n in te vullen. Match info: Beerke 2H (67) - Klein Boom 4H (69) - Link: ht
 tps://www.badmintonvlaanderen.be/sport/teammatch.aspx?id=541D9693-BA5C-49F
 3-B354-186D1A701882&match=810
DTSTART;TZID=Europe/Brussels:20240929T201500
DTEND;TZID=Europe/Brussels:20240929T201500
END:VEVENT
BEGIN:VEVENT
UID:541D9693-BA5C-49F3-B354-186D1A701882-18-809_awayreminder@72.badmintonne
 rs.net
DTSTAMP:20260420T055125Z
SUMMARY:Uitmatch bevestigd? (Turnhout 2H (77) - Klein Boom 4H (69))
DESCRIPTION:Je hebt 72 uur na aanvang om een uitmatch op Badmintonvlaandere
 n in te vullen. Match info: Turnhout 2H (77) - Klein Boom 4H (69) - Link: 
 https://www.badmintonvlaanderen.be/sport/teammatch.aspx?id=541D9693-BA5C-4
 9F3-B354-186D1A701882&match=809
DTSTART;TZID=Europe/Brussels:20241122T200000
DTEND;TZID=Europe/Brussels:20241122T200000
END:VEVENT
BEGIN:VEVENT
UID:541D9693-BA5C-49F3-B354-186D1A701882-18-808_awayreminder@72.badmintonne
 rs.net
DTSTAMP:20260420T055125Z
SUMMARY:Uitmatch bevestigd? (Olve 5H (71) - Klein Boom 4H (69))
DESCRIPTION:Je hebt 72 uur na aanvang om een uitmatch op Badmintonvlaandere
 n in te vullen. Match info: Olve 5H (71) - Klein Boom 4H (69) - Link: http
 s://www.badmintonvlaanderen.be/sport/teammatch.aspx?id=541D9693-BA5C-49F3-
 B354-186D1A701882&match=808
DTSTART;TZID=Europe/Brussels:20241210T103000
DTEND;TZID=Europe/Brussels:20241210T103000
END:VEVENT
BEGIN:VEVENT
UID:541D9693-BA5C-49F3-B354-186D1A701882-18-811_awayreminder@72.badmintonne
 rs.net
DTSTAMP:20260420T055125Z
SUMMARY:Uitmatch bevestigd? (Herentals 5H (74) - Klein Boom 4H (69))
DESCRIPTION:Je hebt 72 uur na aanvang om een uitmatch op Badmintonvlaandere
 n in te vullen. Match info: Herentals 5H (74) - Klein Boom 4H (69) - Link:
  https://www.badmintonvlaanderen.be/sport/teammatch.aspx?id=541D9693-BA5C-
 49F3-B354-186D1A701882&match=811
DTSTART;TZID=Europe/Brussels:20250130T210000
DTEND;TZID=Europe/Brussels:20250130T210000
END:VEVENT
BEGIN:VEVENT
UID:541D9693-BA5C-49F3-B354-186D1A701882-18-812_awayreminder@72.badmintonne
 rs.net
DTSTAMP:20260420T055125Z
SUMMARY:Uitmatch bevestigd? (Zoersel 4H (75) - Klein Boom 4H (69))
DESCRIPTION:Je hebt 72 uur na aanvang om een uitmatch op Badmintonvlaandere
 n in te vullen. Match info: Zoersel 4H (75) - Klein Boom 4H (69) - Link: h
 ttps://www.badmintonvlaanderen.be/sport/teammatch.aspx?id=541D9693-BA5C-49
 F3-B354-186D1A701882&match=812
DTSTART;TZID=Europe/Brussels:20250402T120000
DTEND;TZID=Europe/Brussels:20250402T120000
END:VEVENT
END:VCALENDAR