BEGIN:VCALENDAR
VERSION:2.0
PRODID:spatie/icalendar-generator
NAME:zoersel_4h_75_reminders
X-WR-CALNAME:zoersel_4h_75_reminders
BEGIN:VTIMEZONE
TZID:Europe/Brussels
BEGIN:DAYLIGHT
DTSTART:20240331T010000
TZOFFSETFROM:+0100
TZOFFSETTO:+0200
END:DAYLIGHT
BEGIN:STANDARD
DTSTART:20241027T030000
TZOFFSETFROM:+0200
TZOFFSETTO:+0100
END:STANDARD
BEGIN:DAYLIGHT
DTSTART:20250330T010000
TZOFFSETFROM:+0100
TZOFFSETTO:+0200
END:DAYLIGHT
END:VTIMEZONE
BEGIN:VTIMEZONE
TZID:UTC
BEGIN:STANDARD
DTSTART:20250724T055132
TZOFFSETFROM:+0000
TZOFFSETTO:+0000
END:STANDARD
END:VTIMEZONE
BEGIN:VEVENT
UID:541D9693-BA5C-49F3-B354-186D1A701882-18-786_homereminder@76.badmintonne
 rs.net
DTSTAMP:20260420T055132Z
SUMMARY:Thuismatch ingevuld? (Zoersel 4H (75) - Olve 5H (71))
DESCRIPTION:Je hebt 36 uur na aanvang om een thuismatch op Badmintonvlaande
 ren in te vullen. Match info: Zoersel 4H (75) - Olve 5H (71) - Link: https
 ://www.badmintonvlaanderen.be/sport/teammatch.aspx?id=541D9693-BA5C-49F3-B
 354-186D1A701882&match=786
DTSTART;TZID=Europe/Brussels:20240903T000000
DTEND;TZID=Europe/Brussels:20240903T000000
END:VEVENT
BEGIN:VEVENT
UID:541D9693-BA5C-49F3-B354-186D1A701882-18-796_homereminder@76.badmintonne
 rs.net
DTSTAMP:20260420T055132Z
SUMMARY:Thuismatch ingevuld? (Zoersel 4H (75) - Beerke 2H (67))
DESCRIPTION:Je hebt 36 uur na aanvang om een thuismatch op Badmintonvlaande
 ren in te vullen. Match info: Zoersel 4H (75) - Beerke 2H (67) - Link: htt
 ps://www.badmintonvlaanderen.be/sport/teammatch.aspx?id=541D9693-BA5C-49F3
 -B354-186D1A701882&match=796
DTSTART;TZID=Europe/Brussels:20241029T000000
DTEND;TZID=Europe/Brussels:20241029T000000
END:VEVENT
BEGIN:VEVENT
UID:541D9693-BA5C-49F3-B354-186D1A701882-18-791_homereminder@76.badmintonne
 rs.net
DTSTAMP:20260420T055132Z
SUMMARY:Thuismatch ingevuld? (Zoersel 4H (75) - Turnhout 2H (77))
DESCRIPTION:Je hebt 36 uur na aanvang om een thuismatch op Badmintonvlaande
 ren in te vullen. Match info: Zoersel 4H (75) - Turnhout 2H (77) - Link: h
 ttps://www.badmintonvlaanderen.be/sport/teammatch.aspx?id=541D9693-BA5C-49
 F3-B354-186D1A701882&match=791
DTSTART;TZID=Europe/Brussels:20250121T000000
DTEND;TZID=Europe/Brussels:20250121T000000
END:VEVENT
BEGIN:VEVENT
UID:541D9693-BA5C-49F3-B354-186D1A701882-18-812_homereminder@76.badmintonne
 rs.net
DTSTAMP:20260420T055132Z
SUMMARY:Thuismatch ingevuld? (Zoersel 4H (75) - Klein Boom 4H (69))
DESCRIPTION:Je hebt 36 uur na aanvang om een thuismatch op Badmintonvlaande
 ren in te vullen. Match info: Zoersel 4H (75) - Klein Boom 4H (69) - Link:
  https://www.badmintonvlaanderen.be/sport/teammatch.aspx?id=541D9693-BA5C-
 49F3-B354-186D1A701882&match=812
DTSTART;TZID=Europe/Brussels:20250401T000000
DTEND;TZID=Europe/Brussels:20250401T000000
END:VEVENT
BEGIN:VEVENT
UID:541D9693-BA5C-49F3-B354-186D1A701882-18-801_homereminder@76.badmintonne
 rs.net
DTSTAMP:20260420T055132Z
SUMMARY:Thuismatch ingevuld? (Zoersel 4H (75) - Herentals 5H (74))
DESCRIPTION:Je hebt 36 uur na aanvang om een thuismatch op Badmintonvlaande
 ren in te vullen. Match info: Zoersel 4H (75) - Herentals 5H (74) - Link: 
 https://www.badmintonvlaanderen.be/sport/teammatch.aspx?id=541D9693-BA5C-4
 9F3-B354-186D1A701882&match=801
DTSTART;TZID=Europe/Brussels:20250415T000000
DTEND;TZID=Europe/Brussels:20250415T000000
END:VEVENT
BEGIN:VEVENT
UID:541D9693-BA5C-49F3-B354-186D1A701882-18-807_awayreminder@76.badmintonne
 rs.net
DTSTAMP:20260420T055132Z
SUMMARY:Uitmatch bevestigd? (Klein Boom 4H (69) - Zoersel 4H (75))
DESCRIPTION:Je hebt 72 uur na aanvang om een uitmatch op Badmintonvlaandere
 n in te vullen. Match info: Klein Boom 4H (69) - Zoersel 4H (75) - Link: h
 ttps://www.badmintonvlaanderen.be/sport/teammatch.aspx?id=541D9693-BA5C-49
 F3-B354-186D1A701882&match=807
DTSTART;TZID=Europe/Brussels:20241016T190000
DTEND;TZID=Europe/Brussels:20241016T190000
END:VEVENT
BEGIN:VEVENT
UID:541D9693-BA5C-49F3-B354-186D1A701882-18-806_awayreminder@76.badmintonne
 rs.net
DTSTAMP:20260420T055132Z
SUMMARY:Uitmatch bevestigd? (Herentals 5H (74) - Zoersel 4H (75))
DESCRIPTION:Je hebt 72 uur na aanvang om een uitmatch op Badmintonvlaandere
 n in te vullen. Match info: Herentals 5H (74) - Zoersel 4H (75) - Link: ht
 tps://www.badmintonvlaanderen.be/sport/teammatch.aspx?id=541D9693-BA5C-49F
 3-B354-186D1A701882&match=806
DTSTART;TZID=Europe/Brussels:20241121T210000
DTEND;TZID=Europe/Brussels:20241121T210000
END:VEVENT
BEGIN:VEVENT
UID:541D9693-BA5C-49F3-B354-186D1A701882-18-804_awayreminder@76.badmintonne
 rs.net
DTSTAMP:20260420T055132Z
SUMMARY:Uitmatch bevestigd? (Turnhout 2H (77) - Zoersel 4H (75))
DESCRIPTION:Je hebt 72 uur na aanvang om een uitmatch op Badmintonvlaandere
 n in te vullen. Match info: Turnhout 2H (77) - Zoersel 4H (75) - Link: htt
 ps://www.badmintonvlaanderen.be/sport/teammatch.aspx?id=541D9693-BA5C-49F3
 -B354-186D1A701882&match=804
DTSTART;TZID=Europe/Brussels:20241206T200000
DTEND;TZID=Europe/Brussels:20241206T200000
END:VEVENT
BEGIN:VEVENT
UID:541D9693-BA5C-49F3-B354-186D1A701882-18-805_awayreminder@76.badmintonne
 rs.net
DTSTAMP:20260420T055132Z
SUMMARY:Uitmatch bevestigd? (Beerke 2H (67) - Zoersel 4H (75))
DESCRIPTION:Je hebt 72 uur na aanvang om een uitmatch op Badmintonvlaandere
 n in te vullen. Match info: Beerke 2H (67) - Zoersel 4H (75) - Link: https
 ://www.badmintonvlaanderen.be/sport/teammatch.aspx?id=541D9693-BA5C-49F3-B
 354-186D1A701882&match=805
DTSTART;TZID=Europe/Brussels:20250202T201500
DTEND;TZID=Europe/Brussels:20250202T201500
END:VEVENT
BEGIN:VEVENT
UID:541D9693-BA5C-49F3-B354-186D1A701882-18-803_awayreminder@76.badmintonne
 rs.net
DTSTAMP:20260420T055132Z
SUMMARY:Uitmatch bevestigd? (Olve 5H (71) - Zoersel 4H (75))
DESCRIPTION:Je hebt 72 uur na aanvang om een uitmatch op Badmintonvlaandere
 n in te vullen. Match info: Olve 5H (71) - Zoersel 4H (75) - Link: https:/
 /www.badmintonvlaanderen.be/sport/teammatch.aspx?id=541D9693-BA5C-49F3-B35
 4-186D1A701882&match=803
DTSTART;TZID=Europe/Brussels:20250304T103000
DTEND;TZID=Europe/Brussels:20250304T103000
END:VEVENT
END:VCALENDAR