BEGIN:VCALENDAR
VERSION:2.0
PRODID:spatie/icalendar-generator
NAME:olve_5h_71_reminders
X-WR-CALNAME:olve_5h_71_reminders
BEGIN:VTIMEZONE
TZID:Europe/Brussels
BEGIN:DAYLIGHT
DTSTART:20240331T010000
TZOFFSETFROM:+0100
TZOFFSETTO:+0200
END:DAYLIGHT
BEGIN:STANDARD
DTSTART:20241027T030000
TZOFFSETFROM:+0200
TZOFFSETTO:+0100
END:STANDARD
BEGIN:DAYLIGHT
DTSTART:20250330T010000
TZOFFSETFROM:+0100
TZOFFSETTO:+0200
END:DAYLIGHT
BEGIN:STANDARD
DTSTART:20251026T030000
TZOFFSETFROM:+0200
TZOFFSETTO:+0100
END:STANDARD
END:VTIMEZONE
BEGIN:VTIMEZONE
TZID:UTC
BEGIN:STANDARD
DTSTART:20250724T055129
TZOFFSETFROM:+0000
TZOFFSETTO:+0000
END:STANDARD
END:VTIMEZONE
BEGIN:VEVENT
UID:541D9693-BA5C-49F3-B354-186D1A701882-18-798_homereminder@77.badmintonne
 rs.net
DTSTAMP:20260420T055129Z
SUMMARY:Thuismatch ingevuld? (Olve 5H (71) - Herentals 5H (74))
DESCRIPTION:Je hebt 36 uur na aanvang om een thuismatch op Badmintonvlaande
 ren in te vullen. Match info: Olve 5H (71) - Herentals 5H (74) - Link: htt
 ps://www.badmintonvlaanderen.be/sport/teammatch.aspx?id=541D9693-BA5C-49F3
 -B354-186D1A701882&match=798
DTSTART;TZID=Europe/Brussels:20240929T223000
DTEND;TZID=Europe/Brussels:20240929T223000
END:VEVENT
BEGIN:VEVENT
UID:541D9693-BA5C-49F3-B354-186D1A701882-18-788_homereminder@77.badmintonne
 rs.net
DTSTAMP:20260420T055129Z
SUMMARY:Thuismatch ingevuld? (Olve 5H (71) - Turnhout 2H (77))
DESCRIPTION:Je hebt 36 uur na aanvang om een thuismatch op Badmintonvlaande
 ren in te vullen. Match info: Olve 5H (71) - Turnhout 2H (77) - Link: http
 s://www.badmintonvlaanderen.be/sport/teammatch.aspx?id=541D9693-BA5C-49F3-
 B354-186D1A701882&match=788
DTSTART;TZID=Europe/Brussels:20241027T213000
DTEND;TZID=Europe/Brussels:20241027T213000
END:VEVENT
BEGIN:VEVENT
UID:541D9693-BA5C-49F3-B354-186D1A701882-18-808_homereminder@77.badmintonne
 rs.net
DTSTAMP:20260420T055129Z
SUMMARY:Thuismatch ingevuld? (Olve 5H (71) - Klein Boom 4H (69))
DESCRIPTION:Je hebt 36 uur na aanvang om een thuismatch op Badmintonvlaande
 ren in te vullen. Match info: Olve 5H (71) - Klein Boom 4H (69) - Link: ht
 tps://www.badmintonvlaanderen.be/sport/teammatch.aspx?id=541D9693-BA5C-49F
 3-B354-186D1A701882&match=808
DTSTART;TZID=Europe/Brussels:20241208T223000
DTEND;TZID=Europe/Brussels:20241208T223000
END:VEVENT
BEGIN:VEVENT
UID:541D9693-BA5C-49F3-B354-186D1A701882-18-803_homereminder@77.badmintonne
 rs.net
DTSTAMP:20260420T055129Z
SUMMARY:Thuismatch ingevuld? (Olve 5H (71) - Zoersel 4H (75))
DESCRIPTION:Je hebt 36 uur na aanvang om een thuismatch op Badmintonvlaande
 ren in te vullen. Match info: Olve 5H (71) - Zoersel 4H (75) - Link: https
 ://www.badmintonvlaanderen.be/sport/teammatch.aspx?id=541D9693-BA5C-49F3-B
 354-186D1A701882&match=803
DTSTART;TZID=Europe/Brussels:20250302T223000
DTEND;TZID=Europe/Brussels:20250302T223000
END:VEVENT
BEGIN:VEVENT
UID:541D9693-BA5C-49F3-B354-186D1A701882-18-793_homereminder@77.badmintonne
 rs.net
DTSTAMP:20260420T055129Z
SUMMARY:Thuismatch ingevuld? (Olve 5H (71) - Beerke 2H (67))
DESCRIPTION:Je hebt 36 uur na aanvang om een thuismatch op Badmintonvlaande
 ren in te vullen. Match info: Olve 5H (71) - Beerke 2H (67) - Link: https:
 //www.badmintonvlaanderen.be/sport/teammatch.aspx?id=541D9693-BA5C-49F3-B3
 54-186D1A701882&match=793
DTSTART;TZID=Europe/Brussels:20250427T223000
DTEND;TZID=Europe/Brussels:20250427T223000
END:VEVENT
BEGIN:VEVENT
UID:541D9693-BA5C-49F3-B354-186D1A701882-18-786_awayreminder@77.badmintonne
 rs.net
DTSTAMP:20260420T055129Z
SUMMARY:Uitmatch bevestigd? (Zoersel 4H (75) - Olve 5H (71))
DESCRIPTION:Je hebt 72 uur na aanvang om een uitmatch op Badmintonvlaandere
 n in te vullen. Match info: Zoersel 4H (75) - Olve 5H (71) - Link: https:/
 /www.badmintonvlaanderen.be/sport/teammatch.aspx?id=541D9693-BA5C-49F3-B35
 4-186D1A701882&match=786
DTSTART;TZID=Europe/Brussels:20240904T120000
DTEND;TZID=Europe/Brussels:20240904T120000
END:VEVENT
BEGIN:VEVENT
UID:541D9693-BA5C-49F3-B354-186D1A701882-18-784_awayreminder@77.badmintonne
 rs.net
DTSTAMP:20260420T055129Z
SUMMARY:Uitmatch bevestigd? (Beerke 2H (67) - Olve 5H (71))
DESCRIPTION:Je hebt 72 uur na aanvang om een uitmatch op Badmintonvlaandere
 n in te vullen. Match info: Beerke 2H (67) - Olve 5H (71) - Link: https://
 www.badmintonvlaanderen.be/sport/teammatch.aspx?id=541D9693-BA5C-49F3-B354
 -186D1A701882&match=784
DTSTART;TZID=Europe/Brussels:20241124T201500
DTEND;TZID=Europe/Brussels:20241124T201500
END:VEVENT
BEGIN:VEVENT
UID:541D9693-BA5C-49F3-B354-186D1A701882-18-787_awayreminder@77.badmintonne
 rs.net
DTSTAMP:20260420T055129Z
SUMMARY:Uitmatch bevestigd? (Klein Boom 4H (69) - Olve 5H (71))
DESCRIPTION:Je hebt 72 uur na aanvang om een uitmatch op Badmintonvlaandere
 n in te vullen. Match info: Klein Boom 4H (69) - Olve 5H (71) - Link: http
 s://www.badmintonvlaanderen.be/sport/teammatch.aspx?id=541D9693-BA5C-49F3-
 B354-186D1A701882&match=787
DTSTART;TZID=Europe/Brussels:20250108T190000
DTEND;TZID=Europe/Brussels:20250108T190000
END:VEVENT
BEGIN:VEVENT
UID:541D9693-BA5C-49F3-B354-186D1A701882-18-783_awayreminder@77.badmintonne
 rs.net
DTSTAMP:20260420T055129Z
SUMMARY:Uitmatch bevestigd? (Turnhout 2H (77) - Olve 5H (71))
DESCRIPTION:Je hebt 72 uur na aanvang om een uitmatch op Badmintonvlaandere
 n in te vullen. Match info: Turnhout 2H (77) - Olve 5H (71) - Link: https:
 //www.badmintonvlaanderen.be/sport/teammatch.aspx?id=541D9693-BA5C-49F3-B3
 54-186D1A701882&match=783
DTSTART;TZID=Europe/Brussels:20250131T200000
DTEND;TZID=Europe/Brussels:20250131T200000
END:VEVENT
BEGIN:VEVENT
UID:541D9693-BA5C-49F3-B354-186D1A701882-18-785_awayreminder@77.badmintonne
 rs.net
DTSTAMP:20260420T055129Z
SUMMARY:Uitmatch bevestigd? (Herentals 5H (74) - Olve 5H (71))
DESCRIPTION:Je hebt 72 uur na aanvang om een uitmatch op Badmintonvlaandere
 n in te vullen. Match info: Herentals 5H (74) - Olve 5H (71) - Link: https
 ://www.badmintonvlaanderen.be/sport/teammatch.aspx?id=541D9693-BA5C-49F3-B
 354-186D1A701882&match=785
DTSTART;TZID=Europe/Brussels:20250327T210000
DTEND;TZID=Europe/Brussels:20250327T210000
END:VEVENT
END:VCALENDAR