BEGIN:VCALENDAR
VERSION:2.0
PRODID:spatie/icalendar-generator
NAME:klein_boom_3d_64_reminders
X-WR-CALNAME:klein_boom_3d_64_reminders
BEGIN:VTIMEZONE
TZID:Europe/Brussels
BEGIN:DAYLIGHT
DTSTART:20240331T010000
TZOFFSETFROM:+0100
TZOFFSETTO:+0200
END:DAYLIGHT
BEGIN:STANDARD
DTSTART:20241027T030000
TZOFFSETFROM:+0200
TZOFFSETTO:+0100
END:STANDARD
BEGIN:DAYLIGHT
DTSTART:20250330T010000
TZOFFSETFROM:+0100
TZOFFSETTO:+0200
END:DAYLIGHT
END:VTIMEZONE
BEGIN:VTIMEZONE
TZID:UTC
BEGIN:STANDARD
DTSTART:20250724T055139
TZOFFSETFROM:+0000
TZOFFSETTO:+0000
END:STANDARD
END:VTIMEZONE
BEGIN:VEVENT
UID:541D9693-BA5C-49F3-B354-186D1A701882-2-77_homereminder@105.badmintonner
 s.net
DTSTAMP:20260420T055139Z
SUMMARY:Thuismatch ingevuld? (Klein Boom 3D (64) - Merksplas 1D (61))
DESCRIPTION:Je hebt 36 uur na aanvang om een thuismatch op Badmintonvlaande
 ren in te vullen. Match info: Klein Boom 3D (64) - Merksplas 1D (61) - Lin
 k: https://www.badmintonvlaanderen.be/sport/teammatch.aspx?id=541D9693-BA5
 C-49F3-B354-186D1A701882&match=77
DTSTART;TZID=Europe/Brussels:20240917T070000
DTEND;TZID=Europe/Brussels:20240917T070000
END:VEVENT
BEGIN:VEVENT
UID:541D9693-BA5C-49F3-B354-186D1A701882-2-89_homereminder@105.badmintonner
 s.net
DTSTAMP:20260420T055139Z
SUMMARY:Thuismatch ingevuld? (Klein Boom 3D (64) - De Nekker 1D (62))
DESCRIPTION:Je hebt 36 uur na aanvang om een thuismatch op Badmintonvlaande
 ren in te vullen. Match info: Klein Boom 3D (64) - De Nekker 1D (62) - Lin
 k: https://www.badmintonvlaanderen.be/sport/teammatch.aspx?id=541D9693-BA5
 C-49F3-B354-186D1A701882&match=89
DTSTART;TZID=Europe/Brussels:20241015T070000
DTEND;TZID=Europe/Brussels:20241015T070000
END:VEVENT
BEGIN:VEVENT
UID:541D9693-BA5C-49F3-B354-186D1A701882-2-58_homereminder@105.badmintonner
 s.net
DTSTAMP:20260420T055139Z
SUMMARY:Thuismatch ingevuld? (Klein Boom 3D (64) - Plumula 2D (70))
DESCRIPTION:Je hebt 36 uur na aanvang om een thuismatch op Badmintonvlaande
 ren in te vullen. Match info: Klein Boom 3D (64) - Plumula 2D (70) - Link:
  https://www.badmintonvlaanderen.be/sport/teammatch.aspx?id=541D9693-BA5C-
 49F3-B354-186D1A701882&match=58
DTSTART;TZID=Europe/Brussels:20241224T070000
DTEND;TZID=Europe/Brussels:20241224T070000
END:VEVENT
BEGIN:VEVENT
UID:541D9693-BA5C-49F3-B354-186D1A701882-2-95_homereminder@105.badmintonner
 s.net
DTSTAMP:20260420T055139Z
SUMMARY:Thuismatch ingevuld? (Klein Boom 3D (64) - Spinshuttle 2D (64))
DESCRIPTION:Je hebt 36 uur na aanvang om een thuismatch op Badmintonvlaande
 ren in te vullen. Match info: Klein Boom 3D (64) - Spinshuttle 2D (64) - L
 ink: https://www.badmintonvlaanderen.be/sport/teammatch.aspx?id=541D9693-B
 A5C-49F3-B354-186D1A701882&match=95
DTSTART;TZID=Europe/Brussels:20250107T070000
DTEND;TZID=Europe/Brussels:20250107T070000
END:VEVENT
BEGIN:VEVENT
UID:541D9693-BA5C-49F3-B354-186D1A701882-2-64_homereminder@105.badmintonner
 s.net
DTSTAMP:20260420T055139Z
SUMMARY:Thuismatch ingevuld? (Klein Boom 3D (64) - Opslag 2D (64))
DESCRIPTION:Je hebt 36 uur na aanvang om een thuismatch op Badmintonvlaande
 ren in te vullen. Match info: Klein Boom 3D (64) - Opslag 2D (64) - Link: 
 https://www.badmintonvlaanderen.be/sport/teammatch.aspx?id=541D9693-BA5C-4
 9F3-B354-186D1A701882&match=64
DTSTART;TZID=Europe/Brussels:20250226T080000
DTEND;TZID=Europe/Brussels:20250226T080000
END:VEVENT
BEGIN:VEVENT
UID:541D9693-BA5C-49F3-B354-186D1A701882-2-83_homereminder@105.badmintonner
 s.net
DTSTAMP:20260420T055139Z
SUMMARY:Thuismatch ingevuld? (Klein Boom 3D (64) - Zandhoven 1D (62))
DESCRIPTION:Je hebt 36 uur na aanvang om een thuismatch op Badmintonvlaande
 ren in te vullen. Match info: Klein Boom 3D (64) - Zandhoven 1D (62) - Lin
 k: https://www.badmintonvlaanderen.be/sport/teammatch.aspx?id=541D9693-BA5
 C-49F3-B354-186D1A701882&match=83
DTSTART;TZID=Europe/Brussels:20250415T070000
DTEND;TZID=Europe/Brussels:20250415T070000
END:VEVENT
BEGIN:VEVENT
UID:541D9693-BA5C-49F3-B354-186D1A701882-2-72_awayreminder@105.badmintonner
 s.net
DTSTAMP:20260420T055139Z
SUMMARY:Uitmatch bevestigd? (Zandhoven 1D (62) - Klein Boom 3D (64))
DESCRIPTION:Je hebt 72 uur na aanvang om een uitmatch op Badmintonvlaandere
 n in te vullen. Match info: Zandhoven 1D (62) - Klein Boom 3D (64) - Link:
  https://www.badmintonvlaanderen.be/sport/teammatch.aspx?id=541D9693-BA5C-
 49F3-B354-186D1A701882&match=72
DTSTART;TZID=Europe/Brussels:20240926T200000
DTEND;TZID=Europe/Brussels:20240926T200000
END:VEVENT
BEGIN:VEVENT
UID:541D9693-BA5C-49F3-B354-186D1A701882-2-74_awayreminder@105.badmintonner
 s.net
DTSTAMP:20260420T055139Z
SUMMARY:Uitmatch bevestigd? (Spinshuttle 2D (64) - Klein Boom 3D (64))
DESCRIPTION:Je hebt 72 uur na aanvang om een uitmatch op Badmintonvlaandere
 n in te vullen. Match info: Spinshuttle 2D (64) - Klein Boom 3D (64) - Lin
 k: https://www.badmintonvlaanderen.be/sport/teammatch.aspx?id=541D9693-BA5
 C-49F3-B354-186D1A701882&match=74
DTSTART;TZID=Europe/Brussels:20241117T200000
DTEND;TZID=Europe/Brussels:20241117T200000
END:VEVENT
BEGIN:VEVENT
UID:541D9693-BA5C-49F3-B354-186D1A701882-2-70_awayreminder@105.badmintonner
 s.net
DTSTAMP:20260420T055139Z
SUMMARY:Uitmatch bevestigd? (Opslag 2D (64) - Klein Boom 3D (64))
DESCRIPTION:Je hebt 72 uur na aanvang om een uitmatch op Badmintonvlaandere
 n in te vullen. Match info: Opslag 2D (64) - Klein Boom 3D (64) - Link: ht
 tps://www.badmintonvlaanderen.be/sport/teammatch.aspx?id=541D9693-BA5C-49F
 3-B354-186D1A701882&match=70
DTSTART;TZID=Europe/Brussels:20241127T191500
DTEND;TZID=Europe/Brussels:20241127T191500
END:VEVENT
BEGIN:VEVENT
UID:541D9693-BA5C-49F3-B354-186D1A701882-2-73_awayreminder@105.badmintonner
 s.net
DTSTAMP:20260420T055139Z
SUMMARY:Uitmatch bevestigd? (De Nekker 1D (62) - Klein Boom 3D (64))
DESCRIPTION:Je hebt 72 uur na aanvang om een uitmatch op Badmintonvlaandere
 n in te vullen. Match info: De Nekker 1D (62) - Klein Boom 3D (64) - Link:
  https://www.badmintonvlaanderen.be/sport/teammatch.aspx?id=541D9693-BA5C-
 49F3-B354-186D1A701882&match=73
DTSTART;TZID=Europe/Brussels:20250118T203000
DTEND;TZID=Europe/Brussels:20250118T203000
END:VEVENT
BEGIN:VEVENT
UID:541D9693-BA5C-49F3-B354-186D1A701882-2-69_awayreminder@105.badmintonner
 s.net
DTSTAMP:20260420T055139Z
SUMMARY:Uitmatch bevestigd? (Plumula 2D (70) - Klein Boom 3D (64))
DESCRIPTION:Je hebt 72 uur na aanvang om een uitmatch op Badmintonvlaandere
 n in te vullen. Match info: Plumula 2D (70) - Klein Boom 3D (64) - Link: h
 ttps://www.badmintonvlaanderen.be/sport/teammatch.aspx?id=541D9693-BA5C-49
 F3-B354-186D1A701882&match=69
DTSTART;TZID=Europe/Brussels:20250219T173000
DTEND;TZID=Europe/Brussels:20250219T173000
END:VEVENT
BEGIN:VEVENT
UID:541D9693-BA5C-49F3-B354-186D1A701882-2-71_awayreminder@105.badmintonner
 s.net
DTSTAMP:20260420T055139Z
SUMMARY:Uitmatch bevestigd? (Merksplas 1D (61) - Klein Boom 3D (64))
DESCRIPTION:Je hebt 72 uur na aanvang om een uitmatch op Badmintonvlaandere
 n in te vullen. Match info: Merksplas 1D (61) - Klein Boom 3D (64) - Link:
  https://www.badmintonvlaanderen.be/sport/teammatch.aspx?id=541D9693-BA5C-
 49F3-B354-186D1A701882&match=71
DTSTART;TZID=Europe/Brussels:20250402T183000
DTEND;TZID=Europe/Brussels:20250402T183000
END:VEVENT
END:VCALENDAR