BEGIN:VCALENDAR
VERSION:2.0
PRODID:spatie/icalendar-generator
NAME:de_nekker_1d_62_reminders
X-WR-CALNAME:de_nekker_1d_62_reminders
BEGIN:VTIMEZONE
TZID:Europe/Brussels
BEGIN:DAYLIGHT
DTSTART:20240331T010000
TZOFFSETFROM:+0100
TZOFFSETTO:+0200
END:DAYLIGHT
BEGIN:STANDARD
DTSTART:20241027T030000
TZOFFSETFROM:+0200
TZOFFSETTO:+0100
END:STANDARD
BEGIN:DAYLIGHT
DTSTART:20250330T010000
TZOFFSETFROM:+0100
TZOFFSETTO:+0200
END:DAYLIGHT
END:VTIMEZONE
BEGIN:VTIMEZONE
TZID:UTC
BEGIN:STANDARD
DTSTART:20250724T055136
TZOFFSETFROM:+0000
TZOFFSETTO:+0000
END:STANDARD
END:VTIMEZONE
BEGIN:VEVENT
UID:541D9693-BA5C-49F3-B354-186D1A701882-2-67_homereminder@108.badmintonner
 s.net
DTSTAMP:20260420T055136Z
SUMMARY:Thuismatch ingevuld? (De Nekker 1D (62) - Opslag 2D (64))
DESCRIPTION:Je hebt 36 uur na aanvang om een thuismatch op Badmintonvlaande
 ren in te vullen. Match info: De Nekker 1D (62) - Opslag 2D (64) - Link: h
 ttps://www.badmintonvlaanderen.be/sport/teammatch.aspx?id=541D9693-BA5C-49
 F3-B354-186D1A701882&match=67
DTSTART;TZID=Europe/Brussels:20240927T083000
DTEND;TZID=Europe/Brussels:20240927T083000
END:VEVENT
BEGIN:VEVENT
UID:541D9693-BA5C-49F3-B354-186D1A701882-2-79_homereminder@108.badmintonner
 s.net
DTSTAMP:20260420T055136Z
SUMMARY:Thuismatch ingevuld? (De Nekker 1D (62) - Merksplas 1D (61))
DESCRIPTION:Je hebt 36 uur na aanvang om een thuismatch op Badmintonvlaande
 ren in te vullen. Match info: De Nekker 1D (62) - Merksplas 1D (61) - Link
 : https://www.badmintonvlaanderen.be/sport/teammatch.aspx?id=541D9693-BA5C
 -49F3-B354-186D1A701882&match=79
DTSTART;TZID=Europe/Brussels:20241025T083000
DTEND;TZID=Europe/Brussels:20241025T083000
END:VEVENT
BEGIN:VEVENT
UID:541D9693-BA5C-49F3-B354-186D1A701882-2-98_homereminder@108.badmintonner
 s.net
DTSTAMP:20260420T055136Z
SUMMARY:Thuismatch ingevuld? (De Nekker 1D (62) - Spinshuttle 2D (64))
DESCRIPTION:Je hebt 36 uur na aanvang om een thuismatch op Badmintonvlaande
 ren in te vullen. Match info: De Nekker 1D (62) - Spinshuttle 2D (64) - Li
 nk: https://www.badmintonvlaanderen.be/sport/teammatch.aspx?id=541D9693-BA
 5C-49F3-B354-186D1A701882&match=98
DTSTART;TZID=Europe/Brussels:20241108T083000
DTEND;TZID=Europe/Brussels:20241108T083000
END:VEVENT
BEGIN:VEVENT
UID:541D9693-BA5C-49F3-B354-186D1A701882-2-73_homereminder@108.badmintonner
 s.net
DTSTAMP:20260420T055136Z
SUMMARY:Thuismatch ingevuld? (De Nekker 1D (62) - Klein Boom 3D (64))
DESCRIPTION:Je hebt 36 uur na aanvang om een thuismatch op Badmintonvlaande
 ren in te vullen. Match info: De Nekker 1D (62) - Klein Boom 3D (64) - Lin
 k: https://www.badmintonvlaanderen.be/sport/teammatch.aspx?id=541D9693-BA5
 C-49F3-B354-186D1A701882&match=73
DTSTART;TZID=Europe/Brussels:20250117T083000
DTEND;TZID=Europe/Brussels:20250117T083000
END:VEVENT
BEGIN:VEVENT
UID:541D9693-BA5C-49F3-B354-186D1A701882-2-85_homereminder@108.badmintonner
 s.net
DTSTAMP:20260420T055136Z
SUMMARY:Thuismatch ingevuld? (De Nekker 1D (62) - Zandhoven 1D (62))
DESCRIPTION:Je hebt 36 uur na aanvang om een thuismatch op Badmintonvlaande
 ren in te vullen. Match info: De Nekker 1D (62) - Zandhoven 1D (62) - Link
 : https://www.badmintonvlaanderen.be/sport/teammatch.aspx?id=541D9693-BA5C
 -49F3-B354-186D1A701882&match=85
DTSTART;TZID=Europe/Brussels:20250214T083000
DTEND;TZID=Europe/Brussels:20250214T083000
END:VEVENT
BEGIN:VEVENT
UID:541D9693-BA5C-49F3-B354-186D1A701882-2-61_homereminder@108.badmintonner
 s.net
DTSTAMP:20260420T055136Z
SUMMARY:Thuismatch ingevuld? (De Nekker 1D (62) - Plumula 2D (70))
DESCRIPTION:Je hebt 36 uur na aanvang om een thuismatch op Badmintonvlaande
 ren in te vullen. Match info: De Nekker 1D (62) - Plumula 2D (70) - Link: 
 https://www.badmintonvlaanderen.be/sport/teammatch.aspx?id=541D9693-BA5C-4
 9F3-B354-186D1A701882&match=61
DTSTART;TZID=Europe/Brussels:20250411T083000
DTEND;TZID=Europe/Brussels:20250411T083000
END:VEVENT
BEGIN:VEVENT
UID:541D9693-BA5C-49F3-B354-186D1A701882-2-87_awayreminder@108.badmintonner
 s.net
DTSTAMP:20260420T055136Z
SUMMARY:Uitmatch bevestigd? (Plumula 2D (70) - De Nekker 1D (62))
DESCRIPTION:Je hebt 72 uur na aanvang om een uitmatch op Badmintonvlaandere
 n in te vullen. Match info: Plumula 2D (70) - De Nekker 1D (62) - Link: ht
 tps://www.badmintonvlaanderen.be/sport/teammatch.aspx?id=541D9693-BA5C-49F
 3-B354-186D1A701882&match=87
DTSTART;TZID=Europe/Brussels:20240918T173000
DTEND;TZID=Europe/Brussels:20240918T173000
END:VEVENT
BEGIN:VEVENT
UID:541D9693-BA5C-49F3-B354-186D1A701882-2-89_awayreminder@108.badmintonner
 s.net
DTSTAMP:20260420T055136Z
SUMMARY:Uitmatch bevestigd? (Klein Boom 3D (64) - De Nekker 1D (62))
DESCRIPTION:Je hebt 72 uur na aanvang om een uitmatch op Badmintonvlaandere
 n in te vullen. Match info: Klein Boom 3D (64) - De Nekker 1D (62) - Link:
  https://www.badmintonvlaanderen.be/sport/teammatch.aspx?id=541D9693-BA5C-
 49F3-B354-186D1A701882&match=89
DTSTART;TZID=Europe/Brussels:20241016T190000
DTEND;TZID=Europe/Brussels:20241016T190000
END:VEVENT
BEGIN:VEVENT
UID:541D9693-BA5C-49F3-B354-186D1A701882-2-91_awayreminder@108.badmintonner
 s.net
DTSTAMP:20260420T055136Z
SUMMARY:Uitmatch bevestigd? (Zandhoven 1D (62) - De Nekker 1D (62))
DESCRIPTION:Je hebt 72 uur na aanvang om een uitmatch op Badmintonvlaandere
 n in te vullen. Match info: Zandhoven 1D (62) - De Nekker 1D (62) - Link: 
 https://www.badmintonvlaanderen.be/sport/teammatch.aspx?id=541D9693-BA5C-4
 9F3-B354-186D1A701882&match=91
DTSTART;TZID=Europe/Brussels:20241219T200000
DTEND;TZID=Europe/Brussels:20241219T200000
END:VEVENT
BEGIN:VEVENT
UID:541D9693-BA5C-49F3-B354-186D1A701882-2-90_awayreminder@108.badmintonner
 s.net
DTSTAMP:20260420T055136Z
SUMMARY:Uitmatch bevestigd? (Merksplas 1D (61) - De Nekker 1D (62))
DESCRIPTION:Je hebt 72 uur na aanvang om een uitmatch op Badmintonvlaandere
 n in te vullen. Match info: Merksplas 1D (61) - De Nekker 1D (62) - Link: 
 https://www.badmintonvlaanderen.be/sport/teammatch.aspx?id=541D9693-BA5C-4
 9F3-B354-186D1A701882&match=90
DTSTART;TZID=Europe/Brussels:20250205T183000
DTEND;TZID=Europe/Brussels:20250205T183000
END:VEVENT
BEGIN:VEVENT
UID:541D9693-BA5C-49F3-B354-186D1A701882-2-92_awayreminder@108.badmintonner
 s.net
DTSTAMP:20260420T055136Z
SUMMARY:Uitmatch bevestigd? (Spinshuttle 2D (64) - De Nekker 1D (62))
DESCRIPTION:Je hebt 72 uur na aanvang om een uitmatch op Badmintonvlaandere
 n in te vullen. Match info: Spinshuttle 2D (64) - De Nekker 1D (62) - Link
 : https://www.badmintonvlaanderen.be/sport/teammatch.aspx?id=541D9693-BA5C
 -49F3-B354-186D1A701882&match=92
DTSTART;TZID=Europe/Brussels:20250316T200000
DTEND;TZID=Europe/Brussels:20250316T200000
END:VEVENT
BEGIN:VEVENT
UID:541D9693-BA5C-49F3-B354-186D1A701882-2-88_awayreminder@108.badmintonner
 s.net
DTSTAMP:20260420T055136Z
SUMMARY:Uitmatch bevestigd? (Opslag 2D (64) - De Nekker 1D (62))
DESCRIPTION:Je hebt 72 uur na aanvang om een uitmatch op Badmintonvlaandere
 n in te vullen. Match info: Opslag 2D (64) - De Nekker 1D (62) - Link: htt
 ps://www.badmintonvlaanderen.be/sport/teammatch.aspx?id=541D9693-BA5C-49F3
 -B354-186D1A701882&match=88
DTSTART;TZID=Europe/Brussels:20250416T191500
DTEND;TZID=Europe/Brussels:20250416T191500
END:VEVENT
END:VCALENDAR