BEGIN:VCALENDAR
VERSION:2.0
PRODID:spatie/icalendar-generator
NAME:zandhoven_1d_62_reminders
X-WR-CALNAME:zandhoven_1d_62_reminders
BEGIN:VTIMEZONE
TZID:Europe/Brussels
BEGIN:DAYLIGHT
DTSTART:20240331T010000
TZOFFSETFROM:+0100
TZOFFSETTO:+0200
END:DAYLIGHT
BEGIN:STANDARD
DTSTART:20241027T030000
TZOFFSETFROM:+0200
TZOFFSETTO:+0100
END:STANDARD
BEGIN:DAYLIGHT
DTSTART:20250330T010000
TZOFFSETFROM:+0100
TZOFFSETTO:+0200
END:DAYLIGHT
END:VTIMEZONE
BEGIN:VTIMEZONE
TZID:UTC
BEGIN:STANDARD
DTSTART:20250724T055136
TZOFFSETFROM:+0000
TZOFFSETTO:+0000
END:STANDARD
END:VTIMEZONE
BEGIN:VEVENT
UID:541D9693-BA5C-49F3-B354-186D1A701882-2-72_homereminder@109.badmintonner
 s.net
DTSTAMP:20260420T055136Z
SUMMARY:Thuismatch ingevuld? (Zandhoven 1D (62) - Klein Boom 3D (64))
DESCRIPTION:Je hebt 36 uur na aanvang om een thuismatch op Badmintonvlaande
 ren in te vullen. Match info: Zandhoven 1D (62) - Klein Boom 3D (64) - Lin
 k: https://www.badmintonvlaanderen.be/sport/teammatch.aspx?id=541D9693-BA5
 C-49F3-B354-186D1A701882&match=72
DTSTART;TZID=Europe/Brussels:20240925T080000
DTEND;TZID=Europe/Brussels:20240925T080000
END:VEVENT
BEGIN:VEVENT
UID:541D9693-BA5C-49F3-B354-186D1A701882-2-60_homereminder@109.badmintonner
 s.net
DTSTAMP:20260420T055136Z
SUMMARY:Thuismatch ingevuld? (Zandhoven 1D (62) - Plumula 2D (70))
DESCRIPTION:Je hebt 36 uur na aanvang om een thuismatch op Badmintonvlaande
 ren in te vullen. Match info: Zandhoven 1D (62) - Plumula 2D (70) - Link: 
 https://www.badmintonvlaanderen.be/sport/teammatch.aspx?id=541D9693-BA5C-4
 9F3-B354-186D1A701882&match=60
DTSTART;TZID=Europe/Brussels:20241106T080000
DTEND;TZID=Europe/Brussels:20241106T080000
END:VEVENT
BEGIN:VEVENT
UID:541D9693-BA5C-49F3-B354-186D1A701882-2-91_homereminder@109.badmintonner
 s.net
DTSTAMP:20260420T055136Z
SUMMARY:Thuismatch ingevuld? (Zandhoven 1D (62) - De Nekker 1D (62))
DESCRIPTION:Je hebt 36 uur na aanvang om een thuismatch op Badmintonvlaande
 ren in te vullen. Match info: Zandhoven 1D (62) - De Nekker 1D (62) - Link
 : https://www.badmintonvlaanderen.be/sport/teammatch.aspx?id=541D9693-BA5C
 -49F3-B354-186D1A701882&match=91
DTSTART;TZID=Europe/Brussels:20241218T080000
DTEND;TZID=Europe/Brussels:20241218T080000
END:VEVENT
BEGIN:VEVENT
UID:541D9693-BA5C-49F3-B354-186D1A701882-2-78_homereminder@109.badmintonner
 s.net
DTSTAMP:20260420T055136Z
SUMMARY:Thuismatch ingevuld? (Zandhoven 1D (62) - Merksplas 1D (61))
DESCRIPTION:Je hebt 36 uur na aanvang om een thuismatch op Badmintonvlaande
 ren in te vullen. Match info: Zandhoven 1D (62) - Merksplas 1D (61) - Link
 : https://www.badmintonvlaanderen.be/sport/teammatch.aspx?id=541D9693-BA5C
 -49F3-B354-186D1A701882&match=78
DTSTART;TZID=Europe/Brussels:20250115T080000
DTEND;TZID=Europe/Brussels:20250115T080000
END:VEVENT
BEGIN:VEVENT
UID:541D9693-BA5C-49F3-B354-186D1A701882-2-97_homereminder@109.badmintonner
 s.net
DTSTAMP:20260420T055136Z
SUMMARY:Thuismatch ingevuld? (Zandhoven 1D (62) - Spinshuttle 2D (64))
DESCRIPTION:Je hebt 36 uur na aanvang om een thuismatch op Badmintonvlaande
 ren in te vullen. Match info: Zandhoven 1D (62) - Spinshuttle 2D (64) - Li
 nk: https://www.badmintonvlaanderen.be/sport/teammatch.aspx?id=541D9693-BA
 5C-49F3-B354-186D1A701882&match=97
DTSTART;TZID=Europe/Brussels:20250226T080000
DTEND;TZID=Europe/Brussels:20250226T080000
END:VEVENT
BEGIN:VEVENT
UID:541D9693-BA5C-49F3-B354-186D1A701882-2-66_homereminder@109.badmintonner
 s.net
DTSTAMP:20260420T055136Z
SUMMARY:Thuismatch ingevuld? (Zandhoven 1D (62) - Opslag 2D (64))
DESCRIPTION:Je hebt 36 uur na aanvang om een thuismatch op Badmintonvlaande
 ren in te vullen. Match info: Zandhoven 1D (62) - Opslag 2D (64) - Link: h
 ttps://www.badmintonvlaanderen.be/sport/teammatch.aspx?id=541D9693-BA5C-49
 F3-B354-186D1A701882&match=66
DTSTART;TZID=Europe/Brussels:20250326T080000
DTEND;TZID=Europe/Brussels:20250326T080000
END:VEVENT
BEGIN:VEVENT
UID:541D9693-BA5C-49F3-B354-186D1A701882-2-82_awayreminder@109.badmintonner
 s.net
DTSTAMP:20260420T055136Z
SUMMARY:Uitmatch bevestigd? (Opslag 2D (64) - Zandhoven 1D (62))
DESCRIPTION:Je hebt 72 uur na aanvang om een uitmatch op Badmintonvlaandere
 n in te vullen. Match info: Opslag 2D (64) - Zandhoven 1D (62) - Link: htt
 ps://www.badmintonvlaanderen.be/sport/teammatch.aspx?id=541D9693-BA5C-49F3
 -B354-186D1A701882&match=82
DTSTART;TZID=Europe/Brussels:20240918T191500
DTEND;TZID=Europe/Brussels:20240918T191500
END:VEVENT
BEGIN:VEVENT
UID:541D9693-BA5C-49F3-B354-186D1A701882-2-84_awayreminder@109.badmintonner
 s.net
DTSTAMP:20260420T055136Z
SUMMARY:Uitmatch bevestigd? (Merksplas 1D (61) - Zandhoven 1D (62))
DESCRIPTION:Je hebt 72 uur na aanvang om een uitmatch op Badmintonvlaandere
 n in te vullen. Match info: Merksplas 1D (61) - Zandhoven 1D (62) - Link: 
 https://www.badmintonvlaanderen.be/sport/teammatch.aspx?id=541D9693-BA5C-4
 9F3-B354-186D1A701882&match=84
DTSTART;TZID=Europe/Brussels:20241016T183000
DTEND;TZID=Europe/Brussels:20241016T183000
END:VEVENT
BEGIN:VEVENT
UID:541D9693-BA5C-49F3-B354-186D1A701882-2-86_awayreminder@109.badmintonner
 s.net
DTSTAMP:20260420T055136Z
SUMMARY:Uitmatch bevestigd? (Spinshuttle 2D (64) - Zandhoven 1D (62))
DESCRIPTION:Je hebt 72 uur na aanvang om een uitmatch op Badmintonvlaandere
 n in te vullen. Match info: Spinshuttle 2D (64) - Zandhoven 1D (62) - Link
 : https://www.badmintonvlaanderen.be/sport/teammatch.aspx?id=541D9693-BA5C
 -49F3-B354-186D1A701882&match=86
DTSTART;TZID=Europe/Brussels:20241124T200000
DTEND;TZID=Europe/Brussels:20241124T200000
END:VEVENT
BEGIN:VEVENT
UID:541D9693-BA5C-49F3-B354-186D1A701882-2-85_awayreminder@109.badmintonner
 s.net
DTSTAMP:20260420T055136Z
SUMMARY:Uitmatch bevestigd? (De Nekker 1D (62) - Zandhoven 1D (62))
DESCRIPTION:Je hebt 72 uur na aanvang om een uitmatch op Badmintonvlaandere
 n in te vullen. Match info: De Nekker 1D (62) - Zandhoven 1D (62) - Link: 
 https://www.badmintonvlaanderen.be/sport/teammatch.aspx?id=541D9693-BA5C-4
 9F3-B354-186D1A701882&match=85
DTSTART;TZID=Europe/Brussels:20250215T203000
DTEND;TZID=Europe/Brussels:20250215T203000
END:VEVENT
BEGIN:VEVENT
UID:541D9693-BA5C-49F3-B354-186D1A701882-2-81_awayreminder@109.badmintonner
 s.net
DTSTAMP:20260420T055136Z
SUMMARY:Uitmatch bevestigd? (Plumula 2D (70) - Zandhoven 1D (62))
DESCRIPTION:Je hebt 72 uur na aanvang om een uitmatch op Badmintonvlaandere
 n in te vullen. Match info: Plumula 2D (70) - Zandhoven 1D (62) - Link: ht
 tps://www.badmintonvlaanderen.be/sport/teammatch.aspx?id=541D9693-BA5C-49F
 3-B354-186D1A701882&match=81
DTSTART;TZID=Europe/Brussels:20250319T173000
DTEND;TZID=Europe/Brussels:20250319T173000
END:VEVENT
BEGIN:VEVENT
UID:541D9693-BA5C-49F3-B354-186D1A701882-2-83_awayreminder@109.badmintonner
 s.net
DTSTAMP:20260420T055136Z
SUMMARY:Uitmatch bevestigd? (Klein Boom 3D (64) - Zandhoven 1D (62))
DESCRIPTION:Je hebt 72 uur na aanvang om een uitmatch op Badmintonvlaandere
 n in te vullen. Match info: Klein Boom 3D (64) - Zandhoven 1D (62) - Link:
  https://www.badmintonvlaanderen.be/sport/teammatch.aspx?id=541D9693-BA5C-
 49F3-B354-186D1A701882&match=83
DTSTART;TZID=Europe/Brussels:20250416T190000
DTEND;TZID=Europe/Brussels:20250416T190000
END:VEVENT
END:VCALENDAR