BEGIN:VCALENDAR
VERSION:2.0
PRODID:spatie/icalendar-generator
NAME:merksplas_1d_61_reminders
X-WR-CALNAME:merksplas_1d_61_reminders
BEGIN:VTIMEZONE
TZID:Europe/Brussels
BEGIN:DAYLIGHT
DTSTART:20240331T010000
TZOFFSETFROM:+0100
TZOFFSETTO:+0200
END:DAYLIGHT
BEGIN:STANDARD
DTSTART:20241027T030000
TZOFFSETFROM:+0200
TZOFFSETTO:+0100
END:STANDARD
BEGIN:DAYLIGHT
DTSTART:20250330T010000
TZOFFSETFROM:+0100
TZOFFSETTO:+0200
END:DAYLIGHT
END:VTIMEZONE
BEGIN:VTIMEZONE
TZID:UTC
BEGIN:STANDARD
DTSTART:20250724T055140
TZOFFSETFROM:+0000
TZOFFSETTO:+0000
END:STANDARD
END:VTIMEZONE
BEGIN:VEVENT
UID:541D9693-BA5C-49F3-B354-186D1A701882-2-84_homereminder@110.badmintonner
 s.net
DTSTAMP:20260420T055140Z
SUMMARY:Thuismatch ingevuld? (Merksplas 1D (61) - Zandhoven 1D (62))
DESCRIPTION:Je hebt 36 uur na aanvang om een thuismatch op Badmintonvlaande
 ren in te vullen. Match info: Merksplas 1D (61) - Zandhoven 1D (62) - Link
 : https://www.badmintonvlaanderen.be/sport/teammatch.aspx?id=541D9693-BA5C
 -49F3-B354-186D1A701882&match=84
DTSTART;TZID=Europe/Brussels:20241015T063000
DTEND;TZID=Europe/Brussels:20241015T063000
END:VEVENT
BEGIN:VEVENT
UID:541D9693-BA5C-49F3-B354-186D1A701882-2-65_homereminder@110.badmintonner
 s.net
DTSTAMP:20260420T055140Z
SUMMARY:Thuismatch ingevuld? (Merksplas 1D (61) - Opslag 2D (64))
DESCRIPTION:Je hebt 36 uur na aanvang om een thuismatch op Badmintonvlaande
 ren in te vullen. Match info: Merksplas 1D (61) - Opslag 2D (64) - Link: h
 ttps://www.badmintonvlaanderen.be/sport/teammatch.aspx?id=541D9693-BA5C-49
 F3-B354-186D1A701882&match=65
DTSTART;TZID=Europe/Brussels:20241112T063000
DTEND;TZID=Europe/Brussels:20241112T063000
END:VEVENT
BEGIN:VEVENT
UID:541D9693-BA5C-49F3-B354-186D1A701882-2-96_homereminder@110.badmintonner
 s.net
DTSTAMP:20260420T055140Z
SUMMARY:Thuismatch ingevuld? (Merksplas 1D (61) - Spinshuttle 2D (64))
DESCRIPTION:Je hebt 36 uur na aanvang om een thuismatch op Badmintonvlaande
 ren in te vullen. Match info: Merksplas 1D (61) - Spinshuttle 2D (64) - Li
 nk: https://www.badmintonvlaanderen.be/sport/teammatch.aspx?id=541D9693-BA
 5C-49F3-B354-186D1A701882&match=96
DTSTART;TZID=Europe/Brussels:20241224T063000
DTEND;TZID=Europe/Brussels:20241224T063000
END:VEVENT
BEGIN:VEVENT
UID:541D9693-BA5C-49F3-B354-186D1A701882-2-90_homereminder@110.badmintonner
 s.net
DTSTAMP:20260420T055140Z
SUMMARY:Thuismatch ingevuld? (Merksplas 1D (61) - De Nekker 1D (62))
DESCRIPTION:Je hebt 36 uur na aanvang om een thuismatch op Badmintonvlaande
 ren in te vullen. Match info: Merksplas 1D (61) - De Nekker 1D (62) - Link
 : https://www.badmintonvlaanderen.be/sport/teammatch.aspx?id=541D9693-BA5C
 -49F3-B354-186D1A701882&match=90
DTSTART;TZID=Europe/Brussels:20250204T063000
DTEND;TZID=Europe/Brussels:20250204T063000
END:VEVENT
BEGIN:VEVENT
UID:541D9693-BA5C-49F3-B354-186D1A701882-2-59_homereminder@110.badmintonner
 s.net
DTSTAMP:20260420T055140Z
SUMMARY:Thuismatch ingevuld? (Merksplas 1D (61) - Plumula 2D (70))
DESCRIPTION:Je hebt 36 uur na aanvang om een thuismatch op Badmintonvlaande
 ren in te vullen. Match info: Merksplas 1D (61) - Plumula 2D (70) - Link: 
 https://www.badmintonvlaanderen.be/sport/teammatch.aspx?id=541D9693-BA5C-4
 9F3-B354-186D1A701882&match=59
DTSTART;TZID=Europe/Brussels:20250304T063000
DTEND;TZID=Europe/Brussels:20250304T063000
END:VEVENT
BEGIN:VEVENT
UID:541D9693-BA5C-49F3-B354-186D1A701882-2-71_homereminder@110.badmintonner
 s.net
DTSTAMP:20260420T055140Z
SUMMARY:Thuismatch ingevuld? (Merksplas 1D (61) - Klein Boom 3D (64))
DESCRIPTION:Je hebt 36 uur na aanvang om een thuismatch op Badmintonvlaande
 ren in te vullen. Match info: Merksplas 1D (61) - Klein Boom 3D (64) - Lin
 k: https://www.badmintonvlaanderen.be/sport/teammatch.aspx?id=541D9693-BA5
 C-49F3-B354-186D1A701882&match=71
DTSTART;TZID=Europe/Brussels:20250401T063000
DTEND;TZID=Europe/Brussels:20250401T063000
END:VEVENT
BEGIN:VEVENT
UID:541D9693-BA5C-49F3-B354-186D1A701882-2-77_awayreminder@110.badmintonner
 s.net
DTSTAMP:20260420T055140Z
SUMMARY:Uitmatch bevestigd? (Klein Boom 3D (64) - Merksplas 1D (61))
DESCRIPTION:Je hebt 72 uur na aanvang om een uitmatch op Badmintonvlaandere
 n in te vullen. Match info: Klein Boom 3D (64) - Merksplas 1D (61) - Link:
  https://www.badmintonvlaanderen.be/sport/teammatch.aspx?id=541D9693-BA5C-
 49F3-B354-186D1A701882&match=77
DTSTART;TZID=Europe/Brussels:20240918T190000
DTEND;TZID=Europe/Brussels:20240918T190000
END:VEVENT
BEGIN:VEVENT
UID:541D9693-BA5C-49F3-B354-186D1A701882-2-79_awayreminder@110.badmintonner
 s.net
DTSTAMP:20260420T055140Z
SUMMARY:Uitmatch bevestigd? (De Nekker 1D (62) - Merksplas 1D (61))
DESCRIPTION:Je hebt 72 uur na aanvang om een uitmatch op Badmintonvlaandere
 n in te vullen. Match info: De Nekker 1D (62) - Merksplas 1D (61) - Link: 
 https://www.badmintonvlaanderen.be/sport/teammatch.aspx?id=541D9693-BA5C-4
 9F3-B354-186D1A701882&match=79
DTSTART;TZID=Europe/Brussels:20241026T203000
DTEND;TZID=Europe/Brussels:20241026T203000
END:VEVENT
BEGIN:VEVENT
UID:541D9693-BA5C-49F3-B354-186D1A701882-2-75_awayreminder@110.badmintonner
 s.net
DTSTAMP:20260420T055140Z
SUMMARY:Uitmatch bevestigd? (Plumula 2D (70) - Merksplas 1D (61))
DESCRIPTION:Je hebt 72 uur na aanvang om een uitmatch op Badmintonvlaandere
 n in te vullen. Match info: Plumula 2D (70) - Merksplas 1D (61) - Link: ht
 tps://www.badmintonvlaanderen.be/sport/teammatch.aspx?id=541D9693-BA5C-49F
 3-B354-186D1A701882&match=75
DTSTART;TZID=Europe/Brussels:20241127T173000
DTEND;TZID=Europe/Brussels:20241127T173000
END:VEVENT
BEGIN:VEVENT
UID:541D9693-BA5C-49F3-B354-186D1A701882-2-78_awayreminder@110.badmintonner
 s.net
DTSTAMP:20260420T055140Z
SUMMARY:Uitmatch bevestigd? (Zandhoven 1D (62) - Merksplas 1D (61))
DESCRIPTION:Je hebt 72 uur na aanvang om een uitmatch op Badmintonvlaandere
 n in te vullen. Match info: Zandhoven 1D (62) - Merksplas 1D (61) - Link: 
 https://www.badmintonvlaanderen.be/sport/teammatch.aspx?id=541D9693-BA5C-4
 9F3-B354-186D1A701882&match=78
DTSTART;TZID=Europe/Brussels:20250116T200000
DTEND;TZID=Europe/Brussels:20250116T200000
END:VEVENT
BEGIN:VEVENT
UID:541D9693-BA5C-49F3-B354-186D1A701882-2-80_awayreminder@110.badmintonner
 s.net
DTSTAMP:20260420T055140Z
SUMMARY:Uitmatch bevestigd? (Spinshuttle 2D (64) - Merksplas 1D (61))
DESCRIPTION:Je hebt 72 uur na aanvang om een uitmatch op Badmintonvlaandere
 n in te vullen. Match info: Spinshuttle 2D (64) - Merksplas 1D (61) - Link
 : https://www.badmintonvlaanderen.be/sport/teammatch.aspx?id=541D9693-BA5C
 -49F3-B354-186D1A701882&match=80
DTSTART;TZID=Europe/Brussels:20250216T200000
DTEND;TZID=Europe/Brussels:20250216T200000
END:VEVENT
BEGIN:VEVENT
UID:541D9693-BA5C-49F3-B354-186D1A701882-2-76_awayreminder@110.badmintonner
 s.net
DTSTAMP:20260420T055140Z
SUMMARY:Uitmatch bevestigd? (Opslag 2D (64) - Merksplas 1D (61))
DESCRIPTION:Je hebt 72 uur na aanvang om een uitmatch op Badmintonvlaandere
 n in te vullen. Match info: Opslag 2D (64) - Merksplas 1D (61) - Link: htt
 ps://www.badmintonvlaanderen.be/sport/teammatch.aspx?id=541D9693-BA5C-49F3
 -B354-186D1A701882&match=76
DTSTART;TZID=Europe/Brussels:20250319T191500
DTEND;TZID=Europe/Brussels:20250319T191500
END:VEVENT
END:VCALENDAR