BEGIN:VCALENDAR
VERSION:2.0
PRODID:spatie/icalendar-generator
NAME:opslag_2d_64_reminders
X-WR-CALNAME:opslag_2d_64_reminders
BEGIN:VTIMEZONE
TZID:Europe/Brussels
BEGIN:DAYLIGHT
DTSTART:20240331T010000
TZOFFSETFROM:+0100
TZOFFSETTO:+0200
END:DAYLIGHT
BEGIN:STANDARD
DTSTART:20241027T030000
TZOFFSETFROM:+0200
TZOFFSETTO:+0100
END:STANDARD
BEGIN:DAYLIGHT
DTSTART:20250330T010000
TZOFFSETFROM:+0100
TZOFFSETTO:+0200
END:DAYLIGHT
END:VTIMEZONE
BEGIN:VTIMEZONE
TZID:UTC
BEGIN:STANDARD
DTSTART:20250724T055145
TZOFFSETFROM:+0000
TZOFFSETTO:+0000
END:STANDARD
END:VTIMEZONE
BEGIN:VEVENT
UID:541D9693-BA5C-49F3-B354-186D1A701882-2-82_homereminder@111.badmintonner
 s.net
DTSTAMP:20260420T055145Z
SUMMARY:Thuismatch ingevuld? (Opslag 2D (64) - Zandhoven 1D (62))
DESCRIPTION:Je hebt 36 uur na aanvang om een thuismatch op Badmintonvlaande
 ren in te vullen. Match info: Opslag 2D (64) - Zandhoven 1D (62) - Link: h
 ttps://www.badmintonvlaanderen.be/sport/teammatch.aspx?id=541D9693-BA5C-49
 F3-B354-186D1A701882&match=82
DTSTART;TZID=Europe/Brussels:20240917T071500
DTEND;TZID=Europe/Brussels:20240917T071500
END:VEVENT
BEGIN:VEVENT
UID:541D9693-BA5C-49F3-B354-186D1A701882-2-94_homereminder@111.badmintonner
 s.net
DTSTAMP:20260420T055145Z
SUMMARY:Thuismatch ingevuld? (Opslag 2D (64) - Spinshuttle 2D (64))
DESCRIPTION:Je hebt 36 uur na aanvang om een thuismatch op Badmintonvlaande
 ren in te vullen. Match info: Opslag 2D (64) - Spinshuttle 2D (64) - Link:
  https://www.badmintonvlaanderen.be/sport/teammatch.aspx?id=541D9693-BA5C-
 49F3-B354-186D1A701882&match=94
DTSTART;TZID=Europe/Brussels:20241001T043000
DTEND;TZID=Europe/Brussels:20241001T043000
END:VEVENT
BEGIN:VEVENT
UID:541D9693-BA5C-49F3-B354-186D1A701882-2-70_homereminder@111.badmintonner
 s.net
DTSTAMP:20260420T055145Z
SUMMARY:Thuismatch ingevuld? (Opslag 2D (64) - Klein Boom 3D (64))
DESCRIPTION:Je hebt 36 uur na aanvang om een thuismatch op Badmintonvlaande
 ren in te vullen. Match info: Opslag 2D (64) - Klein Boom 3D (64) - Link: 
 https://www.badmintonvlaanderen.be/sport/teammatch.aspx?id=541D9693-BA5C-4
 9F3-B354-186D1A701882&match=70
DTSTART;TZID=Europe/Brussels:20241126T071500
DTEND;TZID=Europe/Brussels:20241126T071500
END:VEVENT
BEGIN:VEVENT
UID:541D9693-BA5C-49F3-B354-186D1A701882-2-57_homereminder@111.badmintonner
 s.net
DTSTAMP:20260420T055145Z
SUMMARY:Thuismatch ingevuld? (Opslag 2D (64) - Plumula 2D (70))
DESCRIPTION:Je hebt 36 uur na aanvang om een thuismatch op Badmintonvlaande
 ren in te vullen. Match info: Opslag 2D (64) - Plumula 2D (70) - Link: htt
 ps://www.badmintonvlaanderen.be/sport/teammatch.aspx?id=541D9693-BA5C-49F3
 -B354-186D1A701882&match=57
DTSTART;TZID=Europe/Brussels:20250204T043000
DTEND;TZID=Europe/Brussels:20250204T043000
END:VEVENT
BEGIN:VEVENT
UID:541D9693-BA5C-49F3-B354-186D1A701882-2-76_homereminder@111.badmintonner
 s.net
DTSTAMP:20260420T055145Z
SUMMARY:Thuismatch ingevuld? (Opslag 2D (64) - Merksplas 1D (61))
DESCRIPTION:Je hebt 36 uur na aanvang om een thuismatch op Badmintonvlaande
 ren in te vullen. Match info: Opslag 2D (64) - Merksplas 1D (61) - Link: h
 ttps://www.badmintonvlaanderen.be/sport/teammatch.aspx?id=541D9693-BA5C-49
 F3-B354-186D1A701882&match=76
DTSTART;TZID=Europe/Brussels:20250318T071500
DTEND;TZID=Europe/Brussels:20250318T071500
END:VEVENT
BEGIN:VEVENT
UID:541D9693-BA5C-49F3-B354-186D1A701882-2-88_homereminder@111.badmintonner
 s.net
DTSTAMP:20260420T055145Z
SUMMARY:Thuismatch ingevuld? (Opslag 2D (64) - De Nekker 1D (62))
DESCRIPTION:Je hebt 36 uur na aanvang om een thuismatch op Badmintonvlaande
 ren in te vullen. Match info: Opslag 2D (64) - De Nekker 1D (62) - Link: h
 ttps://www.badmintonvlaanderen.be/sport/teammatch.aspx?id=541D9693-BA5C-49
 F3-B354-186D1A701882&match=88
DTSTART;TZID=Europe/Brussels:20250415T071500
DTEND;TZID=Europe/Brussels:20250415T071500
END:VEVENT
BEGIN:VEVENT
UID:541D9693-BA5C-49F3-B354-186D1A701882-2-67_awayreminder@111.badmintonner
 s.net
DTSTAMP:20260420T055145Z
SUMMARY:Uitmatch bevestigd? (De Nekker 1D (62) - Opslag 2D (64))
DESCRIPTION:Je hebt 72 uur na aanvang om een uitmatch op Badmintonvlaandere
 n in te vullen. Match info: De Nekker 1D (62) - Opslag 2D (64) - Link: htt
 ps://www.badmintonvlaanderen.be/sport/teammatch.aspx?id=541D9693-BA5C-49F3
 -B354-186D1A701882&match=67
DTSTART;TZID=Europe/Brussels:20240928T203000
DTEND;TZID=Europe/Brussels:20240928T203000
END:VEVENT
BEGIN:VEVENT
UID:541D9693-BA5C-49F3-B354-186D1A701882-2-63_awayreminder@111.badmintonner
 s.net
DTSTAMP:20260420T055145Z
SUMMARY:Uitmatch bevestigd? (Plumula 2D (70) - Opslag 2D (64))
DESCRIPTION:Je hebt 72 uur na aanvang om een uitmatch op Badmintonvlaandere
 n in te vullen. Match info: Plumula 2D (70) - Opslag 2D (64) - Link: https
 ://www.badmintonvlaanderen.be/sport/teammatch.aspx?id=541D9693-BA5C-49F3-B
 354-186D1A701882&match=63
DTSTART;TZID=Europe/Brussels:20241030T173000
DTEND;TZID=Europe/Brussels:20241030T173000
END:VEVENT
BEGIN:VEVENT
UID:541D9693-BA5C-49F3-B354-186D1A701882-2-65_awayreminder@111.badmintonner
 s.net
DTSTAMP:20260420T055145Z
SUMMARY:Uitmatch bevestigd? (Merksplas 1D (61) - Opslag 2D (64))
DESCRIPTION:Je hebt 72 uur na aanvang om een uitmatch op Badmintonvlaandere
 n in te vullen. Match info: Merksplas 1D (61) - Opslag 2D (64) - Link: htt
 ps://www.badmintonvlaanderen.be/sport/teammatch.aspx?id=541D9693-BA5C-49F3
 -B354-186D1A701882&match=65
DTSTART;TZID=Europe/Brussels:20241113T183000
DTEND;TZID=Europe/Brussels:20241113T183000
END:VEVENT
BEGIN:VEVENT
UID:541D9693-BA5C-49F3-B354-186D1A701882-2-68_awayreminder@111.badmintonner
 s.net
DTSTAMP:20260420T055145Z
SUMMARY:Uitmatch bevestigd? (Spinshuttle 2D (64) - Opslag 2D (64))
DESCRIPTION:Je hebt 72 uur na aanvang om een uitmatch op Badmintonvlaandere
 n in te vullen. Match info: Spinshuttle 2D (64) - Opslag 2D (64) - Link: h
 ttps://www.badmintonvlaanderen.be/sport/teammatch.aspx?id=541D9693-BA5C-49
 F3-B354-186D1A701882&match=68
DTSTART;TZID=Europe/Brussels:20250119T200000
DTEND;TZID=Europe/Brussels:20250119T200000
END:VEVENT
BEGIN:VEVENT
UID:541D9693-BA5C-49F3-B354-186D1A701882-2-64_awayreminder@111.badmintonner
 s.net
DTSTAMP:20260420T055145Z
SUMMARY:Uitmatch bevestigd? (Klein Boom 3D (64) - Opslag 2D (64))
DESCRIPTION:Je hebt 72 uur na aanvang om een uitmatch op Badmintonvlaandere
 n in te vullen. Match info: Klein Boom 3D (64) - Opslag 2D (64) - Link: ht
 tps://www.badmintonvlaanderen.be/sport/teammatch.aspx?id=541D9693-BA5C-49F
 3-B354-186D1A701882&match=64
DTSTART;TZID=Europe/Brussels:20250227T200000
DTEND;TZID=Europe/Brussels:20250227T200000
END:VEVENT
BEGIN:VEVENT
UID:541D9693-BA5C-49F3-B354-186D1A701882-2-66_awayreminder@111.badmintonner
 s.net
DTSTAMP:20260420T055145Z
SUMMARY:Uitmatch bevestigd? (Zandhoven 1D (62) - Opslag 2D (64))
DESCRIPTION:Je hebt 72 uur na aanvang om een uitmatch op Badmintonvlaandere
 n in te vullen. Match info: Zandhoven 1D (62) - Opslag 2D (64) - Link: htt
 ps://www.badmintonvlaanderen.be/sport/teammatch.aspx?id=541D9693-BA5C-49F3
 -B354-186D1A701882&match=66
DTSTART;TZID=Europe/Brussels:20250327T200000
DTEND;TZID=Europe/Brussels:20250327T200000
END:VEVENT
END:VCALENDAR