BEGIN:VCALENDAR
VERSION:2.0
PRODID:spatie/icalendar-generator
NAME:plumula_2d_70_reminders
X-WR-CALNAME:plumula_2d_70_reminders
BEGIN:VTIMEZONE
TZID:Europe/Brussels
BEGIN:DAYLIGHT
DTSTART:20240331T010000
TZOFFSETFROM:+0100
TZOFFSETTO:+0200
END:DAYLIGHT
BEGIN:STANDARD
DTSTART:20241027T030000
TZOFFSETFROM:+0200
TZOFFSETTO:+0100
END:STANDARD
BEGIN:DAYLIGHT
DTSTART:20250330T010000
TZOFFSETFROM:+0100
TZOFFSETTO:+0200
END:DAYLIGHT
END:VTIMEZONE
BEGIN:VTIMEZONE
TZID:UTC
BEGIN:STANDARD
DTSTART:20250724T054119
TZOFFSETFROM:+0000
TZOFFSETTO:+0000
END:STANDARD
END:VTIMEZONE
BEGIN:VEVENT
UID:541D9693-BA5C-49F3-B354-186D1A701882-2-87_homereminder@113.badmintonner
 s.net
DTSTAMP:20260420T054119Z
SUMMARY:Thuismatch ingevuld? (Plumula 2D (70) - De Nekker 1D (62))
DESCRIPTION:Je hebt 36 uur na aanvang om een thuismatch op Badmintonvlaande
 ren in te vullen. Match info: Plumula 2D (70) - De Nekker 1D (62) - Link: 
 https://www.badmintonvlaanderen.be/sport/teammatch.aspx?id=541D9693-BA5C-4
 9F3-B354-186D1A701882&match=87
DTSTART;TZID=Europe/Brussels:20240917T053000
DTEND;TZID=Europe/Brussels:20240917T053000
END:VEVENT
BEGIN:VEVENT
UID:541D9693-BA5C-49F3-B354-186D1A701882-2-63_homereminder@113.badmintonner
 s.net
DTSTAMP:20260420T054119Z
SUMMARY:Thuismatch ingevuld? (Plumula 2D (70) - Opslag 2D (64))
DESCRIPTION:Je hebt 36 uur na aanvang om een thuismatch op Badmintonvlaande
 ren in te vullen. Match info: Plumula 2D (70) - Opslag 2D (64) - Link: htt
 ps://www.badmintonvlaanderen.be/sport/teammatch.aspx?id=541D9693-BA5C-49F3
 -B354-186D1A701882&match=63
DTSTART;TZID=Europe/Brussels:20241029T053000
DTEND;TZID=Europe/Brussels:20241029T053000
END:VEVENT
BEGIN:VEVENT
UID:541D9693-BA5C-49F3-B354-186D1A701882-2-75_homereminder@113.badmintonner
 s.net
DTSTAMP:20260420T054119Z
SUMMARY:Thuismatch ingevuld? (Plumula 2D (70) - Merksplas 1D (61))
DESCRIPTION:Je hebt 36 uur na aanvang om een thuismatch op Badmintonvlaande
 ren in te vullen. Match info: Plumula 2D (70) - Merksplas 1D (61) - Link: 
 https://www.badmintonvlaanderen.be/sport/teammatch.aspx?id=541D9693-BA5C-4
 9F3-B354-186D1A701882&match=75
DTSTART;TZID=Europe/Brussels:20241126T053000
DTEND;TZID=Europe/Brussels:20241126T053000
END:VEVENT
BEGIN:VEVENT
UID:541D9693-BA5C-49F3-B354-186D1A701882-2-69_homereminder@113.badmintonner
 s.net
DTSTAMP:20260420T054119Z
SUMMARY:Thuismatch ingevuld? (Plumula 2D (70) - Klein Boom 3D (64))
DESCRIPTION:Je hebt 36 uur na aanvang om een thuismatch op Badmintonvlaande
 ren in te vullen. Match info: Plumula 2D (70) - Klein Boom 3D (64) - Link:
  https://www.badmintonvlaanderen.be/sport/teammatch.aspx?id=541D9693-BA5C-
 49F3-B354-186D1A701882&match=69
DTSTART;TZID=Europe/Brussels:20250218T053000
DTEND;TZID=Europe/Brussels:20250218T053000
END:VEVENT
BEGIN:VEVENT
UID:541D9693-BA5C-49F3-B354-186D1A701882-2-81_homereminder@113.badmintonner
 s.net
DTSTAMP:20260420T054119Z
SUMMARY:Thuismatch ingevuld? (Plumula 2D (70) - Zandhoven 1D (62))
DESCRIPTION:Je hebt 36 uur na aanvang om een thuismatch op Badmintonvlaande
 ren in te vullen. Match info: Plumula 2D (70) - Zandhoven 1D (62) - Link: 
 https://www.badmintonvlaanderen.be/sport/teammatch.aspx?id=541D9693-BA5C-4
 9F3-B354-186D1A701882&match=81
DTSTART;TZID=Europe/Brussels:20250318T053000
DTEND;TZID=Europe/Brussels:20250318T053000
END:VEVENT
BEGIN:VEVENT
UID:541D9693-BA5C-49F3-B354-186D1A701882-2-93_homereminder@113.badmintonner
 s.net
DTSTAMP:20260420T054119Z
SUMMARY:Thuismatch ingevuld? (Plumula 2D (70) - Spinshuttle 2D (64))
DESCRIPTION:Je hebt 36 uur na aanvang om een thuismatch op Badmintonvlaande
 ren in te vullen. Match info: Plumula 2D (70) - Spinshuttle 2D (64) - Link
 : https://www.badmintonvlaanderen.be/sport/teammatch.aspx?id=541D9693-BA5C
 -49F3-B354-186D1A701882&match=93
DTSTART;TZID=Europe/Brussels:20250415T053000
DTEND;TZID=Europe/Brussels:20250415T053000
END:VEVENT
BEGIN:VEVENT
UID:541D9693-BA5C-49F3-B354-186D1A701882-2-62_awayreminder@113.badmintonner
 s.net
DTSTAMP:20260420T054119Z
SUMMARY:Uitmatch bevestigd? (Spinshuttle 2D (64) - Plumula 2D (70))
DESCRIPTION:Je hebt 72 uur na aanvang om een uitmatch op Badmintonvlaandere
 n in te vullen. Match info: Spinshuttle 2D (64) - Plumula 2D (70) - Link: 
 https://www.badmintonvlaanderen.be/sport/teammatch.aspx?id=541D9693-BA5C-4
 9F3-B354-186D1A701882&match=62
DTSTART;TZID=Europe/Brussels:20240929T200000
DTEND;TZID=Europe/Brussels:20240929T200000
END:VEVENT
BEGIN:VEVENT
UID:541D9693-BA5C-49F3-B354-186D1A701882-2-60_awayreminder@113.badmintonner
 s.net
DTSTAMP:20260420T054119Z
SUMMARY:Uitmatch bevestigd? (Zandhoven 1D (62) - Plumula 2D (70))
DESCRIPTION:Je hebt 72 uur na aanvang om een uitmatch op Badmintonvlaandere
 n in te vullen. Match info: Zandhoven 1D (62) - Plumula 2D (70) - Link: ht
 tps://www.badmintonvlaanderen.be/sport/teammatch.aspx?id=541D9693-BA5C-49F
 3-B354-186D1A701882&match=60
DTSTART;TZID=Europe/Brussels:20241107T200000
DTEND;TZID=Europe/Brussels:20241107T200000
END:VEVENT
BEGIN:VEVENT
UID:541D9693-BA5C-49F3-B354-186D1A701882-2-58_awayreminder@113.badmintonner
 s.net
DTSTAMP:20260420T054119Z
SUMMARY:Uitmatch bevestigd? (Klein Boom 3D (64) - Plumula 2D (70))
DESCRIPTION:Je hebt 72 uur na aanvang om een uitmatch op Badmintonvlaandere
 n in te vullen. Match info: Klein Boom 3D (64) - Plumula 2D (70) - Link: h
 ttps://www.badmintonvlaanderen.be/sport/teammatch.aspx?id=541D9693-BA5C-49
 F3-B354-186D1A701882&match=58
DTSTART;TZID=Europe/Brussels:20241225T190000
DTEND;TZID=Europe/Brussels:20241225T190000
END:VEVENT
BEGIN:VEVENT
UID:541D9693-BA5C-49F3-B354-186D1A701882-2-57_awayreminder@113.badmintonner
 s.net
DTSTAMP:20260420T054119Z
SUMMARY:Uitmatch bevestigd? (Opslag 2D (64) - Plumula 2D (70))
DESCRIPTION:Je hebt 72 uur na aanvang om een uitmatch op Badmintonvlaandere
 n in te vullen. Match info: Opslag 2D (64) - Plumula 2D (70) - Link: https
 ://www.badmintonvlaanderen.be/sport/teammatch.aspx?id=541D9693-BA5C-49F3-B
 354-186D1A701882&match=57
DTSTART;TZID=Europe/Brussels:20250205T163000
DTEND;TZID=Europe/Brussels:20250205T163000
END:VEVENT
BEGIN:VEVENT
UID:541D9693-BA5C-49F3-B354-186D1A701882-2-59_awayreminder@113.badmintonner
 s.net
DTSTAMP:20260420T054119Z
SUMMARY:Uitmatch bevestigd? (Merksplas 1D (61) - Plumula 2D (70))
DESCRIPTION:Je hebt 72 uur na aanvang om een uitmatch op Badmintonvlaandere
 n in te vullen. Match info: Merksplas 1D (61) - Plumula 2D (70) - Link: ht
 tps://www.badmintonvlaanderen.be/sport/teammatch.aspx?id=541D9693-BA5C-49F
 3-B354-186D1A701882&match=59
DTSTART;TZID=Europe/Brussels:20250305T183000
DTEND;TZID=Europe/Brussels:20250305T183000
END:VEVENT
BEGIN:VEVENT
UID:541D9693-BA5C-49F3-B354-186D1A701882-2-61_awayreminder@113.badmintonner
 s.net
DTSTAMP:20260420T054119Z
SUMMARY:Uitmatch bevestigd? (De Nekker 1D (62) - Plumula 2D (70))
DESCRIPTION:Je hebt 72 uur na aanvang om een uitmatch op Badmintonvlaandere
 n in te vullen. Match info: De Nekker 1D (62) - Plumula 2D (70) - Link: ht
 tps://www.badmintonvlaanderen.be/sport/teammatch.aspx?id=541D9693-BA5C-49F
 3-B354-186D1A701882&match=61
DTSTART;TZID=Europe/Brussels:20250412T203000
DTEND;TZID=Europe/Brussels:20250412T203000
END:VEVENT
END:VCALENDAR