BEGIN:VCALENDAR
VERSION:2.0
PRODID:spatie/icalendar-generator
NAME:spinshuttle_2d_64_reminders
X-WR-CALNAME:spinshuttle_2d_64_reminders
BEGIN:VTIMEZONE
TZID:Europe/Brussels
BEGIN:DAYLIGHT
DTSTART:20240331T010000
TZOFFSETFROM:+0100
TZOFFSETTO:+0200
END:DAYLIGHT
BEGIN:STANDARD
DTSTART:20241027T030000
TZOFFSETFROM:+0200
TZOFFSETTO:+0100
END:STANDARD
BEGIN:DAYLIGHT
DTSTART:20250330T010000
TZOFFSETFROM:+0100
TZOFFSETTO:+0200
END:DAYLIGHT
END:VTIMEZONE
BEGIN:VTIMEZONE
TZID:UTC
BEGIN:STANDARD
DTSTART:20250724T072409
TZOFFSETFROM:+0000
TZOFFSETTO:+0000
END:STANDARD
END:VTIMEZONE
BEGIN:VEVENT
UID:541D9693-BA5C-49F3-B354-186D1A701882-2-62_homereminder@118.badmintonner
 s.net
DTSTAMP:20260420T072409Z
SUMMARY:Thuismatch ingevuld? (Spinshuttle 2D (64) - Plumula 2D (70))
DESCRIPTION:Je hebt 36 uur na aanvang om een thuismatch op Badmintonvlaande
 ren in te vullen. Match info: Spinshuttle 2D (64) - Plumula 2D (70) - Link
 : https://www.badmintonvlaanderen.be/sport/teammatch.aspx?id=541D9693-BA5C
 -49F3-B354-186D1A701882&match=62
DTSTART;TZID=Europe/Brussels:20240928T080000
DTEND;TZID=Europe/Brussels:20240928T080000
END:VEVENT
BEGIN:VEVENT
UID:541D9693-BA5C-49F3-B354-186D1A701882-2-74_homereminder@118.badmintonner
 s.net
DTSTAMP:20260420T072409Z
SUMMARY:Thuismatch ingevuld? (Spinshuttle 2D (64) - Klein Boom 3D (64))
DESCRIPTION:Je hebt 36 uur na aanvang om een thuismatch op Badmintonvlaande
 ren in te vullen. Match info: Spinshuttle 2D (64) - Klein Boom 3D (64) - L
 ink: https://www.badmintonvlaanderen.be/sport/teammatch.aspx?id=541D9693-B
 A5C-49F3-B354-186D1A701882&match=74
DTSTART;TZID=Europe/Brussels:20241116T080000
DTEND;TZID=Europe/Brussels:20241116T080000
END:VEVENT
BEGIN:VEVENT
UID:541D9693-BA5C-49F3-B354-186D1A701882-2-86_homereminder@118.badmintonner
 s.net
DTSTAMP:20260420T072409Z
SUMMARY:Thuismatch ingevuld? (Spinshuttle 2D (64) - Zandhoven 1D (62))
DESCRIPTION:Je hebt 36 uur na aanvang om een thuismatch op Badmintonvlaande
 ren in te vullen. Match info: Spinshuttle 2D (64) - Zandhoven 1D (62) - Li
 nk: https://www.badmintonvlaanderen.be/sport/teammatch.aspx?id=541D9693-BA
 5C-49F3-B354-186D1A701882&match=86
DTSTART;TZID=Europe/Brussels:20241123T080000
DTEND;TZID=Europe/Brussels:20241123T080000
END:VEVENT
BEGIN:VEVENT
UID:541D9693-BA5C-49F3-B354-186D1A701882-2-68_homereminder@118.badmintonner
 s.net
DTSTAMP:20260420T072409Z
SUMMARY:Thuismatch ingevuld? (Spinshuttle 2D (64) - Opslag 2D (64))
DESCRIPTION:Je hebt 36 uur na aanvang om een thuismatch op Badmintonvlaande
 ren in te vullen. Match info: Spinshuttle 2D (64) - Opslag 2D (64) - Link:
  https://www.badmintonvlaanderen.be/sport/teammatch.aspx?id=541D9693-BA5C-
 49F3-B354-186D1A701882&match=68
DTSTART;TZID=Europe/Brussels:20250118T080000
DTEND;TZID=Europe/Brussels:20250118T080000
END:VEVENT
BEGIN:VEVENT
UID:541D9693-BA5C-49F3-B354-186D1A701882-2-80_homereminder@118.badmintonner
 s.net
DTSTAMP:20260420T072409Z
SUMMARY:Thuismatch ingevuld? (Spinshuttle 2D (64) - Merksplas 1D (61))
DESCRIPTION:Je hebt 36 uur na aanvang om een thuismatch op Badmintonvlaande
 ren in te vullen. Match info: Spinshuttle 2D (64) - Merksplas 1D (61) - Li
 nk: https://www.badmintonvlaanderen.be/sport/teammatch.aspx?id=541D9693-BA
 5C-49F3-B354-186D1A701882&match=80
DTSTART;TZID=Europe/Brussels:20250215T080000
DTEND;TZID=Europe/Brussels:20250215T080000
END:VEVENT
BEGIN:VEVENT
UID:541D9693-BA5C-49F3-B354-186D1A701882-2-92_homereminder@118.badmintonner
 s.net
DTSTAMP:20260420T072409Z
SUMMARY:Thuismatch ingevuld? (Spinshuttle 2D (64) - De Nekker 1D (62))
DESCRIPTION:Je hebt 36 uur na aanvang om een thuismatch op Badmintonvlaande
 ren in te vullen. Match info: Spinshuttle 2D (64) - De Nekker 1D (62) - Li
 nk: https://www.badmintonvlaanderen.be/sport/teammatch.aspx?id=541D9693-BA
 5C-49F3-B354-186D1A701882&match=92
DTSTART;TZID=Europe/Brussels:20250315T080000
DTEND;TZID=Europe/Brussels:20250315T080000
END:VEVENT
BEGIN:VEVENT
UID:541D9693-BA5C-49F3-B354-186D1A701882-2-94_awayreminder@118.badmintonner
 s.net
DTSTAMP:20260420T072409Z
SUMMARY:Uitmatch bevestigd? (Opslag 2D (64) - Spinshuttle 2D (64))
DESCRIPTION:Je hebt 72 uur na aanvang om een uitmatch op Badmintonvlaandere
 n in te vullen. Match info: Opslag 2D (64) - Spinshuttle 2D (64) - Link: h
 ttps://www.badmintonvlaanderen.be/sport/teammatch.aspx?id=541D9693-BA5C-49
 F3-B354-186D1A701882&match=94
DTSTART;TZID=Europe/Brussels:20241002T163000
DTEND;TZID=Europe/Brussels:20241002T163000
END:VEVENT
BEGIN:VEVENT
UID:541D9693-BA5C-49F3-B354-186D1A701882-2-98_awayreminder@118.badmintonner
 s.net
DTSTAMP:20260420T072409Z
SUMMARY:Uitmatch bevestigd? (De Nekker 1D (62) - Spinshuttle 2D (64))
DESCRIPTION:Je hebt 72 uur na aanvang om een uitmatch op Badmintonvlaandere
 n in te vullen. Match info: De Nekker 1D (62) - Spinshuttle 2D (64) - Link
 : https://www.badmintonvlaanderen.be/sport/teammatch.aspx?id=541D9693-BA5C
 -49F3-B354-186D1A701882&match=98
DTSTART;TZID=Europe/Brussels:20241109T203000
DTEND;TZID=Europe/Brussels:20241109T203000
END:VEVENT
BEGIN:VEVENT
UID:541D9693-BA5C-49F3-B354-186D1A701882-2-96_awayreminder@118.badmintonner
 s.net
DTSTAMP:20260420T072409Z
SUMMARY:Uitmatch bevestigd? (Merksplas 1D (61) - Spinshuttle 2D (64))
DESCRIPTION:Je hebt 72 uur na aanvang om een uitmatch op Badmintonvlaandere
 n in te vullen. Match info: Merksplas 1D (61) - Spinshuttle 2D (64) - Link
 : https://www.badmintonvlaanderen.be/sport/teammatch.aspx?id=541D9693-BA5C
 -49F3-B354-186D1A701882&match=96
DTSTART;TZID=Europe/Brussels:20241225T183000
DTEND;TZID=Europe/Brussels:20241225T183000
END:VEVENT
BEGIN:VEVENT
UID:541D9693-BA5C-49F3-B354-186D1A701882-2-95_awayreminder@118.badmintonner
 s.net
DTSTAMP:20260420T072409Z
SUMMARY:Uitmatch bevestigd? (Klein Boom 3D (64) - Spinshuttle 2D (64))
DESCRIPTION:Je hebt 72 uur na aanvang om een uitmatch op Badmintonvlaandere
 n in te vullen. Match info: Klein Boom 3D (64) - Spinshuttle 2D (64) - Lin
 k: https://www.badmintonvlaanderen.be/sport/teammatch.aspx?id=541D9693-BA5
 C-49F3-B354-186D1A701882&match=95
DTSTART;TZID=Europe/Brussels:20250108T190000
DTEND;TZID=Europe/Brussels:20250108T190000
END:VEVENT
BEGIN:VEVENT
UID:541D9693-BA5C-49F3-B354-186D1A701882-2-97_awayreminder@118.badmintonner
 s.net
DTSTAMP:20260420T072409Z
SUMMARY:Uitmatch bevestigd? (Zandhoven 1D (62) - Spinshuttle 2D (64))
DESCRIPTION:Je hebt 72 uur na aanvang om een uitmatch op Badmintonvlaandere
 n in te vullen. Match info: Zandhoven 1D (62) - Spinshuttle 2D (64) - Link
 : https://www.badmintonvlaanderen.be/sport/teammatch.aspx?id=541D9693-BA5C
 -49F3-B354-186D1A701882&match=97
DTSTART;TZID=Europe/Brussels:20250227T200000
DTEND;TZID=Europe/Brussels:20250227T200000
END:VEVENT
BEGIN:VEVENT
UID:541D9693-BA5C-49F3-B354-186D1A701882-2-93_awayreminder@118.badmintonner
 s.net
DTSTAMP:20260420T072409Z
SUMMARY:Uitmatch bevestigd? (Plumula 2D (70) - Spinshuttle 2D (64))
DESCRIPTION:Je hebt 72 uur na aanvang om een uitmatch op Badmintonvlaandere
 n in te vullen. Match info: Plumula 2D (70) - Spinshuttle 2D (64) - Link: 
 https://www.badmintonvlaanderen.be/sport/teammatch.aspx?id=541D9693-BA5C-4
 9F3-B354-186D1A701882&match=93
DTSTART;TZID=Europe/Brussels:20250416T173000
DTEND;TZID=Europe/Brussels:20250416T173000
END:VEVENT
END:VCALENDAR