BEGIN:VCALENDAR
VERSION:2.0
PRODID:spatie/icalendar-generator
NAME:waverse_1g_114_reminders
X-WR-CALNAME:waverse_1g_114_reminders
BEGIN:VTIMEZONE
TZID:Europe/Brussels
BEGIN:DAYLIGHT
DTSTART:20240331T010000
TZOFFSETFROM:+0100
TZOFFSETTO:+0200
END:DAYLIGHT
BEGIN:STANDARD
DTSTART:20241027T030000
TZOFFSETFROM:+0200
TZOFFSETTO:+0100
END:STANDARD
BEGIN:DAYLIGHT
DTSTART:20250330T010000
TZOFFSETFROM:+0100
TZOFFSETTO:+0200
END:DAYLIGHT
END:VTIMEZONE
BEGIN:VTIMEZONE
TZID:UTC
BEGIN:STANDARD
DTSTART:20250724T072402
TZOFFSETFROM:+0000
TZOFFSETTO:+0000
END:STANDARD
END:VTIMEZONE
BEGIN:VEVENT
UID:541D9693-BA5C-49F3-B354-186D1A701882-23-990_homereminder@169.badmintonn
 ers.net
DTSTAMP:20260420T072402Z
SUMMARY:Thuismatch ingevuld? (Waverse 1G (114) - Olve 5G (113))
DESCRIPTION:Je hebt 36 uur na aanvang om een thuismatch op Badmintonvlaande
 ren in te vullen. Match info: Waverse 1G (114) - Olve 5G (113) - Link: htt
 ps://www.badmintonvlaanderen.be/sport/teammatch.aspx?id=541D9693-BA5C-49F3
 -B354-186D1A701882&match=990
DTSTART;TZID=Europe/Brussels:20241008T020000
DTEND;TZID=Europe/Brussels:20241008T020000
END:VEVENT
BEGIN:VEVENT
UID:541D9693-BA5C-49F3-B354-186D1A701882-23-980_homereminder@169.badmintonn
 ers.net
DTSTAMP:20260420T072402Z
SUMMARY:Thuismatch ingevuld? (Waverse 1G (114) - Spinshuttle 3G (94))
DESCRIPTION:Je hebt 36 uur na aanvang om een thuismatch op Badmintonvlaande
 ren in te vullen. Match info: Waverse 1G (114) - Spinshuttle 3G (94) - Lin
 k: https://www.badmintonvlaanderen.be/sport/teammatch.aspx?id=541D9693-BA5
 C-49F3-B354-186D1A701882&match=980
DTSTART;TZID=Europe/Brussels:20241126T020000
DTEND;TZID=Europe/Brussels:20241126T020000
END:VEVENT
BEGIN:VEVENT
UID:541D9693-BA5C-49F3-B354-186D1A701882-23-964_homereminder@169.badmintonn
 ers.net
DTSTAMP:20260420T072402Z
SUMMARY:Thuismatch ingevuld? (Waverse 1G (114) - Beerke 5G (116))
DESCRIPTION:Je hebt 36 uur na aanvang om een thuismatch op Badmintonvlaande
 ren in te vullen. Match info: Waverse 1G (114) - Beerke 5G (116) - Link: h
 ttps://www.badmintonvlaanderen.be/sport/teammatch.aspx?id=541D9693-BA5C-49
 F3-B354-186D1A701882&match=964
DTSTART;TZID=Europe/Brussels:20241210T020000
DTEND;TZID=Europe/Brussels:20241210T020000
END:VEVENT
BEGIN:VEVENT
UID:541D9693-BA5C-49F3-B354-186D1A701882-23-985_homereminder@169.badmintonn
 ers.net
DTSTAMP:20260420T072402Z
SUMMARY:Thuismatch ingevuld? (Waverse 1G (114) - Herentals 5G (115))
DESCRIPTION:Je hebt 36 uur na aanvang om een thuismatch op Badmintonvlaande
 ren in te vullen. Match info: Waverse 1G (114) - Herentals 5G (115) - Link
 : https://www.badmintonvlaanderen.be/sport/teammatch.aspx?id=541D9693-BA5C
 -49F3-B354-186D1A701882&match=985
DTSTART;TZID=Europe/Brussels:20250218T020000
DTEND;TZID=Europe/Brussels:20250218T020000
END:VEVENT
BEGIN:VEVENT
UID:541D9693-BA5C-49F3-B354-186D1A701882-23-969_homereminder@169.badmintonn
 ers.net
DTSTAMP:20260420T072402Z
SUMMARY:Thuismatch ingevuld? (Waverse 1G (114) - Klein Boom 5G (102))
DESCRIPTION:Je hebt 36 uur na aanvang om een thuismatch op Badmintonvlaande
 ren in te vullen. Match info: Waverse 1G (114) - Klein Boom 5G (102) - Lin
 k: https://www.badmintonvlaanderen.be/sport/teammatch.aspx?id=541D9693-BA5
 C-49F3-B354-186D1A701882&match=969
DTSTART;TZID=Europe/Brussels:20250325T020000
DTEND;TZID=Europe/Brussels:20250325T020000
END:VEVENT
BEGIN:VEVENT
UID:541D9693-BA5C-49F3-B354-186D1A701882-23-976_awayreminder@169.badmintonn
 ers.net
DTSTAMP:20260420T072402Z
SUMMARY:Uitmatch bevestigd? (Herentals 5G (115) - Waverse 1G (114))
DESCRIPTION:Je hebt 72 uur na aanvang om een uitmatch op Badmintonvlaandere
 n in te vullen. Match info: Herentals 5G (115) - Waverse 1G (114) - Link: 
 https://www.badmintonvlaanderen.be/sport/teammatch.aspx?id=541D9693-BA5C-4
 9F3-B354-186D1A701882&match=976
DTSTART;TZID=Europe/Brussels:20241006T210000
DTEND;TZID=Europe/Brussels:20241006T210000
END:VEVENT
BEGIN:VEVENT
UID:541D9693-BA5C-49F3-B354-186D1A701882-23-974_awayreminder@169.badmintonn
 ers.net
DTSTAMP:20260420T072402Z
SUMMARY:Uitmatch bevestigd? (Klein Boom 5G (102) - Waverse 1G (114))
DESCRIPTION:Je hebt 72 uur na aanvang om een uitmatch op Badmintonvlaandere
 n in te vullen. Match info: Klein Boom 5G (102) - Waverse 1G (114) - Link:
  https://www.badmintonvlaanderen.be/sport/teammatch.aspx?id=541D9693-BA5C-
 49F3-B354-186D1A701882&match=974
DTSTART;TZID=Europe/Brussels:20241204T190000
DTEND;TZID=Europe/Brussels:20241204T190000
END:VEVENT
BEGIN:VEVENT
UID:541D9693-BA5C-49F3-B354-186D1A701882-23-977_awayreminder@169.badmintonn
 ers.net
DTSTAMP:20260420T072402Z
SUMMARY:Uitmatch bevestigd? (Olve 5G (113) - Waverse 1G (114))
DESCRIPTION:Je hebt 72 uur na aanvang om een uitmatch op Badmintonvlaandere
 n in te vullen. Match info: Olve 5G (113) - Waverse 1G (114) - Link: https
 ://www.badmintonvlaanderen.be/sport/teammatch.aspx?id=541D9693-BA5C-49F3-B
 354-186D1A701882&match=977
DTSTART;TZID=Europe/Brussels:20250211T103000
DTEND;TZID=Europe/Brussels:20250211T103000
END:VEVENT
BEGIN:VEVENT
UID:541D9693-BA5C-49F3-B354-186D1A701882-23-973_awayreminder@169.badmintonn
 ers.net
DTSTAMP:20260420T072402Z
SUMMARY:Uitmatch bevestigd? (Beerke 5G (116) - Waverse 1G (114))
DESCRIPTION:Je hebt 72 uur na aanvang om een uitmatch op Badmintonvlaandere
 n in te vullen. Match info: Beerke 5G (116) - Waverse 1G (114) - Link: htt
 ps://www.badmintonvlaanderen.be/sport/teammatch.aspx?id=541D9693-BA5C-49F3
 -B354-186D1A701882&match=973
DTSTART;TZID=Europe/Brussels:20250312T100000
DTEND;TZID=Europe/Brussels:20250312T100000
END:VEVENT
BEGIN:VEVENT
UID:541D9693-BA5C-49F3-B354-186D1A701882-23-975_awayreminder@169.badmintonn
 ers.net
DTSTAMP:20260420T072402Z
SUMMARY:Uitmatch bevestigd? (Spinshuttle 3G (94) - Waverse 1G (114))
DESCRIPTION:Je hebt 72 uur na aanvang om een uitmatch op Badmintonvlaandere
 n in te vullen. Match info: Spinshuttle 3G (94) - Waverse 1G (114) - Link:
  https://www.badmintonvlaanderen.be/sport/teammatch.aspx?id=541D9693-BA5C-
 49F3-B354-186D1A701882&match=975
DTSTART;TZID=Europe/Brussels:20250404T200000
DTEND;TZID=Europe/Brussels:20250404T200000
END:VEVENT
END:VCALENDAR