BEGIN:VCALENDAR
VERSION:2.0
PRODID:spatie/icalendar-generator
NAME:klein_boom_5g_102_reminders
X-WR-CALNAME:klein_boom_5g_102_reminders
BEGIN:VTIMEZONE
TZID:Europe/Brussels
BEGIN:DAYLIGHT
DTSTART:20240331T010000
TZOFFSETFROM:+0100
TZOFFSETTO:+0200
END:DAYLIGHT
BEGIN:STANDARD
DTSTART:20241027T030000
TZOFFSETFROM:+0200
TZOFFSETTO:+0100
END:STANDARD
BEGIN:DAYLIGHT
DTSTART:20250330T010000
TZOFFSETFROM:+0100
TZOFFSETTO:+0200
END:DAYLIGHT
END:VTIMEZONE
BEGIN:VTIMEZONE
TZID:UTC
BEGIN:STANDARD
DTSTART:20250724T055138
TZOFFSETFROM:+0000
TZOFFSETTO:+0000
END:STANDARD
END:VTIMEZONE
BEGIN:VEVENT
UID:541D9693-BA5C-49F3-B354-186D1A701882-23-989_homereminder@175.badmintonn
 ers.net
DTSTAMP:20260420T055138Z
SUMMARY:Thuismatch ingevuld? (Klein Boom 5G (102) - Olve 5G (113))
DESCRIPTION:Je hebt 36 uur na aanvang om een thuismatch op Badmintonvlaande
 ren in te vullen. Match info: Klein Boom 5G (102) - Olve 5G (113) - Link: 
 https://www.badmintonvlaanderen.be/sport/teammatch.aspx?id=541D9693-BA5C-4
 9F3-B354-186D1A701882&match=989
DTSTART;TZID=Europe/Brussels:20240924T070000
DTEND;TZID=Europe/Brussels:20240924T070000
END:VEVENT
BEGIN:VEVENT
UID:541D9693-BA5C-49F3-B354-186D1A701882-23-974_homereminder@175.badmintonn
 ers.net
DTSTAMP:20260420T055138Z
SUMMARY:Thuismatch ingevuld? (Klein Boom 5G (102) - Waverse 1G (114))
DESCRIPTION:Je hebt 36 uur na aanvang om een thuismatch op Badmintonvlaande
 ren in te vullen. Match info: Klein Boom 5G (102) - Waverse 1G (114) - Lin
 k: https://www.badmintonvlaanderen.be/sport/teammatch.aspx?id=541D9693-BA5
 C-49F3-B354-186D1A701882&match=974
DTSTART;TZID=Europe/Brussels:20241203T070000
DTEND;TZID=Europe/Brussels:20241203T070000
END:VEVENT
BEGIN:VEVENT
UID:541D9693-BA5C-49F3-B354-186D1A701882-23-984_homereminder@175.badmintonn
 ers.net
DTSTAMP:20260420T055138Z
SUMMARY:Thuismatch ingevuld? (Klein Boom 5G (102) - Herentals 5G (115))
DESCRIPTION:Je hebt 36 uur na aanvang om een thuismatch op Badmintonvlaande
 ren in te vullen. Match info: Klein Boom 5G (102) - Herentals 5G (115) - L
 ink: https://www.badmintonvlaanderen.be/sport/teammatch.aspx?id=541D9693-B
 A5C-49F3-B354-186D1A701882&match=984
DTSTART;TZID=Europe/Brussels:20241217T070000
DTEND;TZID=Europe/Brussels:20241217T070000
END:VEVENT
BEGIN:VEVENT
UID:541D9693-BA5C-49F3-B354-186D1A701882-23-963_homereminder@175.badmintonn
 ers.net
DTSTAMP:20260420T055138Z
SUMMARY:Thuismatch ingevuld? (Klein Boom 5G (102) - Beerke 5G (116))
DESCRIPTION:Je hebt 36 uur na aanvang om een thuismatch op Badmintonvlaande
 ren in te vullen. Match info: Klein Boom 5G (102) - Beerke 5G (116) - Link
 : https://www.badmintonvlaanderen.be/sport/teammatch.aspx?id=541D9693-BA5C
 -49F3-B354-186D1A701882&match=963
DTSTART;TZID=Europe/Brussels:20250114T070000
DTEND;TZID=Europe/Brussels:20250114T070000
END:VEVENT
BEGIN:VEVENT
UID:541D9693-BA5C-49F3-B354-186D1A701882-23-979_homereminder@175.badmintonn
 ers.net
DTSTAMP:20260420T055138Z
SUMMARY:Thuismatch ingevuld? (Klein Boom 5G (102) - Spinshuttle 3G (94))
DESCRIPTION:Je hebt 36 uur na aanvang om een thuismatch op Badmintonvlaande
 ren in te vullen. Match info: Klein Boom 5G (102) - Spinshuttle 3G (94) - 
 Link: https://www.badmintonvlaanderen.be/sport/teammatch.aspx?id=541D9693-
 BA5C-49F3-B354-186D1A701882&match=979
DTSTART;TZID=Europe/Brussels:20250211T070000
DTEND;TZID=Europe/Brussels:20250211T070000
END:VEVENT
BEGIN:VEVENT
UID:541D9693-BA5C-49F3-B354-186D1A701882-23-968_awayreminder@175.badmintonn
 ers.net
DTSTAMP:20260420T055138Z
SUMMARY:Uitmatch bevestigd? (Beerke 5G (116) - Klein Boom 5G (102))
DESCRIPTION:Je hebt 72 uur na aanvang om een uitmatch op Badmintonvlaandere
 n in te vullen. Match info: Beerke 5G (116) - Klein Boom 5G (102) - Link: 
 https://www.badmintonvlaanderen.be/sport/teammatch.aspx?id=541D9693-BA5C-4
 9F3-B354-186D1A701882&match=968
DTSTART;TZID=Europe/Brussels:20241009T100000
DTEND;TZID=Europe/Brussels:20241009T100000
END:VEVENT
BEGIN:VEVENT
UID:541D9693-BA5C-49F3-B354-186D1A701882-23-970_awayreminder@175.badmintonn
 ers.net
DTSTAMP:20260420T055138Z
SUMMARY:Uitmatch bevestigd? (Spinshuttle 3G (94) - Klein Boom 5G (102))
DESCRIPTION:Je hebt 72 uur na aanvang om een uitmatch op Badmintonvlaandere
 n in te vullen. Match info: Spinshuttle 3G (94) - Klein Boom 5G (102) - Li
 nk: https://www.badmintonvlaanderen.be/sport/teammatch.aspx?id=541D9693-BA
 5C-49F3-B354-186D1A701882&match=970
DTSTART;TZID=Europe/Brussels:20241018T200000
DTEND;TZID=Europe/Brussels:20241018T200000
END:VEVENT
BEGIN:VEVENT
UID:541D9693-BA5C-49F3-B354-186D1A701882-23-972_awayreminder@175.badmintonn
 ers.net
DTSTAMP:20260420T055138Z
SUMMARY:Uitmatch bevestigd? (Olve 5G (113) - Klein Boom 5G (102))
DESCRIPTION:Je hebt 72 uur na aanvang om een uitmatch op Badmintonvlaandere
 n in te vullen. Match info: Olve 5G (113) - Klein Boom 5G (102) - Link: ht
 tps://www.badmintonvlaanderen.be/sport/teammatch.aspx?id=541D9693-BA5C-49F
 3-B354-186D1A701882&match=972
DTSTART;TZID=Europe/Brussels:20250128T103000
DTEND;TZID=Europe/Brussels:20250128T103000
END:VEVENT
BEGIN:VEVENT
UID:541D9693-BA5C-49F3-B354-186D1A701882-23-969_awayreminder@175.badmintonn
 ers.net
DTSTAMP:20260420T055138Z
SUMMARY:Uitmatch bevestigd? (Waverse 1G (114) - Klein Boom 5G (102))
DESCRIPTION:Je hebt 72 uur na aanvang om een uitmatch op Badmintonvlaandere
 n in te vullen. Match info: Waverse 1G (114) - Klein Boom 5G (102) - Link:
  https://www.badmintonvlaanderen.be/sport/teammatch.aspx?id=541D9693-BA5C-
 49F3-B354-186D1A701882&match=969
DTSTART;TZID=Europe/Brussels:20250326T140000
DTEND;TZID=Europe/Brussels:20250326T140000
END:VEVENT
BEGIN:VEVENT
UID:541D9693-BA5C-49F3-B354-186D1A701882-23-971_awayreminder@175.badmintonn
 ers.net
DTSTAMP:20260420T055138Z
SUMMARY:Uitmatch bevestigd? (Herentals 5G (115) - Klein Boom 5G (102))
DESCRIPTION:Je hebt 72 uur na aanvang om een uitmatch op Badmintonvlaandere
 n in te vullen. Match info: Herentals 5G (115) - Klein Boom 5G (102) - Lin
 k: https://www.badmintonvlaanderen.be/sport/teammatch.aspx?id=541D9693-BA5
 C-49F3-B354-186D1A701882&match=971
DTSTART;TZID=Europe/Brussels:20250406T210000
DTEND;TZID=Europe/Brussels:20250406T210000
END:VEVENT
END:VCALENDAR