BEGIN:VCALENDAR
VERSION:2.0
PRODID:spatie/icalendar-generator
NAME:beerke_5g_116_reminders
X-WR-CALNAME:beerke_5g_116_reminders
BEGIN:VTIMEZONE
TZID:Europe/Brussels
BEGIN:DAYLIGHT
DTSTART:20240331T010000
TZOFFSETFROM:+0100
TZOFFSETTO:+0200
END:DAYLIGHT
BEGIN:STANDARD
DTSTART:20241027T030000
TZOFFSETFROM:+0200
TZOFFSETTO:+0100
END:STANDARD
BEGIN:DAYLIGHT
DTSTART:20250330T010000
TZOFFSETFROM:+0100
TZOFFSETTO:+0200
END:DAYLIGHT
END:VTIMEZONE
BEGIN:VTIMEZONE
TZID:UTC
BEGIN:STANDARD
DTSTART:20250724T055127
TZOFFSETFROM:+0000
TZOFFSETTO:+0000
END:STANDARD
END:VTIMEZONE
BEGIN:VEVENT
UID:541D9693-BA5C-49F3-B354-186D1A701882-23-988_homereminder@183.badmintonn
 ers.net
DTSTAMP:20260420T055127Z
SUMMARY:Thuismatch ingevuld? (Beerke 5G (116) - Olve 5G (113))
DESCRIPTION:Je hebt 36 uur na aanvang om een thuismatch op Badmintonvlaande
 ren in te vullen. Match info: Beerke 5G (116) - Olve 5G (113) - Link: http
 s://www.badmintonvlaanderen.be/sport/teammatch.aspx?id=541D9693-BA5C-49F3-
 B354-186D1A701882&match=988
DTSTART;TZID=Europe/Brussels:20240916T220000
DTEND;TZID=Europe/Brussels:20240916T220000
END:VEVENT
BEGIN:VEVENT
UID:541D9693-BA5C-49F3-B354-186D1A701882-23-968_homereminder@183.badmintonn
 ers.net
DTSTAMP:20260420T055127Z
SUMMARY:Thuismatch ingevuld? (Beerke 5G (116) - Klein Boom 5G (102))
DESCRIPTION:Je hebt 36 uur na aanvang om een thuismatch op Badmintonvlaande
 ren in te vullen. Match info: Beerke 5G (116) - Klein Boom 5G (102) - Link
 : https://www.badmintonvlaanderen.be/sport/teammatch.aspx?id=541D9693-BA5C
 -49F3-B354-186D1A701882&match=968
DTSTART;TZID=Europe/Brussels:20241007T220000
DTEND;TZID=Europe/Brussels:20241007T220000
END:VEVENT
BEGIN:VEVENT
UID:541D9693-BA5C-49F3-B354-186D1A701882-23-978_homereminder@183.badmintonn
 ers.net
DTSTAMP:20260420T055127Z
SUMMARY:Thuismatch ingevuld? (Beerke 5G (116) - Spinshuttle 3G (94))
DESCRIPTION:Je hebt 36 uur na aanvang om een thuismatch op Badmintonvlaande
 ren in te vullen. Match info: Beerke 5G (116) - Spinshuttle 3G (94) - Link
 : https://www.badmintonvlaanderen.be/sport/teammatch.aspx?id=541D9693-BA5C
 -49F3-B354-186D1A701882&match=978
DTSTART;TZID=Europe/Brussels:20241118T220000
DTEND;TZID=Europe/Brussels:20241118T220000
END:VEVENT
BEGIN:VEVENT
UID:541D9693-BA5C-49F3-B354-186D1A701882-23-983_homereminder@183.badmintonn
 ers.net
DTSTAMP:20260420T055127Z
SUMMARY:Thuismatch ingevuld? (Beerke 5G (116) - Herentals 5G (115))
DESCRIPTION:Je hebt 36 uur na aanvang om een thuismatch op Badmintonvlaande
 ren in te vullen. Match info: Beerke 5G (116) - Herentals 5G (115) - Link:
  https://www.badmintonvlaanderen.be/sport/teammatch.aspx?id=541D9693-BA5C-
 49F3-B354-186D1A701882&match=983
DTSTART;TZID=Europe/Brussels:20250210T220000
DTEND;TZID=Europe/Brussels:20250210T220000
END:VEVENT
BEGIN:VEVENT
UID:541D9693-BA5C-49F3-B354-186D1A701882-23-973_homereminder@183.badmintonn
 ers.net
DTSTAMP:20260420T055127Z
SUMMARY:Thuismatch ingevuld? (Beerke 5G (116) - Waverse 1G (114))
DESCRIPTION:Je hebt 36 uur na aanvang om een thuismatch op Badmintonvlaande
 ren in te vullen. Match info: Beerke 5G (116) - Waverse 1G (114) - Link: h
 ttps://www.badmintonvlaanderen.be/sport/teammatch.aspx?id=541D9693-BA5C-49
 F3-B354-186D1A701882&match=973
DTSTART;TZID=Europe/Brussels:20250310T220000
DTEND;TZID=Europe/Brussels:20250310T220000
END:VEVENT
BEGIN:VEVENT
UID:541D9693-BA5C-49F3-B354-186D1A701882-23-966_awayreminder@183.badmintonn
 ers.net
DTSTAMP:20260420T055127Z
SUMMARY:Uitmatch bevestigd? (Herentals 5G (115) - Beerke 5G (116))
DESCRIPTION:Je hebt 72 uur na aanvang om een uitmatch op Badmintonvlaandere
 n in te vullen. Match info: Herentals 5G (115) - Beerke 5G (116) - Link: h
 ttps://www.badmintonvlaanderen.be/sport/teammatch.aspx?id=541D9693-BA5C-49
 F3-B354-186D1A701882&match=966
DTSTART;TZID=Europe/Brussels:20241027T200000
DTEND;TZID=Europe/Brussels:20241027T200000
END:VEVENT
BEGIN:VEVENT
UID:541D9693-BA5C-49F3-B354-186D1A701882-23-964_awayreminder@183.badmintonn
 ers.net
DTSTAMP:20260420T055127Z
SUMMARY:Uitmatch bevestigd? (Waverse 1G (114) - Beerke 5G (116))
DESCRIPTION:Je hebt 72 uur na aanvang om een uitmatch op Badmintonvlaandere
 n in te vullen. Match info: Waverse 1G (114) - Beerke 5G (116) - Link: htt
 ps://www.badmintonvlaanderen.be/sport/teammatch.aspx?id=541D9693-BA5C-49F3
 -B354-186D1A701882&match=964
DTSTART;TZID=Europe/Brussels:20241211T140000
DTEND;TZID=Europe/Brussels:20241211T140000
END:VEVENT
BEGIN:VEVENT
UID:541D9693-BA5C-49F3-B354-186D1A701882-23-963_awayreminder@183.badmintonn
 ers.net
DTSTAMP:20260420T055127Z
SUMMARY:Uitmatch bevestigd? (Klein Boom 5G (102) - Beerke 5G (116))
DESCRIPTION:Je hebt 72 uur na aanvang om een uitmatch op Badmintonvlaandere
 n in te vullen. Match info: Klein Boom 5G (102) - Beerke 5G (116) - Link: 
 https://www.badmintonvlaanderen.be/sport/teammatch.aspx?id=541D9693-BA5C-4
 9F3-B354-186D1A701882&match=963
DTSTART;TZID=Europe/Brussels:20250115T190000
DTEND;TZID=Europe/Brussels:20250115T190000
END:VEVENT
BEGIN:VEVENT
UID:541D9693-BA5C-49F3-B354-186D1A701882-23-965_awayreminder@183.badmintonn
 ers.net
DTSTAMP:20260420T055127Z
SUMMARY:Uitmatch bevestigd? (Spinshuttle 3G (94) - Beerke 5G (116))
DESCRIPTION:Je hebt 72 uur na aanvang om een uitmatch op Badmintonvlaandere
 n in te vullen. Match info: Spinshuttle 3G (94) - Beerke 5G (116) - Link: 
 https://www.badmintonvlaanderen.be/sport/teammatch.aspx?id=541D9693-BA5C-4
 9F3-B354-186D1A701882&match=965
DTSTART;TZID=Europe/Brussels:20250321T200000
DTEND;TZID=Europe/Brussels:20250321T200000
END:VEVENT
BEGIN:VEVENT
UID:541D9693-BA5C-49F3-B354-186D1A701882-23-967_awayreminder@183.badmintonn
 ers.net
DTSTAMP:20260420T055127Z
SUMMARY:Uitmatch bevestigd? (Olve 5G (113) - Beerke 5G (116))
DESCRIPTION:Je hebt 72 uur na aanvang om een uitmatch op Badmintonvlaandere
 n in te vullen. Match info: Olve 5G (113) - Beerke 5G (116) - Link: https:
 //www.badmintonvlaanderen.be/sport/teammatch.aspx?id=541D9693-BA5C-49F3-B3
 54-186D1A701882&match=967
DTSTART;TZID=Europe/Brussels:20250408T103000
DTEND;TZID=Europe/Brussels:20250408T103000
END:VEVENT
END:VCALENDAR