BEGIN:VCALENDAR
VERSION:2.0
PRODID:spatie/icalendar-generator
NAME:herentals_5g_115_reminders
X-WR-CALNAME:herentals_5g_115_reminders
BEGIN:VTIMEZONE
TZID:Europe/Brussels
BEGIN:DAYLIGHT
DTSTART:20240331T010000
TZOFFSETFROM:+0100
TZOFFSETTO:+0200
END:DAYLIGHT
BEGIN:STANDARD
DTSTART:20241027T030000
TZOFFSETFROM:+0200
TZOFFSETTO:+0100
END:STANDARD
BEGIN:DAYLIGHT
DTSTART:20250330T010000
TZOFFSETFROM:+0100
TZOFFSETTO:+0200
END:DAYLIGHT
END:VTIMEZONE
BEGIN:VTIMEZONE
TZID:UTC
BEGIN:STANDARD
DTSTART:20250724T072402
TZOFFSETFROM:+0000
TZOFFSETTO:+0000
END:STANDARD
END:VTIMEZONE
BEGIN:VEVENT
UID:541D9693-BA5C-49F3-B354-186D1A701882-23-976_homereminder@185.badmintonn
 ers.net
DTSTAMP:20260420T072402Z
SUMMARY:Thuismatch ingevuld? (Herentals 5G (115) - Waverse 1G (114))
DESCRIPTION:Je hebt 36 uur na aanvang om een thuismatch op Badmintonvlaande
 ren in te vullen. Match info: Herentals 5G (115) - Waverse 1G (114) - Link
 : https://www.badmintonvlaanderen.be/sport/teammatch.aspx?id=541D9693-BA5C
 -49F3-B354-186D1A701882&match=976
DTSTART;TZID=Europe/Brussels:20241005T090000
DTEND;TZID=Europe/Brussels:20241005T090000
END:VEVENT
BEGIN:VEVENT
UID:541D9693-BA5C-49F3-B354-186D1A701882-23-966_homereminder@185.badmintonn
 ers.net
DTSTAMP:20260420T072402Z
SUMMARY:Thuismatch ingevuld? (Herentals 5G (115) - Beerke 5G (116))
DESCRIPTION:Je hebt 36 uur na aanvang om een thuismatch op Badmintonvlaande
 ren in te vullen. Match info: Herentals 5G (115) - Beerke 5G (116) - Link:
  https://www.badmintonvlaanderen.be/sport/teammatch.aspx?id=541D9693-BA5C-
 49F3-B354-186D1A701882&match=966
DTSTART;TZID=Europe/Brussels:20241026T090000
DTEND;TZID=Europe/Brussels:20241026T090000
END:VEVENT
BEGIN:VEVENT
UID:541D9693-BA5C-49F3-B354-186D1A701882-23-981_homereminder@185.badmintonn
 ers.net
DTSTAMP:20260420T072402Z
SUMMARY:Thuismatch ingevuld? (Herentals 5G (115) - Spinshuttle 3G (94))
DESCRIPTION:Je hebt 36 uur na aanvang om een thuismatch op Badmintonvlaande
 ren in te vullen. Match info: Herentals 5G (115) - Spinshuttle 3G (94) - L
 ink: https://www.badmintonvlaanderen.be/sport/teammatch.aspx?id=541D9693-B
 A5C-49F3-B354-186D1A701882&match=981
DTSTART;TZID=Europe/Brussels:20250125T090000
DTEND;TZID=Europe/Brussels:20250125T090000
END:VEVENT
BEGIN:VEVENT
UID:541D9693-BA5C-49F3-B354-186D1A701882-23-992_homereminder@185.badmintonn
 ers.net
DTSTAMP:20260420T072402Z
SUMMARY:Thuismatch ingevuld? (Herentals 5G (115) - Olve 5G (113))
DESCRIPTION:Je hebt 36 uur na aanvang om een thuismatch op Badmintonvlaande
 ren in te vullen. Match info: Herentals 5G (115) - Olve 5G (113) - Link: h
 ttps://www.badmintonvlaanderen.be/sport/teammatch.aspx?id=541D9693-BA5C-49
 F3-B354-186D1A701882&match=992
DTSTART;TZID=Europe/Brussels:20250322T090000
DTEND;TZID=Europe/Brussels:20250322T090000
END:VEVENT
BEGIN:VEVENT
UID:541D9693-BA5C-49F3-B354-186D1A701882-23-971_homereminder@185.badmintonn
 ers.net
DTSTAMP:20260420T072402Z
SUMMARY:Thuismatch ingevuld? (Herentals 5G (115) - Klein Boom 5G (102))
DESCRIPTION:Je hebt 36 uur na aanvang om een thuismatch op Badmintonvlaande
 ren in te vullen. Match info: Herentals 5G (115) - Klein Boom 5G (102) - L
 ink: https://www.badmintonvlaanderen.be/sport/teammatch.aspx?id=541D9693-B
 A5C-49F3-B354-186D1A701882&match=971
DTSTART;TZID=Europe/Brussels:20250405T090000
DTEND;TZID=Europe/Brussels:20250405T090000
END:VEVENT
BEGIN:VEVENT
UID:541D9693-BA5C-49F3-B354-186D1A701882-23-987_awayreminder@185.badmintonn
 ers.net
DTSTAMP:20260420T072402Z
SUMMARY:Uitmatch bevestigd? (Olve 5G (113) - Herentals 5G (115))
DESCRIPTION:Je hebt 72 uur na aanvang om een uitmatch op Badmintonvlaandere
 n in te vullen. Match info: Olve 5G (113) - Herentals 5G (115) - Link: htt
 ps://www.badmintonvlaanderen.be/sport/teammatch.aspx?id=541D9693-BA5C-49F3
 -B354-186D1A701882&match=987
DTSTART;TZID=Europe/Brussels:20241119T103000
DTEND;TZID=Europe/Brussels:20241119T103000
END:VEVENT
BEGIN:VEVENT
UID:541D9693-BA5C-49F3-B354-186D1A701882-23-986_awayreminder@185.badmintonn
 ers.net
DTSTAMP:20260420T072402Z
SUMMARY:Uitmatch bevestigd? (Spinshuttle 3G (94) - Herentals 5G (115))
DESCRIPTION:Je hebt 72 uur na aanvang om een uitmatch op Badmintonvlaandere
 n in te vullen. Match info: Spinshuttle 3G (94) - Herentals 5G (115) - Lin
 k: https://www.badmintonvlaanderen.be/sport/teammatch.aspx?id=541D9693-BA5
 C-49F3-B354-186D1A701882&match=986
DTSTART;TZID=Europe/Brussels:20241213T200000
DTEND;TZID=Europe/Brussels:20241213T200000
END:VEVENT
BEGIN:VEVENT
UID:541D9693-BA5C-49F3-B354-186D1A701882-23-984_awayreminder@185.badmintonn
 ers.net
DTSTAMP:20260420T072402Z
SUMMARY:Uitmatch bevestigd? (Klein Boom 5G (102) - Herentals 5G (115))
DESCRIPTION:Je hebt 72 uur na aanvang om een uitmatch op Badmintonvlaandere
 n in te vullen. Match info: Klein Boom 5G (102) - Herentals 5G (115) - Lin
 k: https://www.badmintonvlaanderen.be/sport/teammatch.aspx?id=541D9693-BA5
 C-49F3-B354-186D1A701882&match=984
DTSTART;TZID=Europe/Brussels:20241218T190000
DTEND;TZID=Europe/Brussels:20241218T190000
END:VEVENT
BEGIN:VEVENT
UID:541D9693-BA5C-49F3-B354-186D1A701882-23-983_awayreminder@185.badmintonn
 ers.net
DTSTAMP:20260420T072402Z
SUMMARY:Uitmatch bevestigd? (Beerke 5G (116) - Herentals 5G (115))
DESCRIPTION:Je hebt 72 uur na aanvang om een uitmatch op Badmintonvlaandere
 n in te vullen. Match info: Beerke 5G (116) - Herentals 5G (115) - Link: h
 ttps://www.badmintonvlaanderen.be/sport/teammatch.aspx?id=541D9693-BA5C-49
 F3-B354-186D1A701882&match=983
DTSTART;TZID=Europe/Brussels:20250212T100000
DTEND;TZID=Europe/Brussels:20250212T100000
END:VEVENT
BEGIN:VEVENT
UID:541D9693-BA5C-49F3-B354-186D1A701882-23-985_awayreminder@185.badmintonn
 ers.net
DTSTAMP:20260420T072402Z
SUMMARY:Uitmatch bevestigd? (Waverse 1G (114) - Herentals 5G (115))
DESCRIPTION:Je hebt 72 uur na aanvang om een uitmatch op Badmintonvlaandere
 n in te vullen. Match info: Waverse 1G (114) - Herentals 5G (115) - Link: 
 https://www.badmintonvlaanderen.be/sport/teammatch.aspx?id=541D9693-BA5C-4
 9F3-B354-186D1A701882&match=985
DTSTART;TZID=Europe/Brussels:20250219T140000
DTEND;TZID=Europe/Brussels:20250219T140000
END:VEVENT
END:VCALENDAR