BEGIN:VCALENDAR
VERSION:2.0
PRODID:spatie/icalendar-generator
NAME:spinshuttle_3g_94_reminders
X-WR-CALNAME:spinshuttle_3g_94_reminders
BEGIN:VTIMEZONE
TZID:Europe/Brussels
BEGIN:DAYLIGHT
DTSTART:20240331T010000
TZOFFSETFROM:+0100
TZOFFSETTO:+0200
END:DAYLIGHT
BEGIN:STANDARD
DTSTART:20241027T030000
TZOFFSETFROM:+0200
TZOFFSETTO:+0100
END:STANDARD
BEGIN:DAYLIGHT
DTSTART:20250330T010000
TZOFFSETFROM:+0100
TZOFFSETTO:+0200
END:DAYLIGHT
END:VTIMEZONE
BEGIN:VTIMEZONE
TZID:UTC
BEGIN:STANDARD
DTSTART:20250724T073705
TZOFFSETFROM:+0000
TZOFFSETTO:+0000
END:STANDARD
END:VTIMEZONE
BEGIN:VEVENT
UID:541D9693-BA5C-49F3-B354-186D1A701882-23-970_homereminder@188.badmintonn
 ers.net
DTSTAMP:20260420T073705Z
SUMMARY:Thuismatch ingevuld? (Spinshuttle 3G (94) - Klein Boom 5G (102))
DESCRIPTION:Je hebt 36 uur na aanvang om een thuismatch op Badmintonvlaande
 ren in te vullen. Match info: Spinshuttle 3G (94) - Klein Boom 5G (102) - 
 Link: https://www.badmintonvlaanderen.be/sport/teammatch.aspx?id=541D9693-
 BA5C-49F3-B354-186D1A701882&match=970
DTSTART;TZID=Europe/Brussels:20241017T080000
DTEND;TZID=Europe/Brussels:20241017T080000
END:VEVENT
BEGIN:VEVENT
UID:541D9693-BA5C-49F3-B354-186D1A701882-23-986_homereminder@188.badmintonn
 ers.net
DTSTAMP:20260420T073705Z
SUMMARY:Thuismatch ingevuld? (Spinshuttle 3G (94) - Herentals 5G (115))
DESCRIPTION:Je hebt 36 uur na aanvang om een thuismatch op Badmintonvlaande
 ren in te vullen. Match info: Spinshuttle 3G (94) - Herentals 5G (115) - L
 ink: https://www.badmintonvlaanderen.be/sport/teammatch.aspx?id=541D9693-B
 A5C-49F3-B354-186D1A701882&match=986
DTSTART;TZID=Europe/Brussels:20241212T080000
DTEND;TZID=Europe/Brussels:20241212T080000
END:VEVENT
BEGIN:VEVENT
UID:541D9693-BA5C-49F3-B354-186D1A701882-23-991_homereminder@188.badmintonn
 ers.net
DTSTAMP:20260420T073705Z
SUMMARY:Thuismatch ingevuld? (Spinshuttle 3G (94) - Olve 5G (113))
DESCRIPTION:Je hebt 36 uur na aanvang om een thuismatch op Badmintonvlaande
 ren in te vullen. Match info: Spinshuttle 3G (94) - Olve 5G (113) - Link: 
 https://www.badmintonvlaanderen.be/sport/teammatch.aspx?id=541D9693-BA5C-4
 9F3-B354-186D1A701882&match=991
DTSTART;TZID=Europe/Brussels:20250109T080000
DTEND;TZID=Europe/Brussels:20250109T080000
END:VEVENT
BEGIN:VEVENT
UID:541D9693-BA5C-49F3-B354-186D1A701882-23-965_homereminder@188.badmintonn
 ers.net
DTSTAMP:20260420T073705Z
SUMMARY:Thuismatch ingevuld? (Spinshuttle 3G (94) - Beerke 5G (116))
DESCRIPTION:Je hebt 36 uur na aanvang om een thuismatch op Badmintonvlaande
 ren in te vullen. Match info: Spinshuttle 3G (94) - Beerke 5G (116) - Link
 : https://www.badmintonvlaanderen.be/sport/teammatch.aspx?id=541D9693-BA5C
 -49F3-B354-186D1A701882&match=965
DTSTART;TZID=Europe/Brussels:20250320T080000
DTEND;TZID=Europe/Brussels:20250320T080000
END:VEVENT
BEGIN:VEVENT
UID:541D9693-BA5C-49F3-B354-186D1A701882-23-975_homereminder@188.badmintonn
 ers.net
DTSTAMP:20260420T073705Z
SUMMARY:Thuismatch ingevuld? (Spinshuttle 3G (94) - Waverse 1G (114))
DESCRIPTION:Je hebt 36 uur na aanvang om een thuismatch op Badmintonvlaande
 ren in te vullen. Match info: Spinshuttle 3G (94) - Waverse 1G (114) - Lin
 k: https://www.badmintonvlaanderen.be/sport/teammatch.aspx?id=541D9693-BA5
 C-49F3-B354-186D1A701882&match=975
DTSTART;TZID=Europe/Brussels:20250403T080000
DTEND;TZID=Europe/Brussels:20250403T080000
END:VEVENT
BEGIN:VEVENT
UID:541D9693-BA5C-49F3-B354-186D1A701882-23-982_awayreminder@188.badmintonn
 ers.net
DTSTAMP:20260420T073705Z
SUMMARY:Uitmatch bevestigd? (Olve 5G (113) - Spinshuttle 3G (94))
DESCRIPTION:Je hebt 72 uur na aanvang om een uitmatch op Badmintonvlaandere
 n in te vullen. Match info: Olve 5G (113) - Spinshuttle 3G (94) - Link: ht
 tps://www.badmintonvlaanderen.be/sport/teammatch.aspx?id=541D9693-BA5C-49F
 3-B354-186D1A701882&match=982
DTSTART;TZID=Europe/Brussels:20241022T103000
DTEND;TZID=Europe/Brussels:20241022T103000
END:VEVENT
BEGIN:VEVENT
UID:541D9693-BA5C-49F3-B354-186D1A701882-23-978_awayreminder@188.badmintonn
 ers.net
DTSTAMP:20260420T073705Z
SUMMARY:Uitmatch bevestigd? (Beerke 5G (116) - Spinshuttle 3G (94))
DESCRIPTION:Je hebt 72 uur na aanvang om een uitmatch op Badmintonvlaandere
 n in te vullen. Match info: Beerke 5G (116) - Spinshuttle 3G (94) - Link: 
 https://www.badmintonvlaanderen.be/sport/teammatch.aspx?id=541D9693-BA5C-4
 9F3-B354-186D1A701882&match=978
DTSTART;TZID=Europe/Brussels:20241120T100000
DTEND;TZID=Europe/Brussels:20241120T100000
END:VEVENT
BEGIN:VEVENT
UID:541D9693-BA5C-49F3-B354-186D1A701882-23-980_awayreminder@188.badmintonn
 ers.net
DTSTAMP:20260420T073705Z
SUMMARY:Uitmatch bevestigd? (Waverse 1G (114) - Spinshuttle 3G (94))
DESCRIPTION:Je hebt 72 uur na aanvang om een uitmatch op Badmintonvlaandere
 n in te vullen. Match info: Waverse 1G (114) - Spinshuttle 3G (94) - Link:
  https://www.badmintonvlaanderen.be/sport/teammatch.aspx?id=541D9693-BA5C-
 49F3-B354-186D1A701882&match=980
DTSTART;TZID=Europe/Brussels:20241127T140000
DTEND;TZID=Europe/Brussels:20241127T140000
END:VEVENT
BEGIN:VEVENT
UID:541D9693-BA5C-49F3-B354-186D1A701882-23-981_awayreminder@188.badmintonn
 ers.net
DTSTAMP:20260420T073705Z
SUMMARY:Uitmatch bevestigd? (Herentals 5G (115) - Spinshuttle 3G (94))
DESCRIPTION:Je hebt 72 uur na aanvang om een uitmatch op Badmintonvlaandere
 n in te vullen. Match info: Herentals 5G (115) - Spinshuttle 3G (94) - Lin
 k: https://www.badmintonvlaanderen.be/sport/teammatch.aspx?id=541D9693-BA5
 C-49F3-B354-186D1A701882&match=981
DTSTART;TZID=Europe/Brussels:20250126T210000
DTEND;TZID=Europe/Brussels:20250126T210000
END:VEVENT
BEGIN:VEVENT
UID:541D9693-BA5C-49F3-B354-186D1A701882-23-979_awayreminder@188.badmintonn
 ers.net
DTSTAMP:20260420T073705Z
SUMMARY:Uitmatch bevestigd? (Klein Boom 5G (102) - Spinshuttle 3G (94))
DESCRIPTION:Je hebt 72 uur na aanvang om een uitmatch op Badmintonvlaandere
 n in te vullen. Match info: Klein Boom 5G (102) - Spinshuttle 3G (94) - Li
 nk: https://www.badmintonvlaanderen.be/sport/teammatch.aspx?id=541D9693-BA
 5C-49F3-B354-186D1A701882&match=979
DTSTART;TZID=Europe/Brussels:20250212T190000
DTEND;TZID=Europe/Brussels:20250212T190000
END:VEVENT
END:VCALENDAR