BEGIN:VCALENDAR
VERSION:2.0
PRODID:spatie/icalendar-generator
NAME:amateurs_1g_108_reminders
X-WR-CALNAME:amateurs_1g_108_reminders
BEGIN:VTIMEZONE
TZID:Europe/Brussels
BEGIN:DAYLIGHT
DTSTART:20240331T010000
TZOFFSETFROM:+0100
TZOFFSETTO:+0200
END:DAYLIGHT
BEGIN:STANDARD
DTSTART:20241027T030000
TZOFFSETFROM:+0200
TZOFFSETTO:+0100
END:STANDARD
BEGIN:DAYLIGHT
DTSTART:20250330T010000
TZOFFSETFROM:+0100
TZOFFSETTO:+0200
END:DAYLIGHT
END:VTIMEZONE
BEGIN:VTIMEZONE
TZID:UTC
BEGIN:STANDARD
DTSTART:20250724T072433
TZOFFSETFROM:+0000
TZOFFSETTO:+0000
END:STANDARD
END:VTIMEZONE
BEGIN:VEVENT
UID:541D9693-BA5C-49F3-B354-186D1A701882-24-1025_homereminder@170.badminton
 ners.net
DTSTAMP:20260420T072433Z
SUMMARY:Thuismatch ingevuld? (Amateurs 1G (108) - Smash 2G (105))
DESCRIPTION:Je hebt 36 uur na aanvang om een thuismatch op Badmintonvlaande
 ren in te vullen. Match info: Amateurs 1G (108) - Smash 2G (105) - Link: h
 ttps://www.badmintonvlaanderen.be/sport/teammatch.aspx?id=541D9693-BA5C-49
 F3-B354-186D1A701882&match=1025
DTSTART;TZID=Europe/Brussels:20241002T080000
DTEND;TZID=Europe/Brussels:20241002T080000
END:VEVENT
BEGIN:VEVENT
UID:541D9693-BA5C-49F3-B354-186D1A701882-24-1010_homereminder@170.badminton
 ners.net
DTSTAMP:20260420T072433Z
SUMMARY:Thuismatch ingevuld? (Amateurs 1G (108) - Klein Boom 7G (103))
DESCRIPTION:Je hebt 36 uur na aanvang om een thuismatch op Badmintonvlaande
 ren in te vullen. Match info: Amateurs 1G (108) - Klein Boom 7G (103) - Li
 nk: https://www.badmintonvlaanderen.be/sport/teammatch.aspx?id=541D9693-BA
 5C-49F3-B354-186D1A701882&match=1010
DTSTART;TZID=Europe/Brussels:20241127T080000
DTEND;TZID=Europe/Brussels:20241127T080000
END:VEVENT
BEGIN:VEVENT
UID:541D9693-BA5C-49F3-B354-186D1A701882-24-1020_homereminder@170.badminton
 ners.net
DTSTAMP:20260420T072433Z
SUMMARY:Thuismatch ingevuld? (Amateurs 1G (108) - Spinshuttle 4G (102))
DESCRIPTION:Je hebt 36 uur na aanvang om een thuismatch op Badmintonvlaande
 ren in te vullen. Match info: Amateurs 1G (108) - Spinshuttle 4G (102) - L
 ink: https://www.badmintonvlaanderen.be/sport/teammatch.aspx?id=541D9693-B
 A5C-49F3-B354-186D1A701882&match=1020
DTSTART;TZID=Europe/Brussels:20241211T080000
DTEND;TZID=Europe/Brussels:20241211T080000
END:VEVENT
BEGIN:VEVENT
UID:541D9693-BA5C-49F3-B354-186D1A701882-24-999_homereminder@170.badmintonn
 ers.net
DTSTAMP:20260420T072433Z
SUMMARY:Thuismatch ingevuld? (Amateurs 1G (108) - De Klamp 3G (105))
DESCRIPTION:Je hebt 36 uur na aanvang om een thuismatch op Badmintonvlaande
 ren in te vullen. Match info: Amateurs 1G (108) - De Klamp 3G (105) - Link
 : https://www.badmintonvlaanderen.be/sport/teammatch.aspx?id=541D9693-BA5C
 -49F3-B354-186D1A701882&match=999
DTSTART;TZID=Europe/Brussels:20250205T080000
DTEND;TZID=Europe/Brussels:20250205T080000
END:VEVENT
BEGIN:VEVENT
UID:541D9693-BA5C-49F3-B354-186D1A701882-24-1015_homereminder@170.badminton
 ners.net
DTSTAMP:20260420T072433Z
SUMMARY:Thuismatch ingevuld? (Amateurs 1G (108) - Merksplas 3G (109))
DESCRIPTION:Je hebt 36 uur na aanvang om een thuismatch op Badmintonvlaande
 ren in te vullen. Match info: Amateurs 1G (108) - Merksplas 3G (109) - Lin
 k: https://www.badmintonvlaanderen.be/sport/teammatch.aspx?id=541D9693-BA5
 C-49F3-B354-186D1A701882&match=1015
DTSTART;TZID=Europe/Brussels:20250219T080000
DTEND;TZID=Europe/Brussels:20250219T080000
END:VEVENT
BEGIN:VEVENT
UID:541D9693-BA5C-49F3-B354-186D1A701882-24-1004_awayreminder@170.badminton
 ners.net
DTSTAMP:20260420T072433Z
SUMMARY:Uitmatch bevestigd? (De Klamp 3G (105) - Amateurs 1G (108))
DESCRIPTION:Je hebt 72 uur na aanvang om een uitmatch op Badmintonvlaandere
 n in te vullen. Match info: De Klamp 3G (105) - Amateurs 1G (108) - Link: 
 https://www.badmintonvlaanderen.be/sport/teammatch.aspx?id=541D9693-BA5C-4
 9F3-B354-186D1A701882&match=1004
DTSTART;TZID=Europe/Brussels:20240911T181500
DTEND;TZID=Europe/Brussels:20240911T181500
END:VEVENT
BEGIN:VEVENT
UID:541D9693-BA5C-49F3-B354-186D1A701882-24-1006_awayreminder@170.badminton
 ners.net
DTSTAMP:20260420T072433Z
SUMMARY:Uitmatch bevestigd? (Merksplas 3G (109) - Amateurs 1G (108))
DESCRIPTION:Je hebt 72 uur na aanvang om een uitmatch op Badmintonvlaandere
 n in te vullen. Match info: Merksplas 3G (109) - Amateurs 1G (108) - Link:
  https://www.badmintonvlaanderen.be/sport/teammatch.aspx?id=541D9693-BA5C-
 49F3-B354-186D1A701882&match=1006
DTSTART;TZID=Europe/Brussels:20241204T100000
DTEND;TZID=Europe/Brussels:20241204T100000
END:VEVENT
BEGIN:VEVENT
UID:541D9693-BA5C-49F3-B354-186D1A701882-24-1005_awayreminder@170.badminton
 ners.net
DTSTAMP:20260420T072433Z
SUMMARY:Uitmatch bevestigd? (Klein Boom 7G (103) - Amateurs 1G (108))
DESCRIPTION:Je hebt 72 uur na aanvang om een uitmatch op Badmintonvlaandere
 n in te vullen. Match info: Klein Boom 7G (103) - Amateurs 1G (108) - Link
 : https://www.badmintonvlaanderen.be/sport/teammatch.aspx?id=541D9693-BA5C
 -49F3-B354-186D1A701882&match=1005
DTSTART;TZID=Europe/Brussels:20250123T200000
DTEND;TZID=Europe/Brussels:20250123T200000
END:VEVENT
BEGIN:VEVENT
UID:541D9693-BA5C-49F3-B354-186D1A701882-24-1007_awayreminder@170.badminton
 ners.net
DTSTAMP:20260420T072433Z
SUMMARY:Uitmatch bevestigd? (Spinshuttle 4G (102) - Amateurs 1G (108))
DESCRIPTION:Je hebt 72 uur na aanvang om een uitmatch op Badmintonvlaandere
 n in te vullen. Match info: Spinshuttle 4G (102) - Amateurs 1G (108) - Lin
 k: https://www.badmintonvlaanderen.be/sport/teammatch.aspx?id=541D9693-BA5
 C-49F3-B354-186D1A701882&match=1007
DTSTART;TZID=Europe/Brussels:20250124T200000
DTEND;TZID=Europe/Brussels:20250124T200000
END:VEVENT
BEGIN:VEVENT
UID:541D9693-BA5C-49F3-B354-186D1A701882-24-1008_awayreminder@170.badminton
 ners.net
DTSTAMP:20260420T072433Z
SUMMARY:Uitmatch bevestigd? (Smash 2G (105) - Amateurs 1G (108))
DESCRIPTION:Je hebt 72 uur na aanvang om een uitmatch op Badmintonvlaandere
 n in te vullen. Match info: Smash 2G (105) - Amateurs 1G (108) - Link: htt
 ps://www.badmintonvlaanderen.be/sport/teammatch.aspx?id=541D9693-BA5C-49F3
 -B354-186D1A701882&match=1008
DTSTART;TZID=Europe/Brussels:20250129T100000
DTEND;TZID=Europe/Brussels:20250129T100000
END:VEVENT
END:VCALENDAR