BEGIN:VCALENDAR
VERSION:2.0
PRODID:spatie/icalendar-generator
NAME:merksplas_3g_109_reminders
X-WR-CALNAME:merksplas_3g_109_reminders
BEGIN:VTIMEZONE
TZID:Europe/Brussels
BEGIN:DAYLIGHT
DTSTART:20240331T010000
TZOFFSETFROM:+0100
TZOFFSETTO:+0200
END:DAYLIGHT
BEGIN:STANDARD
DTSTART:20241027T030000
TZOFFSETFROM:+0200
TZOFFSETTO:+0100
END:STANDARD
BEGIN:DAYLIGHT
DTSTART:20250330T010000
TZOFFSETFROM:+0100
TZOFFSETTO:+0200
END:DAYLIGHT
BEGIN:STANDARD
DTSTART:20251026T030000
TZOFFSETFROM:+0200
TZOFFSETTO:+0100
END:STANDARD
END:VTIMEZONE
BEGIN:VTIMEZONE
TZID:UTC
BEGIN:STANDARD
DTSTART:20250724T072433
TZOFFSETFROM:+0000
TZOFFSETTO:+0000
END:STANDARD
END:VTIMEZONE
BEGIN:VEVENT
UID:541D9693-BA5C-49F3-B354-186D1A701882-24-1022_homereminder@171.badminton
 ners.net
DTSTAMP:20260420T072433Z
SUMMARY:Thuismatch ingevuld? (Merksplas 3G (109) - Spinshuttle 4G (102))
DESCRIPTION:Je hebt 36 uur na aanvang om een thuismatch op Badmintonvlaande
 ren in te vullen. Match info: Merksplas 3G (109) - Spinshuttle 4G (102) - 
 Link: https://www.badmintonvlaanderen.be/sport/teammatch.aspx?id=541D9693-
 BA5C-49F3-B354-186D1A701882&match=1022
DTSTART;TZID=Europe/Brussels:20241021T220000
DTEND;TZID=Europe/Brussels:20241021T220000
END:VEVENT
BEGIN:VEVENT
UID:541D9693-BA5C-49F3-B354-186D1A701882-24-1006_homereminder@171.badminton
 ners.net
DTSTAMP:20260420T072433Z
SUMMARY:Thuismatch ingevuld? (Merksplas 3G (109) - Amateurs 1G (108))
DESCRIPTION:Je hebt 36 uur na aanvang om een thuismatch op Badmintonvlaande
 ren in te vullen. Match info: Merksplas 3G (109) - Amateurs 1G (108) - Lin
 k: https://www.badmintonvlaanderen.be/sport/teammatch.aspx?id=541D9693-BA5
 C-49F3-B354-186D1A701882&match=1006
DTSTART;TZID=Europe/Brussels:20241202T220000
DTEND;TZID=Europe/Brussels:20241202T220000
END:VEVENT
BEGIN:VEVENT
UID:541D9693-BA5C-49F3-B354-186D1A701882-24-1011_homereminder@171.badminton
 ners.net
DTSTAMP:20260420T072433Z
SUMMARY:Thuismatch ingevuld? (Merksplas 3G (109) - Klein Boom 7G (103))
DESCRIPTION:Je hebt 36 uur na aanvang om een thuismatch op Badmintonvlaande
 ren in te vullen. Match info: Merksplas 3G (109) - Klein Boom 7G (103) - L
 ink: https://www.badmintonvlaanderen.be/sport/teammatch.aspx?id=541D9693-B
 A5C-49F3-B354-186D1A701882&match=1011
DTSTART;TZID=Europe/Brussels:20250127T220000
DTEND;TZID=Europe/Brussels:20250127T220000
END:VEVENT
BEGIN:VEVENT
UID:541D9693-BA5C-49F3-B354-186D1A701882-24-1001_homereminder@171.badminton
 ners.net
DTSTAMP:20260420T072433Z
SUMMARY:Thuismatch ingevuld? (Merksplas 3G (109) - De Klamp 3G (105))
DESCRIPTION:Je hebt 36 uur na aanvang om een thuismatch op Badmintonvlaande
 ren in te vullen. Match info: Merksplas 3G (109) - De Klamp 3G (105) - Lin
 k: https://www.badmintonvlaanderen.be/sport/teammatch.aspx?id=541D9693-BA5
 C-49F3-B354-186D1A701882&match=1001
DTSTART;TZID=Europe/Brussels:20250324T220000
DTEND;TZID=Europe/Brussels:20250324T220000
END:VEVENT
BEGIN:VEVENT
UID:541D9693-BA5C-49F3-B354-186D1A701882-24-1027_homereminder@171.badminton
 ners.net
DTSTAMP:20260420T072433Z
SUMMARY:Thuismatch ingevuld? (Merksplas 3G (109) - Smash 2G (105))
DESCRIPTION:Je hebt 36 uur na aanvang om een thuismatch op Badmintonvlaande
 ren in te vullen. Match info: Merksplas 3G (109) - Smash 2G (105) - Link: 
 https://www.badmintonvlaanderen.be/sport/teammatch.aspx?id=541D9693-BA5C-4
 9F3-B354-186D1A701882&match=1027
DTSTART;TZID=Europe/Brussels:20250415T063000
DTEND;TZID=Europe/Brussels:20250415T063000
END:VEVENT
BEGIN:VEVENT
UID:541D9693-BA5C-49F3-B354-186D1A701882-24-1018_awayreminder@171.badminton
 ners.net
DTSTAMP:20260420T072433Z
SUMMARY:Uitmatch bevestigd? (Smash 2G (105) - Merksplas 3G (109))
DESCRIPTION:Je hebt 72 uur na aanvang om een uitmatch op Badmintonvlaandere
 n in te vullen. Match info: Smash 2G (105) - Merksplas 3G (109) - Link: ht
 tps://www.badmintonvlaanderen.be/sport/teammatch.aspx?id=541D9693-BA5C-49F
 3-B354-186D1A701882&match=1018
DTSTART;TZID=Europe/Brussels:20241009T100000
DTEND;TZID=Europe/Brussels:20241009T100000
END:VEVENT
BEGIN:VEVENT
UID:541D9693-BA5C-49F3-B354-186D1A701882-24-1014_awayreminder@171.badminton
 ners.net
DTSTAMP:20260420T072433Z
SUMMARY:Uitmatch bevestigd? (De Klamp 3G (105) - Merksplas 3G (109))
DESCRIPTION:Je hebt 72 uur na aanvang om een uitmatch op Badmintonvlaandere
 n in te vullen. Match info: De Klamp 3G (105) - Merksplas 3G (109) - Link:
  https://www.badmintonvlaanderen.be/sport/teammatch.aspx?id=541D9693-BA5C-
 49F3-B354-186D1A701882&match=1014
DTSTART;TZID=Europe/Brussels:20241120T181500
DTEND;TZID=Europe/Brussels:20241120T181500
END:VEVENT
BEGIN:VEVENT
UID:541D9693-BA5C-49F3-B354-186D1A701882-24-1016_awayreminder@171.badminton
 ners.net
DTSTAMP:20260420T072433Z
SUMMARY:Uitmatch bevestigd? (Klein Boom 7G (103) - Merksplas 3G (109))
DESCRIPTION:Je hebt 72 uur na aanvang om een uitmatch op Badmintonvlaandere
 n in te vullen. Match info: Klein Boom 7G (103) - Merksplas 3G (109) - Lin
 k: https://www.badmintonvlaanderen.be/sport/teammatch.aspx?id=541D9693-BA5
 C-49F3-B354-186D1A701882&match=1016
DTSTART;TZID=Europe/Brussels:20250101T190000
DTEND;TZID=Europe/Brussels:20250101T190000
END:VEVENT
BEGIN:VEVENT
UID:541D9693-BA5C-49F3-B354-186D1A701882-24-1015_awayreminder@171.badminton
 ners.net
DTSTAMP:20260420T072433Z
SUMMARY:Uitmatch bevestigd? (Amateurs 1G (108) - Merksplas 3G (109))
DESCRIPTION:Je hebt 72 uur na aanvang om een uitmatch op Badmintonvlaandere
 n in te vullen. Match info: Amateurs 1G (108) - Merksplas 3G (109) - Link:
  https://www.badmintonvlaanderen.be/sport/teammatch.aspx?id=541D9693-BA5C-
 49F3-B354-186D1A701882&match=1015
DTSTART;TZID=Europe/Brussels:20250220T200000
DTEND;TZID=Europe/Brussels:20250220T200000
END:VEVENT
BEGIN:VEVENT
UID:541D9693-BA5C-49F3-B354-186D1A701882-24-1017_awayreminder@171.badminton
 ners.net
DTSTAMP:20260420T072433Z
SUMMARY:Uitmatch bevestigd? (Spinshuttle 4G (102) - Merksplas 3G (109))
DESCRIPTION:Je hebt 72 uur na aanvang om een uitmatch op Badmintonvlaandere
 n in te vullen. Match info: Spinshuttle 4G (102) - Merksplas 3G (109) - Li
 nk: https://www.badmintonvlaanderen.be/sport/teammatch.aspx?id=541D9693-BA
 5C-49F3-B354-186D1A701882&match=1017
DTSTART;TZID=Europe/Brussels:20250502T200000
DTEND;TZID=Europe/Brussels:20250502T200000
END:VEVENT
END:VCALENDAR