BEGIN:VCALENDAR
VERSION:2.0
PRODID:spatie/icalendar-generator
NAME:de_klamp_3g_105_reminders
X-WR-CALNAME:de_klamp_3g_105_reminders
BEGIN:VTIMEZONE
TZID:Europe/Brussels
BEGIN:DAYLIGHT
DTSTART:20240331T010000
TZOFFSETFROM:+0100
TZOFFSETTO:+0200
END:DAYLIGHT
BEGIN:STANDARD
DTSTART:20241027T030000
TZOFFSETFROM:+0200
TZOFFSETTO:+0100
END:STANDARD
BEGIN:DAYLIGHT
DTSTART:20250330T010000
TZOFFSETFROM:+0100
TZOFFSETTO:+0200
END:DAYLIGHT
END:VTIMEZONE
BEGIN:VTIMEZONE
TZID:UTC
BEGIN:STANDARD
DTSTART:20250724T055128
TZOFFSETFROM:+0000
TZOFFSETTO:+0000
END:STANDARD
END:VTIMEZONE
BEGIN:VEVENT
UID:541D9693-BA5C-49F3-B354-186D1A701882-24-1004_homereminder@178.badminton
 ners.net
DTSTAMP:20260420T055128Z
SUMMARY:Thuismatch ingevuld? (De Klamp 3G (105) - Amateurs 1G (108))
DESCRIPTION:Je hebt 36 uur na aanvang om een thuismatch op Badmintonvlaande
 ren in te vullen. Match info: De Klamp 3G (105) - Amateurs 1G (108) - Link
 : https://www.badmintonvlaanderen.be/sport/teammatch.aspx?id=541D9693-BA5C
 -49F3-B354-186D1A701882&match=1004
DTSTART;TZID=Europe/Brussels:20240910T061500
DTEND;TZID=Europe/Brussels:20240910T061500
END:VEVENT
BEGIN:VEVENT
UID:541D9693-BA5C-49F3-B354-186D1A701882-24-1014_homereminder@178.badminton
 ners.net
DTSTAMP:20260420T055128Z
SUMMARY:Thuismatch ingevuld? (De Klamp 3G (105) - Merksplas 3G (109))
DESCRIPTION:Je hebt 36 uur na aanvang om een thuismatch op Badmintonvlaande
 ren in te vullen. Match info: De Klamp 3G (105) - Merksplas 3G (109) - Lin
 k: https://www.badmintonvlaanderen.be/sport/teammatch.aspx?id=541D9693-BA5
 C-49F3-B354-186D1A701882&match=1014
DTSTART;TZID=Europe/Brussels:20241119T061500
DTEND;TZID=Europe/Brussels:20241119T061500
END:VEVENT
BEGIN:VEVENT
UID:541D9693-BA5C-49F3-B354-186D1A701882-24-1024_homereminder@178.badminton
 ners.net
DTSTAMP:20260420T055128Z
SUMMARY:Thuismatch ingevuld? (De Klamp 3G (105) - Smash 2G (105))
DESCRIPTION:Je hebt 36 uur na aanvang om een thuismatch op Badmintonvlaande
 ren in te vullen. Match info: De Klamp 3G (105) - Smash 2G (105) - Link: h
 ttps://www.badmintonvlaanderen.be/sport/teammatch.aspx?id=541D9693-BA5C-49
 F3-B354-186D1A701882&match=1024
DTSTART;TZID=Europe/Brussels:20241217T061500
DTEND;TZID=Europe/Brussels:20241217T061500
END:VEVENT
BEGIN:VEVENT
UID:541D9693-BA5C-49F3-B354-186D1A701882-24-1019_homereminder@178.badminton
 ners.net
DTSTAMP:20260420T055128Z
SUMMARY:Thuismatch ingevuld? (De Klamp 3G (105) - Spinshuttle 4G (102))
DESCRIPTION:Je hebt 36 uur na aanvang om een thuismatch op Badmintonvlaande
 ren in te vullen. Match info: De Klamp 3G (105) - Spinshuttle 4G (102) - L
 ink: https://www.badmintonvlaanderen.be/sport/teammatch.aspx?id=541D9693-B
 A5C-49F3-B354-186D1A701882&match=1019
DTSTART;TZID=Europe/Brussels:20250225T061500
DTEND;TZID=Europe/Brussels:20250225T061500
END:VEVENT
BEGIN:VEVENT
UID:541D9693-BA5C-49F3-B354-186D1A701882-24-1009_homereminder@178.badminton
 ners.net
DTSTAMP:20260420T055128Z
SUMMARY:Thuismatch ingevuld? (De Klamp 3G (105) - Klein Boom 7G (103))
DESCRIPTION:Je hebt 36 uur na aanvang om een thuismatch op Badmintonvlaande
 ren in te vullen. Match info: De Klamp 3G (105) - Klein Boom 7G (103) - Li
 nk: https://www.badmintonvlaanderen.be/sport/teammatch.aspx?id=541D9693-BA
 5C-49F3-B354-186D1A701882&match=1009
DTSTART;TZID=Europe/Brussels:20250408T061500
DTEND;TZID=Europe/Brussels:20250408T061500
END:VEVENT
BEGIN:VEVENT
UID:541D9693-BA5C-49F3-B354-186D1A701882-24-1002_awayreminder@178.badminton
 ners.net
DTSTAMP:20260420T055128Z
SUMMARY:Uitmatch bevestigd? (Spinshuttle 4G (102) - De Klamp 3G (105))
DESCRIPTION:Je hebt 72 uur na aanvang om een uitmatch op Badmintonvlaandere
 n in te vullen. Match info: Spinshuttle 4G (102) - De Klamp 3G (105) - Lin
 k: https://www.badmintonvlaanderen.be/sport/teammatch.aspx?id=541D9693-BA5
 C-49F3-B354-186D1A701882&match=1002
DTSTART;TZID=Europe/Brussels:20240927T200000
DTEND;TZID=Europe/Brussels:20240927T200000
END:VEVENT
BEGIN:VEVENT
UID:541D9693-BA5C-49F3-B354-186D1A701882-24-1000_awayreminder@178.badminton
 ners.net
DTSTAMP:20260420T055128Z
SUMMARY:Uitmatch bevestigd? (Klein Boom 7G (103) - De Klamp 3G (105))
DESCRIPTION:Je hebt 72 uur na aanvang om een uitmatch op Badmintonvlaandere
 n in te vullen. Match info: Klein Boom 7G (103) - De Klamp 3G (105) - Link
 : https://www.badmintonvlaanderen.be/sport/teammatch.aspx?id=541D9693-BA5C
 -49F3-B354-186D1A701882&match=1000
DTSTART;TZID=Europe/Brussels:20241023T190000
DTEND;TZID=Europe/Brussels:20241023T190000
END:VEVENT
BEGIN:VEVENT
UID:541D9693-BA5C-49F3-B354-186D1A701882-24-1003_awayreminder@178.badminton
 ners.net
DTSTAMP:20260420T055128Z
SUMMARY:Uitmatch bevestigd? (Smash 2G (105) - De Klamp 3G (105))
DESCRIPTION:Je hebt 72 uur na aanvang om een uitmatch op Badmintonvlaandere
 n in te vullen. Match info: Smash 2G (105) - De Klamp 3G (105) - Link: htt
 ps://www.badmintonvlaanderen.be/sport/teammatch.aspx?id=541D9693-BA5C-49F3
 -B354-186D1A701882&match=1003
DTSTART;TZID=Europe/Brussels:20250115T100000
DTEND;TZID=Europe/Brussels:20250115T100000
END:VEVENT
BEGIN:VEVENT
UID:541D9693-BA5C-49F3-B354-186D1A701882-24-999_awayreminder@178.badmintonn
 ers.net
DTSTAMP:20260420T055128Z
SUMMARY:Uitmatch bevestigd? (Amateurs 1G (108) - De Klamp 3G (105))
DESCRIPTION:Je hebt 72 uur na aanvang om een uitmatch op Badmintonvlaandere
 n in te vullen. Match info: Amateurs 1G (108) - De Klamp 3G (105) - Link: 
 https://www.badmintonvlaanderen.be/sport/teammatch.aspx?id=541D9693-BA5C-4
 9F3-B354-186D1A701882&match=999
DTSTART;TZID=Europe/Brussels:20250206T200000
DTEND;TZID=Europe/Brussels:20250206T200000
END:VEVENT
BEGIN:VEVENT
UID:541D9693-BA5C-49F3-B354-186D1A701882-24-1001_awayreminder@178.badminton
 ners.net
DTSTAMP:20260420T055128Z
SUMMARY:Uitmatch bevestigd? (Merksplas 3G (109) - De Klamp 3G (105))
DESCRIPTION:Je hebt 72 uur na aanvang om een uitmatch op Badmintonvlaandere
 n in te vullen. Match info: Merksplas 3G (109) - De Klamp 3G (105) - Link:
  https://www.badmintonvlaanderen.be/sport/teammatch.aspx?id=541D9693-BA5C-
 49F3-B354-186D1A701882&match=1001
DTSTART;TZID=Europe/Brussels:20250326T100000
DTEND;TZID=Europe/Brussels:20250326T100000
END:VEVENT
END:VCALENDAR