BEGIN:VCALENDAR
VERSION:2.0
PRODID:spatie/icalendar-generator
NAME:smash_2g_105_reminders
X-WR-CALNAME:smash_2g_105_reminders
BEGIN:VTIMEZONE
TZID:Europe/Brussels
BEGIN:DAYLIGHT
DTSTART:20240331T010000
TZOFFSETFROM:+0100
TZOFFSETTO:+0200
END:DAYLIGHT
BEGIN:STANDARD
DTSTART:20241027T030000
TZOFFSETFROM:+0200
TZOFFSETTO:+0100
END:STANDARD
BEGIN:DAYLIGHT
DTSTART:20250330T010000
TZOFFSETFROM:+0100
TZOFFSETTO:+0200
END:DAYLIGHT
END:VTIMEZONE
BEGIN:VTIMEZONE
TZID:UTC
BEGIN:STANDARD
DTSTART:20250724T055216
TZOFFSETFROM:+0000
TZOFFSETTO:+0000
END:STANDARD
END:VTIMEZONE
BEGIN:VEVENT
UID:541D9693-BA5C-49F3-B354-186D1A701882-24-1018_homereminder@186.badminton
 ners.net
DTSTAMP:20260420T055216Z
SUMMARY:Thuismatch ingevuld? (Smash 2G (105) - Merksplas 3G (109))
DESCRIPTION:Je hebt 36 uur na aanvang om een thuismatch op Badmintonvlaande
 ren in te vullen. Match info: Smash 2G (105) - Merksplas 3G (109) - Link: 
 https://www.badmintonvlaanderen.be/sport/teammatch.aspx?id=541D9693-BA5C-4
 9F3-B354-186D1A701882&match=1018
DTSTART;TZID=Europe/Brussels:20241007T220000
DTEND;TZID=Europe/Brussels:20241007T220000
END:VEVENT
BEGIN:VEVENT
UID:541D9693-BA5C-49F3-B354-186D1A701882-24-1023_homereminder@186.badminton
 ners.net
DTSTAMP:20260420T055216Z
SUMMARY:Thuismatch ingevuld? (Smash 2G (105) - Spinshuttle 4G (102))
DESCRIPTION:Je hebt 36 uur na aanvang om een thuismatch op Badmintonvlaande
 ren in te vullen. Match info: Smash 2G (105) - Spinshuttle 4G (102) - Link
 : https://www.badmintonvlaanderen.be/sport/teammatch.aspx?id=541D9693-BA5C
 -49F3-B354-186D1A701882&match=1023
DTSTART;TZID=Europe/Brussels:20241202T220000
DTEND;TZID=Europe/Brussels:20241202T220000
END:VEVENT
BEGIN:VEVENT
UID:541D9693-BA5C-49F3-B354-186D1A701882-24-1003_homereminder@186.badminton
 ners.net
DTSTAMP:20260420T055216Z
SUMMARY:Thuismatch ingevuld? (Smash 2G (105) - De Klamp 3G (105))
DESCRIPTION:Je hebt 36 uur na aanvang om een thuismatch op Badmintonvlaande
 ren in te vullen. Match info: Smash 2G (105) - De Klamp 3G (105) - Link: h
 ttps://www.badmintonvlaanderen.be/sport/teammatch.aspx?id=541D9693-BA5C-49
 F3-B354-186D1A701882&match=1003
DTSTART;TZID=Europe/Brussels:20250113T220000
DTEND;TZID=Europe/Brussels:20250113T220000
END:VEVENT
BEGIN:VEVENT
UID:541D9693-BA5C-49F3-B354-186D1A701882-24-1008_homereminder@186.badminton
 ners.net
DTSTAMP:20260420T055216Z
SUMMARY:Thuismatch ingevuld? (Smash 2G (105) - Amateurs 1G (108))
DESCRIPTION:Je hebt 36 uur na aanvang om een thuismatch op Badmintonvlaande
 ren in te vullen. Match info: Smash 2G (105) - Amateurs 1G (108) - Link: h
 ttps://www.badmintonvlaanderen.be/sport/teammatch.aspx?id=541D9693-BA5C-49
 F3-B354-186D1A701882&match=1008
DTSTART;TZID=Europe/Brussels:20250127T220000
DTEND;TZID=Europe/Brussels:20250127T220000
END:VEVENT
BEGIN:VEVENT
UID:541D9693-BA5C-49F3-B354-186D1A701882-24-1013_homereminder@186.badminton
 ners.net
DTSTAMP:20260420T055216Z
SUMMARY:Thuismatch ingevuld? (Smash 2G (105) - Klein Boom 7G (103))
DESCRIPTION:Je hebt 36 uur na aanvang om een thuismatch op Badmintonvlaande
 ren in te vullen. Match info: Smash 2G (105) - Klein Boom 7G (103) - Link:
  https://www.badmintonvlaanderen.be/sport/teammatch.aspx?id=541D9693-BA5C-
 49F3-B354-186D1A701882&match=1013
DTSTART;TZID=Europe/Brussels:20250224T220000
DTEND;TZID=Europe/Brussels:20250224T220000
END:VEVENT
BEGIN:VEVENT
UID:541D9693-BA5C-49F3-B354-186D1A701882-24-1026_awayreminder@186.badminton
 ners.net
DTSTAMP:20260420T055216Z
SUMMARY:Uitmatch bevestigd? (Klein Boom 7G (103) - Smash 2G (105))
DESCRIPTION:Je hebt 72 uur na aanvang om een uitmatch op Badmintonvlaandere
 n in te vullen. Match info: Klein Boom 7G (103) - Smash 2G (105) - Link: h
 ttps://www.badmintonvlaanderen.be/sport/teammatch.aspx?id=541D9693-BA5C-49
 F3-B354-186D1A701882&match=1026
DTSTART;TZID=Europe/Brussels:20240925T190000
DTEND;TZID=Europe/Brussels:20240925T190000
END:VEVENT
BEGIN:VEVENT
UID:541D9693-BA5C-49F3-B354-186D1A701882-24-1025_awayreminder@186.badminton
 ners.net
DTSTAMP:20260420T055216Z
SUMMARY:Uitmatch bevestigd? (Amateurs 1G (108) - Smash 2G (105))
DESCRIPTION:Je hebt 72 uur na aanvang om een uitmatch op Badmintonvlaandere
 n in te vullen. Match info: Amateurs 1G (108) - Smash 2G (105) - Link: htt
 ps://www.badmintonvlaanderen.be/sport/teammatch.aspx?id=541D9693-BA5C-49F3
 -B354-186D1A701882&match=1025
DTSTART;TZID=Europe/Brussels:20241003T200000
DTEND;TZID=Europe/Brussels:20241003T200000
END:VEVENT
BEGIN:VEVENT
UID:541D9693-BA5C-49F3-B354-186D1A701882-24-1024_awayreminder@186.badminton
 ners.net
DTSTAMP:20260420T055216Z
SUMMARY:Uitmatch bevestigd? (De Klamp 3G (105) - Smash 2G (105))
DESCRIPTION:Je hebt 72 uur na aanvang om een uitmatch op Badmintonvlaandere
 n in te vullen. Match info: De Klamp 3G (105) - Smash 2G (105) - Link: htt
 ps://www.badmintonvlaanderen.be/sport/teammatch.aspx?id=541D9693-BA5C-49F3
 -B354-186D1A701882&match=1024
DTSTART;TZID=Europe/Brussels:20241218T181500
DTEND;TZID=Europe/Brussels:20241218T181500
END:VEVENT
BEGIN:VEVENT
UID:541D9693-BA5C-49F3-B354-186D1A701882-24-1028_awayreminder@186.badminton
 ners.net
DTSTAMP:20260420T055216Z
SUMMARY:Uitmatch bevestigd? (Spinshuttle 4G (102) - Smash 2G (105))
DESCRIPTION:Je hebt 72 uur na aanvang om een uitmatch op Badmintonvlaandere
 n in te vullen. Match info: Spinshuttle 4G (102) - Smash 2G (105) - Link: 
 https://www.badmintonvlaanderen.be/sport/teammatch.aspx?id=541D9693-BA5C-4
 9F3-B354-186D1A701882&match=1028
DTSTART;TZID=Europe/Brussels:20250307T200000
DTEND;TZID=Europe/Brussels:20250307T200000
END:VEVENT
BEGIN:VEVENT
UID:541D9693-BA5C-49F3-B354-186D1A701882-24-1027_awayreminder@186.badminton
 ners.net
DTSTAMP:20260420T055216Z
SUMMARY:Uitmatch bevestigd? (Merksplas 3G (109) - Smash 2G (105))
DESCRIPTION:Je hebt 72 uur na aanvang om een uitmatch op Badmintonvlaandere
 n in te vullen. Match info: Merksplas 3G (109) - Smash 2G (105) - Link: ht
 tps://www.badmintonvlaanderen.be/sport/teammatch.aspx?id=541D9693-BA5C-49F
 3-B354-186D1A701882&match=1027
DTSTART;TZID=Europe/Brussels:20250416T183000
DTEND;TZID=Europe/Brussels:20250416T183000
END:VEVENT
END:VCALENDAR