BEGIN:VCALENDAR
VERSION:2.0
PRODID:spatie/icalendar-generator
NAME:spinshuttle_4g_102_reminders
X-WR-CALNAME:spinshuttle_4g_102_reminders
BEGIN:VTIMEZONE
TZID:Europe/Brussels
BEGIN:DAYLIGHT
DTSTART:20240331T010000
TZOFFSETFROM:+0100
TZOFFSETTO:+0200
END:DAYLIGHT
BEGIN:STANDARD
DTSTART:20241027T030000
TZOFFSETFROM:+0200
TZOFFSETTO:+0100
END:STANDARD
BEGIN:DAYLIGHT
DTSTART:20250330T010000
TZOFFSETFROM:+0100
TZOFFSETTO:+0200
END:DAYLIGHT
BEGIN:STANDARD
DTSTART:20251026T030000
TZOFFSETFROM:+0200
TZOFFSETTO:+0100
END:STANDARD
END:VTIMEZONE
BEGIN:VTIMEZONE
TZID:UTC
BEGIN:STANDARD
DTSTART:20250724T072436
TZOFFSETFROM:+0000
TZOFFSETTO:+0000
END:STANDARD
END:VTIMEZONE
BEGIN:VEVENT
UID:541D9693-BA5C-49F3-B354-186D1A701882-24-1002_homereminder@189.badminton
 ners.net
DTSTAMP:20260420T072436Z
SUMMARY:Thuismatch ingevuld? (Spinshuttle 4G (102) - De Klamp 3G (105))
DESCRIPTION:Je hebt 36 uur na aanvang om een thuismatch op Badmintonvlaande
 ren in te vullen. Match info: Spinshuttle 4G (102) - De Klamp 3G (105) - L
 ink: https://www.badmintonvlaanderen.be/sport/teammatch.aspx?id=541D9693-B
 A5C-49F3-B354-186D1A701882&match=1002
DTSTART;TZID=Europe/Brussels:20240926T080000
DTEND;TZID=Europe/Brussels:20240926T080000
END:VEVENT
BEGIN:VEVENT
UID:541D9693-BA5C-49F3-B354-186D1A701882-24-1012_homereminder@189.badminton
 ners.net
DTSTAMP:20260420T072436Z
SUMMARY:Thuismatch ingevuld? (Spinshuttle 4G (102) - Klein Boom 7G (103))
DESCRIPTION:Je hebt 36 uur na aanvang om een thuismatch op Badmintonvlaande
 ren in te vullen. Match info: Spinshuttle 4G (102) - Klein Boom 7G (103) -
  Link: https://www.badmintonvlaanderen.be/sport/teammatch.aspx?id=541D9693
 -BA5C-49F3-B354-186D1A701882&match=1012
DTSTART;TZID=Europe/Brussels:20241003T080000
DTEND;TZID=Europe/Brussels:20241003T080000
END:VEVENT
BEGIN:VEVENT
UID:541D9693-BA5C-49F3-B354-186D1A701882-24-1007_homereminder@189.badminton
 ners.net
DTSTAMP:20260420T072436Z
SUMMARY:Thuismatch ingevuld? (Spinshuttle 4G (102) - Amateurs 1G (108))
DESCRIPTION:Je hebt 36 uur na aanvang om een thuismatch op Badmintonvlaande
 ren in te vullen. Match info: Spinshuttle 4G (102) - Amateurs 1G (108) - L
 ink: https://www.badmintonvlaanderen.be/sport/teammatch.aspx?id=541D9693-B
 A5C-49F3-B354-186D1A701882&match=1007
DTSTART;TZID=Europe/Brussels:20250123T080000
DTEND;TZID=Europe/Brussels:20250123T080000
END:VEVENT
BEGIN:VEVENT
UID:541D9693-BA5C-49F3-B354-186D1A701882-24-1028_homereminder@189.badminton
 ners.net
DTSTAMP:20260420T072436Z
SUMMARY:Thuismatch ingevuld? (Spinshuttle 4G (102) - Smash 2G (105))
DESCRIPTION:Je hebt 36 uur na aanvang om een thuismatch op Badmintonvlaande
 ren in te vullen. Match info: Spinshuttle 4G (102) - Smash 2G (105) - Link
 : https://www.badmintonvlaanderen.be/sport/teammatch.aspx?id=541D9693-BA5C
 -49F3-B354-186D1A701882&match=1028
DTSTART;TZID=Europe/Brussels:20250306T080000
DTEND;TZID=Europe/Brussels:20250306T080000
END:VEVENT
BEGIN:VEVENT
UID:541D9693-BA5C-49F3-B354-186D1A701882-24-1017_homereminder@189.badminton
 ners.net
DTSTAMP:20260420T072436Z
SUMMARY:Thuismatch ingevuld? (Spinshuttle 4G (102) - Merksplas 3G (109))
DESCRIPTION:Je hebt 36 uur na aanvang om een thuismatch op Badmintonvlaande
 ren in te vullen. Match info: Spinshuttle 4G (102) - Merksplas 3G (109) - 
 Link: https://www.badmintonvlaanderen.be/sport/teammatch.aspx?id=541D9693-
 BA5C-49F3-B354-186D1A701882&match=1017
DTSTART;TZID=Europe/Brussels:20250501T080000
DTEND;TZID=Europe/Brussels:20250501T080000
END:VEVENT
BEGIN:VEVENT
UID:541D9693-BA5C-49F3-B354-186D1A701882-24-1022_awayreminder@189.badminton
 ners.net
DTSTAMP:20260420T072436Z
SUMMARY:Uitmatch bevestigd? (Merksplas 3G (109) - Spinshuttle 4G (102))
DESCRIPTION:Je hebt 72 uur na aanvang om een uitmatch op Badmintonvlaandere
 n in te vullen. Match info: Merksplas 3G (109) - Spinshuttle 4G (102) - Li
 nk: https://www.badmintonvlaanderen.be/sport/teammatch.aspx?id=541D9693-BA
 5C-49F3-B354-186D1A701882&match=1022
DTSTART;TZID=Europe/Brussels:20241023T100000
DTEND;TZID=Europe/Brussels:20241023T100000
END:VEVENT
BEGIN:VEVENT
UID:541D9693-BA5C-49F3-B354-186D1A701882-24-1023_awayreminder@189.badminton
 ners.net
DTSTAMP:20260420T072436Z
SUMMARY:Uitmatch bevestigd? (Smash 2G (105) - Spinshuttle 4G (102))
DESCRIPTION:Je hebt 72 uur na aanvang om een uitmatch op Badmintonvlaandere
 n in te vullen. Match info: Smash 2G (105) - Spinshuttle 4G (102) - Link: 
 https://www.badmintonvlaanderen.be/sport/teammatch.aspx?id=541D9693-BA5C-4
 9F3-B354-186D1A701882&match=1023
DTSTART;TZID=Europe/Brussels:20241204T100000
DTEND;TZID=Europe/Brussels:20241204T100000
END:VEVENT
BEGIN:VEVENT
UID:541D9693-BA5C-49F3-B354-186D1A701882-24-1020_awayreminder@189.badminton
 ners.net
DTSTAMP:20260420T072436Z
SUMMARY:Uitmatch bevestigd? (Amateurs 1G (108) - Spinshuttle 4G (102))
DESCRIPTION:Je hebt 72 uur na aanvang om een uitmatch op Badmintonvlaandere
 n in te vullen. Match info: Amateurs 1G (108) - Spinshuttle 4G (102) - Lin
 k: https://www.badmintonvlaanderen.be/sport/teammatch.aspx?id=541D9693-BA5
 C-49F3-B354-186D1A701882&match=1020
DTSTART;TZID=Europe/Brussels:20241212T200000
DTEND;TZID=Europe/Brussels:20241212T200000
END:VEVENT
BEGIN:VEVENT
UID:541D9693-BA5C-49F3-B354-186D1A701882-24-1021_awayreminder@189.badminton
 ners.net
DTSTAMP:20260420T072436Z
SUMMARY:Uitmatch bevestigd? (Klein Boom 7G (103) - Spinshuttle 4G (102))
DESCRIPTION:Je hebt 72 uur na aanvang om een uitmatch op Badmintonvlaandere
 n in te vullen. Match info: Klein Boom 7G (103) - Spinshuttle 4G (102) - L
 ink: https://www.badmintonvlaanderen.be/sport/teammatch.aspx?id=541D9693-B
 A5C-49F3-B354-186D1A701882&match=1021
DTSTART;TZID=Europe/Brussels:20250212T190000
DTEND;TZID=Europe/Brussels:20250212T190000
END:VEVENT
BEGIN:VEVENT
UID:541D9693-BA5C-49F3-B354-186D1A701882-24-1019_awayreminder@189.badminton
 ners.net
DTSTAMP:20260420T072436Z
SUMMARY:Uitmatch bevestigd? (De Klamp 3G (105) - Spinshuttle 4G (102))
DESCRIPTION:Je hebt 72 uur na aanvang om een uitmatch op Badmintonvlaandere
 n in te vullen. Match info: De Klamp 3G (105) - Spinshuttle 4G (102) - Lin
 k: https://www.badmintonvlaanderen.be/sport/teammatch.aspx?id=541D9693-BA5
 C-49F3-B354-186D1A701882&match=1019
DTSTART;TZID=Europe/Brussels:20250226T181500
DTEND;TZID=Europe/Brussels:20250226T181500
END:VEVENT
END:VCALENDAR