BEGIN:VCALENDAR
VERSION:2.0
PRODID:spatie/icalendar-generator
NAME:klein_boom_6g_103_reminders
X-WR-CALNAME:klein_boom_6g_103_reminders
BEGIN:VTIMEZONE
TZID:Europe/Brussels
BEGIN:DAYLIGHT
DTSTART:20240331T010000
TZOFFSETFROM:+0100
TZOFFSETTO:+0200
END:DAYLIGHT
BEGIN:STANDARD
DTSTART:20241027T030000
TZOFFSETFROM:+0200
TZOFFSETTO:+0100
END:STANDARD
BEGIN:DAYLIGHT
DTSTART:20250330T010000
TZOFFSETFROM:+0100
TZOFFSETTO:+0200
END:DAYLIGHT
END:VTIMEZONE
BEGIN:VTIMEZONE
TZID:UTC
BEGIN:STANDARD
DTSTART:20250724T073705
TZOFFSETFROM:+0000
TZOFFSETTO:+0000
END:STANDARD
END:VTIMEZONE
BEGIN:VEVENT
UID:541D9693-BA5C-49F3-B354-186D1A701882-26-1084_homereminder@168.badminton
 ners.net
DTSTAMP:20260420T073705Z
SUMMARY:Thuismatch ingevuld? (Klein Boom 6G (103) - Zoersel 5G (104))
DESCRIPTION:Je hebt 36 uur na aanvang om een thuismatch op Badmintonvlaande
 ren in te vullen. Match info: Klein Boom 6G (103) - Zoersel 5G (104) - Lin
 k: https://www.badmintonvlaanderen.be/sport/teammatch.aspx?id=541D9693-BA5
 C-49F3-B354-186D1A701882&match=1084
DTSTART;TZID=Europe/Brussels:20241119T070000
DTEND;TZID=Europe/Brussels:20241119T070000
END:VEVENT
BEGIN:VEVENT
UID:541D9693-BA5C-49F3-B354-186D1A701882-26-1074_homereminder@168.badminton
 ners.net
DTSTAMP:20260420T073705Z
SUMMARY:Thuismatch ingevuld? (Klein Boom 6G (103) - Spinshuttle 5G (104))
DESCRIPTION:Je hebt 36 uur na aanvang om een thuismatch op Badmintonvlaande
 ren in te vullen. Match info: Klein Boom 6G (103) - Spinshuttle 5G (104) -
  Link: https://www.badmintonvlaanderen.be/sport/teammatch.aspx?id=541D9693
 -BA5C-49F3-B354-186D1A701882&match=1074
DTSTART;TZID=Europe/Brussels:20241203T070000
DTEND;TZID=Europe/Brussels:20241203T070000
END:VEVENT
BEGIN:VEVENT
UID:541D9693-BA5C-49F3-B354-186D1A701882-26-1079_homereminder@168.badminton
 ners.net
DTSTAMP:20260420T073705Z
SUMMARY:Thuismatch ingevuld? (Klein Boom 6G (103) - Rita Serveert 3G (106))
DESCRIPTION:Je hebt 36 uur na aanvang om een thuismatch op Badmintonvlaande
 ren in te vullen. Match info: Klein Boom 6G (103) - Rita Serveert 3G (106)
  - Link: https://www.badmintonvlaanderen.be/sport/teammatch.aspx?id=541D96
 93-BA5C-49F3-B354-186D1A701882&match=1079
DTSTART;TZID=Europe/Brussels:20250114T070000
DTEND;TZID=Europe/Brussels:20250114T070000
END:VEVENT
BEGIN:VEVENT
UID:541D9693-BA5C-49F3-B354-186D1A701882-26-1089_homereminder@168.badminton
 ners.net
DTSTAMP:20260420T073705Z
SUMMARY:Thuismatch ingevuld? (Klein Boom 6G (103) - Opslag 5G (110))
DESCRIPTION:Je hebt 36 uur na aanvang om een thuismatch op Badmintonvlaande
 ren in te vullen. Match info: Klein Boom 6G (103) - Opslag 5G (110) - Link
 : https://www.badmintonvlaanderen.be/sport/teammatch.aspx?id=541D9693-BA5C
 -49F3-B354-186D1A701882&match=1089
DTSTART;TZID=Europe/Brussels:20250225T070000
DTEND;TZID=Europe/Brussels:20250225T070000
END:VEVENT
BEGIN:VEVENT
UID:541D9693-BA5C-49F3-B354-186D1A701882-26-1100_homereminder@168.badminton
 ners.net
DTSTAMP:20260420T073705Z
SUMMARY:Thuismatch ingevuld? (Klein Boom 6G (103) - Beerke 4G (111))
DESCRIPTION:Je hebt 36 uur na aanvang om een thuismatch op Badmintonvlaande
 ren in te vullen. Match info: Klein Boom 6G (103) - Beerke 4G (111) - Link
 : https://www.badmintonvlaanderen.be/sport/teammatch.aspx?id=541D9693-BA5C
 -49F3-B354-186D1A701882&match=1100
DTSTART;TZID=Europe/Brussels:20250311T070000
DTEND;TZID=Europe/Brussels:20250311T070000
END:VEVENT
BEGIN:VEVENT
UID:541D9693-BA5C-49F3-B354-186D1A701882-26-1095_awayreminder@168.badminton
 ners.net
DTSTAMP:20260420T073705Z
SUMMARY:Uitmatch bevestigd? (Beerke 4G (111) - Klein Boom 6G (103))
DESCRIPTION:Je hebt 72 uur na aanvang om een uitmatch op Badmintonvlaandere
 n in te vullen. Match info: Beerke 4G (111) - Klein Boom 6G (103) - Link: 
 https://www.badmintonvlaanderen.be/sport/teammatch.aspx?id=541D9693-BA5C-4
 9F3-B354-186D1A701882&match=1095
DTSTART;TZID=Europe/Brussels:20240925T100000
DTEND;TZID=Europe/Brussels:20240925T100000
END:VEVENT
BEGIN:VEVENT
UID:541D9693-BA5C-49F3-B354-186D1A701882-26-1094_awayreminder@168.badminton
 ners.net
DTSTAMP:20260420T073705Z
SUMMARY:Uitmatch bevestigd? (Opslag 5G (110) - Klein Boom 6G (103))
DESCRIPTION:Je hebt 72 uur na aanvang om een uitmatch op Badmintonvlaandere
 n in te vullen. Match info: Opslag 5G (110) - Klein Boom 6G (103) - Link: 
 https://www.badmintonvlaanderen.be/sport/teammatch.aspx?id=541D9693-BA5C-4
 9F3-B354-186D1A701882&match=1094
DTSTART;TZID=Europe/Brussels:20241023T163000
DTEND;TZID=Europe/Brussels:20241023T163000
END:VEVENT
BEGIN:VEVENT
UID:541D9693-BA5C-49F3-B354-186D1A701882-26-1092_awayreminder@168.badminton
 ners.net
DTSTAMP:20260420T073705Z
SUMMARY:Uitmatch bevestigd? (Rita Serveert 3G (106) - Klein Boom 6G (103))
DESCRIPTION:Je hebt 72 uur na aanvang om een uitmatch op Badmintonvlaandere
 n in te vullen. Match info: Rita Serveert 3G (106) - Klein Boom 6G (103) -
  Link: https://www.badmintonvlaanderen.be/sport/teammatch.aspx?id=541D9693
 -BA5C-49F3-B354-186D1A701882&match=1092
DTSTART;TZID=Europe/Brussels:20241218T190000
DTEND;TZID=Europe/Brussels:20241218T190000
END:VEVENT
BEGIN:VEVENT
UID:541D9693-BA5C-49F3-B354-186D1A701882-26-1093_awayreminder@168.badminton
 ners.net
DTSTAMP:20260420T073705Z
SUMMARY:Uitmatch bevestigd? (Zoersel 5G (104) - Klein Boom 6G (103))
DESCRIPTION:Je hebt 72 uur na aanvang om een uitmatch op Badmintonvlaandere
 n in te vullen. Match info: Zoersel 5G (104) - Klein Boom 6G (103) - Link:
  https://www.badmintonvlaanderen.be/sport/teammatch.aspx?id=541D9693-BA5C-
 49F3-B354-186D1A701882&match=1093
DTSTART;TZID=Europe/Brussels:20250212T120000
DTEND;TZID=Europe/Brussels:20250212T120000
END:VEVENT
BEGIN:VEVENT
UID:541D9693-BA5C-49F3-B354-186D1A701882-26-1091_awayreminder@168.badminton
 ners.net
DTSTAMP:20260420T073705Z
SUMMARY:Uitmatch bevestigd? (Spinshuttle 5G (104) - Klein Boom 6G (103))
DESCRIPTION:Je hebt 72 uur na aanvang om een uitmatch op Badmintonvlaandere
 n in te vullen. Match info: Spinshuttle 5G (104) - Klein Boom 6G (103) - L
 ink: https://www.badmintonvlaanderen.be/sport/teammatch.aspx?id=541D9693-B
 A5C-49F3-B354-186D1A701882&match=1091
DTSTART;TZID=Europe/Brussels:20250418T200000
DTEND;TZID=Europe/Brussels:20250418T200000
END:VEVENT
END:VCALENDAR