BEGIN:VCALENDAR
VERSION:2.0
PRODID:spatie/icalendar-generator
NAME:opslag_5g_110_reminders
X-WR-CALNAME:opslag_5g_110_reminders
BEGIN:VTIMEZONE
TZID:Europe/Brussels
BEGIN:DAYLIGHT
DTSTART:20240331T010000
TZOFFSETFROM:+0100
TZOFFSETTO:+0200
END:DAYLIGHT
BEGIN:STANDARD
DTSTART:20241027T030000
TZOFFSETFROM:+0200
TZOFFSETTO:+0100
END:STANDARD
BEGIN:DAYLIGHT
DTSTART:20250330T010000
TZOFFSETFROM:+0100
TZOFFSETTO:+0200
END:DAYLIGHT
END:VTIMEZONE
BEGIN:VTIMEZONE
TZID:UTC
BEGIN:STANDARD
DTSTART:20250724T055217
TZOFFSETFROM:+0000
TZOFFSETTO:+0000
END:STANDARD
END:VTIMEZONE
BEGIN:VEVENT
UID:541D9693-BA5C-49F3-B354-186D1A701882-26-1078_homereminder@177.badminton
 ners.net
DTSTAMP:20260420T055217Z
SUMMARY:Thuismatch ingevuld? (Opslag 5G (110) - Rita Serveert 3G (106))
DESCRIPTION:Je hebt 36 uur na aanvang om een thuismatch op Badmintonvlaande
 ren in te vullen. Match info: Opslag 5G (110) - Rita Serveert 3G (106) - L
 ink: https://www.badmintonvlaanderen.be/sport/teammatch.aspx?id=541D9693-B
 A5C-49F3-B354-186D1A701882&match=1078
DTSTART;TZID=Europe/Brussels:20240910T043000
DTEND;TZID=Europe/Brussels:20240910T043000
END:VEVENT
BEGIN:VEVENT
UID:541D9693-BA5C-49F3-B354-186D1A701882-26-1094_homereminder@177.badminton
 ners.net
DTSTAMP:20260420T055217Z
SUMMARY:Thuismatch ingevuld? (Opslag 5G (110) - Klein Boom 6G (103))
DESCRIPTION:Je hebt 36 uur na aanvang om een thuismatch op Badmintonvlaande
 ren in te vullen. Match info: Opslag 5G (110) - Klein Boom 6G (103) - Link
 : https://www.badmintonvlaanderen.be/sport/teammatch.aspx?id=541D9693-BA5C
 -49F3-B354-186D1A701882&match=1094
DTSTART;TZID=Europe/Brussels:20241022T043000
DTEND;TZID=Europe/Brussels:20241022T043000
END:VEVENT
BEGIN:VEVENT
UID:541D9693-BA5C-49F3-B354-186D1A701882-26-1099_homereminder@177.badminton
 ners.net
DTSTAMP:20260420T055217Z
SUMMARY:Thuismatch ingevuld? (Opslag 5G (110) - Beerke 4G (111))
DESCRIPTION:Je hebt 36 uur na aanvang om een thuismatch op Badmintonvlaande
 ren in te vullen. Match info: Opslag 5G (110) - Beerke 4G (111) - Link: ht
 tps://www.badmintonvlaanderen.be/sport/teammatch.aspx?id=541D9693-BA5C-49F
 3-B354-186D1A701882&match=1099
DTSTART;TZID=Europe/Brussels:20250107T043000
DTEND;TZID=Europe/Brussels:20250107T043000
END:VEVENT
BEGIN:VEVENT
UID:541D9693-BA5C-49F3-B354-186D1A701882-26-1083_homereminder@177.badminton
 ners.net
DTSTAMP:20260420T055217Z
SUMMARY:Thuismatch ingevuld? (Opslag 5G (110) - Zoersel 5G (104))
DESCRIPTION:Je hebt 36 uur na aanvang om een thuismatch op Badmintonvlaande
 ren in te vullen. Match info: Opslag 5G (110) - Zoersel 5G (104) - Link: h
 ttps://www.badmintonvlaanderen.be/sport/teammatch.aspx?id=541D9693-BA5C-49
 F3-B354-186D1A701882&match=1083
DTSTART;TZID=Europe/Brussels:20250114T043000
DTEND;TZID=Europe/Brussels:20250114T043000
END:VEVENT
BEGIN:VEVENT
UID:541D9693-BA5C-49F3-B354-186D1A701882-26-1073_homereminder@177.badminton
 ners.net
DTSTAMP:20260420T055217Z
SUMMARY:Thuismatch ingevuld? (Opslag 5G (110) - Spinshuttle 5G (104))
DESCRIPTION:Je hebt 36 uur na aanvang om een thuismatch op Badmintonvlaande
 ren in te vullen. Match info: Opslag 5G (110) - Spinshuttle 5G (104) - Lin
 k: https://www.badmintonvlaanderen.be/sport/teammatch.aspx?id=541D9693-BA5
 C-49F3-B354-186D1A701882&match=1073
DTSTART;TZID=Europe/Brussels:20250408T071500
DTEND;TZID=Europe/Brussels:20250408T071500
END:VEVENT
BEGIN:VEVENT
UID:541D9693-BA5C-49F3-B354-186D1A701882-26-1086_awayreminder@177.badminton
 ners.net
DTSTAMP:20260420T055217Z
SUMMARY:Uitmatch bevestigd? (Spinshuttle 5G (104) - Opslag 5G (110))
DESCRIPTION:Je hebt 72 uur na aanvang om een uitmatch op Badmintonvlaandere
 n in te vullen. Match info: Spinshuttle 5G (104) - Opslag 5G (110) - Link:
  https://www.badmintonvlaanderen.be/sport/teammatch.aspx?id=541D9693-BA5C-
 49F3-B354-186D1A701882&match=1086
DTSTART;TZID=Europe/Brussels:20240920T200000
DTEND;TZID=Europe/Brussels:20240920T200000
END:VEVENT
BEGIN:VEVENT
UID:541D9693-BA5C-49F3-B354-186D1A701882-26-1090_awayreminder@177.badminton
 ners.net
DTSTAMP:20260420T055217Z
SUMMARY:Uitmatch bevestigd? (Beerke 4G (111) - Opslag 5G (110))
DESCRIPTION:Je hebt 72 uur na aanvang om een uitmatch op Badmintonvlaandere
 n in te vullen. Match info: Beerke 4G (111) - Opslag 5G (110) - Link: http
 s://www.badmintonvlaanderen.be/sport/teammatch.aspx?id=541D9693-BA5C-49F3-
 B354-186D1A701882&match=1090
DTSTART;TZID=Europe/Brussels:20241204T100000
DTEND;TZID=Europe/Brussels:20241204T100000
END:VEVENT
BEGIN:VEVENT
UID:541D9693-BA5C-49F3-B354-186D1A701882-26-1088_awayreminder@177.badminton
 ners.net
DTSTAMP:20260420T055217Z
SUMMARY:Uitmatch bevestigd? (Zoersel 5G (104) - Opslag 5G (110))
DESCRIPTION:Je hebt 72 uur na aanvang om een uitmatch op Badmintonvlaandere
 n in te vullen. Match info: Zoersel 5G (104) - Opslag 5G (110) - Link: htt
 ps://www.badmintonvlaanderen.be/sport/teammatch.aspx?id=541D9693-BA5C-49F3
 -B354-186D1A701882&match=1088
DTSTART;TZID=Europe/Brussels:20241218T120000
DTEND;TZID=Europe/Brussels:20241218T120000
END:VEVENT
BEGIN:VEVENT
UID:541D9693-BA5C-49F3-B354-186D1A701882-26-1089_awayreminder@177.badminton
 ners.net
DTSTAMP:20260420T055217Z
SUMMARY:Uitmatch bevestigd? (Klein Boom 6G (103) - Opslag 5G (110))
DESCRIPTION:Je hebt 72 uur na aanvang om een uitmatch op Badmintonvlaandere
 n in te vullen. Match info: Klein Boom 6G (103) - Opslag 5G (110) - Link: 
 https://www.badmintonvlaanderen.be/sport/teammatch.aspx?id=541D9693-BA5C-4
 9F3-B354-186D1A701882&match=1089
DTSTART;TZID=Europe/Brussels:20250226T190000
DTEND;TZID=Europe/Brussels:20250226T190000
END:VEVENT
BEGIN:VEVENT
UID:541D9693-BA5C-49F3-B354-186D1A701882-26-1087_awayreminder@177.badminton
 ners.net
DTSTAMP:20260420T055217Z
SUMMARY:Uitmatch bevestigd? (Rita Serveert 3G (106) - Opslag 5G (110))
DESCRIPTION:Je hebt 72 uur na aanvang om een uitmatch op Badmintonvlaandere
 n in te vullen. Match info: Rita Serveert 3G (106) - Opslag 5G (110) - Lin
 k: https://www.badmintonvlaanderen.be/sport/teammatch.aspx?id=541D9693-BA5
 C-49F3-B354-186D1A701882&match=1087
DTSTART;TZID=Europe/Brussels:20250326T190000
DTEND;TZID=Europe/Brussels:20250326T190000
END:VEVENT
END:VCALENDAR