BEGIN:VCALENDAR
VERSION:2.0
PRODID:spatie/icalendar-generator
NAME:rita_serveert_3g_106_reminders
X-WR-CALNAME:rita_serveert_3g_106_reminders
BEGIN:VTIMEZONE
TZID:Europe/Brussels
BEGIN:DAYLIGHT
DTSTART:20240331T010000
TZOFFSETFROM:+0100
TZOFFSETTO:+0200
END:DAYLIGHT
BEGIN:STANDARD
DTSTART:20241027T030000
TZOFFSETFROM:+0200
TZOFFSETTO:+0100
END:STANDARD
BEGIN:DAYLIGHT
DTSTART:20250330T010000
TZOFFSETFROM:+0100
TZOFFSETTO:+0200
END:DAYLIGHT
END:VTIMEZONE
BEGIN:VTIMEZONE
TZID:UTC
BEGIN:STANDARD
DTSTART:20250724T073717
TZOFFSETFROM:+0000
TZOFFSETTO:+0000
END:STANDARD
END:VTIMEZONE
BEGIN:VEVENT
UID:541D9693-BA5C-49F3-B354-186D1A701882-26-1082_homereminder@179.badminton
 ners.net
DTSTAMP:20260420T073717Z
SUMMARY:Thuismatch ingevuld? (Rita Serveert 3G (106) - Zoersel 5G (104))
DESCRIPTION:Je hebt 36 uur na aanvang om een thuismatch op Badmintonvlaande
 ren in te vullen. Match info: Rita Serveert 3G (106) - Zoersel 5G (104) - 
 Link: https://www.badmintonvlaanderen.be/sport/teammatch.aspx?id=541D9693-
 BA5C-49F3-B354-186D1A701882&match=1082
DTSTART;TZID=Europe/Brussels:20240924T070000
DTEND;TZID=Europe/Brussels:20240924T070000
END:VEVENT
BEGIN:VEVENT
UID:541D9693-BA5C-49F3-B354-186D1A701882-26-1097_homereminder@179.badminton
 ners.net
DTSTAMP:20260420T073717Z
SUMMARY:Thuismatch ingevuld? (Rita Serveert 3G (106) - Beerke 4G (111))
DESCRIPTION:Je hebt 36 uur na aanvang om een thuismatch op Badmintonvlaande
 ren in te vullen. Match info: Rita Serveert 3G (106) - Beerke 4G (111) - L
 ink: https://www.badmintonvlaanderen.be/sport/teammatch.aspx?id=541D9693-B
 A5C-49F3-B354-186D1A701882&match=1097
DTSTART;TZID=Europe/Brussels:20241022T070000
DTEND;TZID=Europe/Brussels:20241022T070000
END:VEVENT
BEGIN:VEVENT
UID:541D9693-BA5C-49F3-B354-186D1A701882-26-1092_homereminder@179.badminton
 ners.net
DTSTAMP:20260420T073717Z
SUMMARY:Thuismatch ingevuld? (Rita Serveert 3G (106) - Klein Boom 6G (103))
DESCRIPTION:Je hebt 36 uur na aanvang om een thuismatch op Badmintonvlaande
 ren in te vullen. Match info: Rita Serveert 3G (106) - Klein Boom 6G (103)
  - Link: https://www.badmintonvlaanderen.be/sport/teammatch.aspx?id=541D96
 93-BA5C-49F3-B354-186D1A701882&match=1092
DTSTART;TZID=Europe/Brussels:20241217T070000
DTEND;TZID=Europe/Brussels:20241217T070000
END:VEVENT
BEGIN:VEVENT
UID:541D9693-BA5C-49F3-B354-186D1A701882-26-1071_homereminder@179.badminton
 ners.net
DTSTAMP:20260420T073717Z
SUMMARY:Thuismatch ingevuld? (Rita Serveert 3G (106) - Spinshuttle 5G (104)
 )
DESCRIPTION:Je hebt 36 uur na aanvang om een thuismatch op Badmintonvlaande
 ren in te vullen. Match info: Rita Serveert 3G (106) - Spinshuttle 5G (104
 ) - Link: https://www.badmintonvlaanderen.be/sport/teammatch.aspx?id=541D9
 693-BA5C-49F3-B354-186D1A701882&match=1071
DTSTART;TZID=Europe/Brussels:20250211T070000
DTEND;TZID=Europe/Brussels:20250211T070000
END:VEVENT
BEGIN:VEVENT
UID:541D9693-BA5C-49F3-B354-186D1A701882-26-1087_homereminder@179.badminton
 ners.net
DTSTAMP:20260420T073717Z
SUMMARY:Thuismatch ingevuld? (Rita Serveert 3G (106) - Opslag 5G (110))
DESCRIPTION:Je hebt 36 uur na aanvang om een thuismatch op Badmintonvlaande
 ren in te vullen. Match info: Rita Serveert 3G (106) - Opslag 5G (110) - L
 ink: https://www.badmintonvlaanderen.be/sport/teammatch.aspx?id=541D9693-B
 A5C-49F3-B354-186D1A701882&match=1087
DTSTART;TZID=Europe/Brussels:20250325T070000
DTEND;TZID=Europe/Brussels:20250325T070000
END:VEVENT
BEGIN:VEVENT
UID:541D9693-BA5C-49F3-B354-186D1A701882-26-1078_awayreminder@179.badminton
 ners.net
DTSTAMP:20260420T073717Z
SUMMARY:Uitmatch bevestigd? (Opslag 5G (110) - Rita Serveert 3G (106))
DESCRIPTION:Je hebt 72 uur na aanvang om een uitmatch op Badmintonvlaandere
 n in te vullen. Match info: Opslag 5G (110) - Rita Serveert 3G (106) - Lin
 k: https://www.badmintonvlaanderen.be/sport/teammatch.aspx?id=541D9693-BA5
 C-49F3-B354-186D1A701882&match=1078
DTSTART;TZID=Europe/Brussels:20240911T163000
DTEND;TZID=Europe/Brussels:20240911T163000
END:VEVENT
BEGIN:VEVENT
UID:541D9693-BA5C-49F3-B354-186D1A701882-26-1076_awayreminder@179.badminton
 ners.net
DTSTAMP:20260420T073717Z
SUMMARY:Uitmatch bevestigd? (Spinshuttle 5G (104) - Rita Serveert 3G (106))
DESCRIPTION:Je hebt 72 uur na aanvang om een uitmatch op Badmintonvlaandere
 n in te vullen. Match info: Spinshuttle 5G (104) - Rita Serveert 3G (106) 
 - Link: https://www.badmintonvlaanderen.be/sport/teammatch.aspx?id=541D969
 3-BA5C-49F3-B354-186D1A701882&match=1076
DTSTART;TZID=Europe/Brussels:20241115T200000
DTEND;TZID=Europe/Brussels:20241115T200000
END:VEVENT
BEGIN:VEVENT
UID:541D9693-BA5C-49F3-B354-186D1A701882-26-1079_awayreminder@179.badminton
 ners.net
DTSTAMP:20260420T073717Z
SUMMARY:Uitmatch bevestigd? (Klein Boom 6G (103) - Rita Serveert 3G (106))
DESCRIPTION:Je hebt 72 uur na aanvang om een uitmatch op Badmintonvlaandere
 n in te vullen. Match info: Klein Boom 6G (103) - Rita Serveert 3G (106) -
  Link: https://www.badmintonvlaanderen.be/sport/teammatch.aspx?id=541D9693
 -BA5C-49F3-B354-186D1A701882&match=1079
DTSTART;TZID=Europe/Brussels:20250115T190000
DTEND;TZID=Europe/Brussels:20250115T190000
END:VEVENT
BEGIN:VEVENT
UID:541D9693-BA5C-49F3-B354-186D1A701882-26-1080_awayreminder@179.badminton
 ners.net
DTSTAMP:20260420T073717Z
SUMMARY:Uitmatch bevestigd? (Beerke 4G (111) - Rita Serveert 3G (106))
DESCRIPTION:Je hebt 72 uur na aanvang om een uitmatch op Badmintonvlaandere
 n in te vullen. Match info: Beerke 4G (111) - Rita Serveert 3G (106) - Lin
 k: https://www.badmintonvlaanderen.be/sport/teammatch.aspx?id=541D9693-BA5
 C-49F3-B354-186D1A701882&match=1080
DTSTART;TZID=Europe/Brussels:20250226T100000
DTEND;TZID=Europe/Brussels:20250226T100000
END:VEVENT
BEGIN:VEVENT
UID:541D9693-BA5C-49F3-B354-186D1A701882-26-1077_awayreminder@179.badminton
 ners.net
DTSTAMP:20260420T073717Z
SUMMARY:Uitmatch bevestigd? (Zoersel 5G (104) - Rita Serveert 3G (106))
DESCRIPTION:Je hebt 72 uur na aanvang om een uitmatch op Badmintonvlaandere
 n in te vullen. Match info: Zoersel 5G (104) - Rita Serveert 3G (106) - Li
 nk: https://www.badmintonvlaanderen.be/sport/teammatch.aspx?id=541D9693-BA
 5C-49F3-B354-186D1A701882&match=1077
DTSTART;TZID=Europe/Brussels:20250409T120000
DTEND;TZID=Europe/Brussels:20250409T120000
END:VEVENT
END:VCALENDAR