BEGIN:VCALENDAR
VERSION:2.0
PRODID:spatie/icalendar-generator
NAME:zoersel_5g_104_reminders
X-WR-CALNAME:zoersel_5g_104_reminders
BEGIN:VTIMEZONE
TZID:Europe/Brussels
BEGIN:DAYLIGHT
DTSTART:20240331T010000
TZOFFSETFROM:+0100
TZOFFSETTO:+0200
END:DAYLIGHT
BEGIN:STANDARD
DTSTART:20241027T030000
TZOFFSETFROM:+0200
TZOFFSETTO:+0100
END:STANDARD
BEGIN:DAYLIGHT
DTSTART:20250330T010000
TZOFFSETFROM:+0100
TZOFFSETTO:+0200
END:DAYLIGHT
END:VTIMEZONE
BEGIN:VTIMEZONE
TZID:UTC
BEGIN:STANDARD
DTSTART:20250724T055215
TZOFFSETFROM:+0000
TZOFFSETTO:+0000
END:STANDARD
END:VTIMEZONE
BEGIN:VEVENT
UID:541D9693-BA5C-49F3-B354-186D1A701882-26-1098_homereminder@180.badminton
 ners.net
DTSTAMP:20260420T055215Z
SUMMARY:Thuismatch ingevuld? (Zoersel 5G (104) - Beerke 4G (111))
DESCRIPTION:Je hebt 36 uur na aanvang om een thuismatch op Badmintonvlaande
 ren in te vullen. Match info: Zoersel 5G (104) - Beerke 4G (111) - Link: h
 ttps://www.badmintonvlaanderen.be/sport/teammatch.aspx?id=541D9693-BA5C-49
 F3-B354-186D1A701882&match=1098
DTSTART;TZID=Europe/Brussels:20241126T000000
DTEND;TZID=Europe/Brussels:20241126T000000
END:VEVENT
BEGIN:VEVENT
UID:541D9693-BA5C-49F3-B354-186D1A701882-26-1088_homereminder@180.badminton
 ners.net
DTSTAMP:20260420T055215Z
SUMMARY:Thuismatch ingevuld? (Zoersel 5G (104) - Opslag 5G (110))
DESCRIPTION:Je hebt 36 uur na aanvang om een thuismatch op Badmintonvlaande
 ren in te vullen. Match info: Zoersel 5G (104) - Opslag 5G (110) - Link: h
 ttps://www.badmintonvlaanderen.be/sport/teammatch.aspx?id=541D9693-BA5C-49
 F3-B354-186D1A701882&match=1088
DTSTART;TZID=Europe/Brussels:20241217T000000
DTEND;TZID=Europe/Brussels:20241217T000000
END:VEVENT
BEGIN:VEVENT
UID:541D9693-BA5C-49F3-B354-186D1A701882-26-1072_homereminder@180.badminton
 ners.net
DTSTAMP:20260420T055215Z
SUMMARY:Thuismatch ingevuld? (Zoersel 5G (104) - Spinshuttle 5G (104))
DESCRIPTION:Je hebt 36 uur na aanvang om een thuismatch op Badmintonvlaande
 ren in te vullen. Match info: Zoersel 5G (104) - Spinshuttle 5G (104) - Li
 nk: https://www.badmintonvlaanderen.be/sport/teammatch.aspx?id=541D9693-BA
 5C-49F3-B354-186D1A701882&match=1072
DTSTART;TZID=Europe/Brussels:20241224T000000
DTEND;TZID=Europe/Brussels:20241224T000000
END:VEVENT
BEGIN:VEVENT
UID:541D9693-BA5C-49F3-B354-186D1A701882-26-1093_homereminder@180.badminton
 ners.net
DTSTAMP:20260420T055215Z
SUMMARY:Thuismatch ingevuld? (Zoersel 5G (104) - Klein Boom 6G (103))
DESCRIPTION:Je hebt 36 uur na aanvang om een thuismatch op Badmintonvlaande
 ren in te vullen. Match info: Zoersel 5G (104) - Klein Boom 6G (103) - Lin
 k: https://www.badmintonvlaanderen.be/sport/teammatch.aspx?id=541D9693-BA5
 C-49F3-B354-186D1A701882&match=1093
DTSTART;TZID=Europe/Brussels:20250211T000000
DTEND;TZID=Europe/Brussels:20250211T000000
END:VEVENT
BEGIN:VEVENT
UID:541D9693-BA5C-49F3-B354-186D1A701882-26-1077_homereminder@180.badminton
 ners.net
DTSTAMP:20260420T055215Z
SUMMARY:Thuismatch ingevuld? (Zoersel 5G (104) - Rita Serveert 3G (106))
DESCRIPTION:Je hebt 36 uur na aanvang om een thuismatch op Badmintonvlaande
 ren in te vullen. Match info: Zoersel 5G (104) - Rita Serveert 3G (106) - 
 Link: https://www.badmintonvlaanderen.be/sport/teammatch.aspx?id=541D9693-
 BA5C-49F3-B354-186D1A701882&match=1077
DTSTART;TZID=Europe/Brussels:20250408T000000
DTEND;TZID=Europe/Brussels:20250408T000000
END:VEVENT
BEGIN:VEVENT
UID:541D9693-BA5C-49F3-B354-186D1A701882-26-1082_awayreminder@180.badminton
 ners.net
DTSTAMP:20260420T055215Z
SUMMARY:Uitmatch bevestigd? (Rita Serveert 3G (106) - Zoersel 5G (104))
DESCRIPTION:Je hebt 72 uur na aanvang om een uitmatch op Badmintonvlaandere
 n in te vullen. Match info: Rita Serveert 3G (106) - Zoersel 5G (104) - Li
 nk: https://www.badmintonvlaanderen.be/sport/teammatch.aspx?id=541D9693-BA
 5C-49F3-B354-186D1A701882&match=1082
DTSTART;TZID=Europe/Brussels:20240925T190000
DTEND;TZID=Europe/Brussels:20240925T190000
END:VEVENT
BEGIN:VEVENT
UID:541D9693-BA5C-49F3-B354-186D1A701882-26-1084_awayreminder@180.badminton
 ners.net
DTSTAMP:20260420T055215Z
SUMMARY:Uitmatch bevestigd? (Klein Boom 6G (103) - Zoersel 5G (104))
DESCRIPTION:Je hebt 72 uur na aanvang om een uitmatch op Badmintonvlaandere
 n in te vullen. Match info: Klein Boom 6G (103) - Zoersel 5G (104) - Link:
  https://www.badmintonvlaanderen.be/sport/teammatch.aspx?id=541D9693-BA5C-
 49F3-B354-186D1A701882&match=1084
DTSTART;TZID=Europe/Brussels:20241120T190000
DTEND;TZID=Europe/Brussels:20241120T190000
END:VEVENT
BEGIN:VEVENT
UID:541D9693-BA5C-49F3-B354-186D1A701882-26-1083_awayreminder@180.badminton
 ners.net
DTSTAMP:20260420T055215Z
SUMMARY:Uitmatch bevestigd? (Opslag 5G (110) - Zoersel 5G (104))
DESCRIPTION:Je hebt 72 uur na aanvang om een uitmatch op Badmintonvlaandere
 n in te vullen. Match info: Opslag 5G (110) - Zoersel 5G (104) - Link: htt
 ps://www.badmintonvlaanderen.be/sport/teammatch.aspx?id=541D9693-BA5C-49F3
 -B354-186D1A701882&match=1083
DTSTART;TZID=Europe/Brussels:20250115T163000
DTEND;TZID=Europe/Brussels:20250115T163000
END:VEVENT
BEGIN:VEVENT
UID:541D9693-BA5C-49F3-B354-186D1A701882-26-1081_awayreminder@180.badminton
 ners.net
DTSTAMP:20260420T055215Z
SUMMARY:Uitmatch bevestigd? (Spinshuttle 5G (104) - Zoersel 5G (104))
DESCRIPTION:Je hebt 72 uur na aanvang om een uitmatch op Badmintonvlaandere
 n in te vullen. Match info: Spinshuttle 5G (104) - Zoersel 5G (104) - Link
 : https://www.badmintonvlaanderen.be/sport/teammatch.aspx?id=541D9693-BA5C
 -49F3-B354-186D1A701882&match=1081
DTSTART;TZID=Europe/Brussels:20250221T200000
DTEND;TZID=Europe/Brussels:20250221T200000
END:VEVENT
BEGIN:VEVENT
UID:541D9693-BA5C-49F3-B354-186D1A701882-26-1085_awayreminder@180.badminton
 ners.net
DTSTAMP:20260420T055215Z
SUMMARY:Uitmatch bevestigd? (Beerke 4G (111) - Zoersel 5G (104))
DESCRIPTION:Je hebt 72 uur na aanvang om een uitmatch op Badmintonvlaandere
 n in te vullen. Match info: Beerke 4G (111) - Zoersel 5G (104) - Link: htt
 ps://www.badmintonvlaanderen.be/sport/teammatch.aspx?id=541D9693-BA5C-49F3
 -B354-186D1A701882&match=1085
DTSTART;TZID=Europe/Brussels:20250326T100000
DTEND;TZID=Europe/Brussels:20250326T100000
END:VEVENT
END:VCALENDAR