BEGIN:VCALENDAR
VERSION:2.0
PRODID:spatie/icalendar-generator
NAME:spinshuttle_5g_104_reminders
X-WR-CALNAME:spinshuttle_5g_104_reminders
BEGIN:VTIMEZONE
TZID:Europe/Brussels
BEGIN:DAYLIGHT
DTSTART:20240331T010000
TZOFFSETFROM:+0100
TZOFFSETTO:+0200
END:DAYLIGHT
BEGIN:STANDARD
DTSTART:20241027T030000
TZOFFSETFROM:+0200
TZOFFSETTO:+0100
END:STANDARD
BEGIN:DAYLIGHT
DTSTART:20250330T010000
TZOFFSETFROM:+0100
TZOFFSETTO:+0200
END:DAYLIGHT
END:VTIMEZONE
BEGIN:VTIMEZONE
TZID:UTC
BEGIN:STANDARD
DTSTART:20250724T073429
TZOFFSETFROM:+0000
TZOFFSETTO:+0000
END:STANDARD
END:VTIMEZONE
BEGIN:VEVENT
UID:541D9693-BA5C-49F3-B354-186D1A701882-26-1086_homereminder@181.badminton
 ners.net
DTSTAMP:20260420T073429Z
SUMMARY:Thuismatch ingevuld? (Spinshuttle 5G (104) - Opslag 5G (110))
DESCRIPTION:Je hebt 36 uur na aanvang om een thuismatch op Badmintonvlaande
 ren in te vullen. Match info: Spinshuttle 5G (104) - Opslag 5G (110) - Lin
 k: https://www.badmintonvlaanderen.be/sport/teammatch.aspx?id=541D9693-BA5
 C-49F3-B354-186D1A701882&match=1086
DTSTART;TZID=Europe/Brussels:20240919T080000
DTEND;TZID=Europe/Brussels:20240919T080000
END:VEVENT
BEGIN:VEVENT
UID:541D9693-BA5C-49F3-B354-186D1A701882-26-1076_homereminder@181.badminton
 ners.net
DTSTAMP:20260420T073429Z
SUMMARY:Thuismatch ingevuld? (Spinshuttle 5G (104) - Rita Serveert 3G (106)
 )
DESCRIPTION:Je hebt 36 uur na aanvang om een thuismatch op Badmintonvlaande
 ren in te vullen. Match info: Spinshuttle 5G (104) - Rita Serveert 3G (106
 ) - Link: https://www.badmintonvlaanderen.be/sport/teammatch.aspx?id=541D9
 693-BA5C-49F3-B354-186D1A701882&match=1076
DTSTART;TZID=Europe/Brussels:20241114T080000
DTEND;TZID=Europe/Brussels:20241114T080000
END:VEVENT
BEGIN:VEVENT
UID:541D9693-BA5C-49F3-B354-186D1A701882-26-1096_homereminder@181.badminton
 ners.net
DTSTAMP:20260420T073429Z
SUMMARY:Thuismatch ingevuld? (Spinshuttle 5G (104) - Beerke 4G (111))
DESCRIPTION:Je hebt 36 uur na aanvang om een thuismatch op Badmintonvlaande
 ren in te vullen. Match info: Spinshuttle 5G (104) - Beerke 4G (111) - Lin
 k: https://www.badmintonvlaanderen.be/sport/teammatch.aspx?id=541D9693-BA5
 C-49F3-B354-186D1A701882&match=1096
DTSTART;TZID=Europe/Brussels:20241212T080000
DTEND;TZID=Europe/Brussels:20241212T080000
END:VEVENT
BEGIN:VEVENT
UID:541D9693-BA5C-49F3-B354-186D1A701882-26-1081_homereminder@181.badminton
 ners.net
DTSTAMP:20260420T073429Z
SUMMARY:Thuismatch ingevuld? (Spinshuttle 5G (104) - Zoersel 5G (104))
DESCRIPTION:Je hebt 36 uur na aanvang om een thuismatch op Badmintonvlaande
 ren in te vullen. Match info: Spinshuttle 5G (104) - Zoersel 5G (104) - Li
 nk: https://www.badmintonvlaanderen.be/sport/teammatch.aspx?id=541D9693-BA
 5C-49F3-B354-186D1A701882&match=1081
DTSTART;TZID=Europe/Brussels:20250220T080000
DTEND;TZID=Europe/Brussels:20250220T080000
END:VEVENT
BEGIN:VEVENT
UID:541D9693-BA5C-49F3-B354-186D1A701882-26-1091_homereminder@181.badminton
 ners.net
DTSTAMP:20260420T073429Z
SUMMARY:Thuismatch ingevuld? (Spinshuttle 5G (104) - Klein Boom 6G (103))
DESCRIPTION:Je hebt 36 uur na aanvang om een thuismatch op Badmintonvlaande
 ren in te vullen. Match info: Spinshuttle 5G (104) - Klein Boom 6G (103) -
  Link: https://www.badmintonvlaanderen.be/sport/teammatch.aspx?id=541D9693
 -BA5C-49F3-B354-186D1A701882&match=1091
DTSTART;TZID=Europe/Brussels:20250417T080000
DTEND;TZID=Europe/Brussels:20250417T080000
END:VEVENT
BEGIN:VEVENT
UID:541D9693-BA5C-49F3-B354-186D1A701882-26-1074_awayreminder@181.badminton
 ners.net
DTSTAMP:20260420T073429Z
SUMMARY:Uitmatch bevestigd? (Klein Boom 6G (103) - Spinshuttle 5G (104))
DESCRIPTION:Je hebt 72 uur na aanvang om een uitmatch op Badmintonvlaandere
 n in te vullen. Match info: Klein Boom 6G (103) - Spinshuttle 5G (104) - L
 ink: https://www.badmintonvlaanderen.be/sport/teammatch.aspx?id=541D9693-B
 A5C-49F3-B354-186D1A701882&match=1074
DTSTART;TZID=Europe/Brussels:20241204T190000
DTEND;TZID=Europe/Brussels:20241204T190000
END:VEVENT
BEGIN:VEVENT
UID:541D9693-BA5C-49F3-B354-186D1A701882-26-1072_awayreminder@181.badminton
 ners.net
DTSTAMP:20260420T073429Z
SUMMARY:Uitmatch bevestigd? (Zoersel 5G (104) - Spinshuttle 5G (104))
DESCRIPTION:Je hebt 72 uur na aanvang om een uitmatch op Badmintonvlaandere
 n in te vullen. Match info: Zoersel 5G (104) - Spinshuttle 5G (104) - Link
 : https://www.badmintonvlaanderen.be/sport/teammatch.aspx?id=541D9693-BA5C
 -49F3-B354-186D1A701882&match=1072
DTSTART;TZID=Europe/Brussels:20241225T120000
DTEND;TZID=Europe/Brussels:20241225T120000
END:VEVENT
BEGIN:VEVENT
UID:541D9693-BA5C-49F3-B354-186D1A701882-26-1075_awayreminder@181.badminton
 ners.net
DTSTAMP:20260420T073429Z
SUMMARY:Uitmatch bevestigd? (Beerke 4G (111) - Spinshuttle 5G (104))
DESCRIPTION:Je hebt 72 uur na aanvang om een uitmatch op Badmintonvlaandere
 n in te vullen. Match info: Beerke 4G (111) - Spinshuttle 5G (104) - Link:
  https://www.badmintonvlaanderen.be/sport/teammatch.aspx?id=541D9693-BA5C-
 49F3-B354-186D1A701882&match=1075
DTSTART;TZID=Europe/Brussels:20250115T100000
DTEND;TZID=Europe/Brussels:20250115T100000
END:VEVENT
BEGIN:VEVENT
UID:541D9693-BA5C-49F3-B354-186D1A701882-26-1071_awayreminder@181.badminton
 ners.net
DTSTAMP:20260420T073429Z
SUMMARY:Uitmatch bevestigd? (Rita Serveert 3G (106) - Spinshuttle 5G (104))
DESCRIPTION:Je hebt 72 uur na aanvang om een uitmatch op Badmintonvlaandere
 n in te vullen. Match info: Rita Serveert 3G (106) - Spinshuttle 5G (104) 
 - Link: https://www.badmintonvlaanderen.be/sport/teammatch.aspx?id=541D969
 3-BA5C-49F3-B354-186D1A701882&match=1071
DTSTART;TZID=Europe/Brussels:20250212T190000
DTEND;TZID=Europe/Brussels:20250212T190000
END:VEVENT
BEGIN:VEVENT
UID:541D9693-BA5C-49F3-B354-186D1A701882-26-1073_awayreminder@181.badminton
 ners.net
DTSTAMP:20260420T073429Z
SUMMARY:Uitmatch bevestigd? (Opslag 5G (110) - Spinshuttle 5G (104))
DESCRIPTION:Je hebt 72 uur na aanvang om een uitmatch op Badmintonvlaandere
 n in te vullen. Match info: Opslag 5G (110) - Spinshuttle 5G (104) - Link:
  https://www.badmintonvlaanderen.be/sport/teammatch.aspx?id=541D9693-BA5C-
 49F3-B354-186D1A701882&match=1073
DTSTART;TZID=Europe/Brussels:20250409T191500
DTEND;TZID=Europe/Brussels:20250409T191500
END:VEVENT
END:VCALENDAR