BEGIN:VCALENDAR
VERSION:2.0
PRODID:spatie/icalendar-generator
NAME:beerke_4g_111_reminders
X-WR-CALNAME:beerke_4g_111_reminders
BEGIN:VTIMEZONE
TZID:Europe/Brussels
BEGIN:DAYLIGHT
DTSTART:20240331T010000
TZOFFSETFROM:+0100
TZOFFSETTO:+0200
END:DAYLIGHT
BEGIN:STANDARD
DTSTART:20241027T030000
TZOFFSETFROM:+0200
TZOFFSETTO:+0100
END:STANDARD
BEGIN:DAYLIGHT
DTSTART:20250330T010000
TZOFFSETFROM:+0100
TZOFFSETTO:+0200
END:DAYLIGHT
END:VTIMEZONE
BEGIN:VTIMEZONE
TZID:UTC
BEGIN:STANDARD
DTSTART:20250724T055217
TZOFFSETFROM:+0000
TZOFFSETTO:+0000
END:STANDARD
END:VTIMEZONE
BEGIN:VEVENT
UID:541D9693-BA5C-49F3-B354-186D1A701882-26-1095_homereminder@184.badminton
 ners.net
DTSTAMP:20260420T055217Z
SUMMARY:Thuismatch ingevuld? (Beerke 4G (111) - Klein Boom 6G (103))
DESCRIPTION:Je hebt 36 uur na aanvang om een thuismatch op Badmintonvlaande
 ren in te vullen. Match info: Beerke 4G (111) - Klein Boom 6G (103) - Link
 : https://www.badmintonvlaanderen.be/sport/teammatch.aspx?id=541D9693-BA5C
 -49F3-B354-186D1A701882&match=1095
DTSTART;TZID=Europe/Brussels:20240923T220000
DTEND;TZID=Europe/Brussels:20240923T220000
END:VEVENT
BEGIN:VEVENT
UID:541D9693-BA5C-49F3-B354-186D1A701882-26-1090_homereminder@184.badminton
 ners.net
DTSTAMP:20260420T055217Z
SUMMARY:Thuismatch ingevuld? (Beerke 4G (111) - Opslag 5G (110))
DESCRIPTION:Je hebt 36 uur na aanvang om een thuismatch op Badmintonvlaande
 ren in te vullen. Match info: Beerke 4G (111) - Opslag 5G (110) - Link: ht
 tps://www.badmintonvlaanderen.be/sport/teammatch.aspx?id=541D9693-BA5C-49F
 3-B354-186D1A701882&match=1090
DTSTART;TZID=Europe/Brussels:20241202T220000
DTEND;TZID=Europe/Brussels:20241202T220000
END:VEVENT
BEGIN:VEVENT
UID:541D9693-BA5C-49F3-B354-186D1A701882-26-1075_homereminder@184.badminton
 ners.net
DTSTAMP:20260420T055217Z
SUMMARY:Thuismatch ingevuld? (Beerke 4G (111) - Spinshuttle 5G (104))
DESCRIPTION:Je hebt 36 uur na aanvang om een thuismatch op Badmintonvlaande
 ren in te vullen. Match info: Beerke 4G (111) - Spinshuttle 5G (104) - Lin
 k: https://www.badmintonvlaanderen.be/sport/teammatch.aspx?id=541D9693-BA5
 C-49F3-B354-186D1A701882&match=1075
DTSTART;TZID=Europe/Brussels:20250113T220000
DTEND;TZID=Europe/Brussels:20250113T220000
END:VEVENT
BEGIN:VEVENT
UID:541D9693-BA5C-49F3-B354-186D1A701882-26-1080_homereminder@184.badminton
 ners.net
DTSTAMP:20260420T055217Z
SUMMARY:Thuismatch ingevuld? (Beerke 4G (111) - Rita Serveert 3G (106))
DESCRIPTION:Je hebt 36 uur na aanvang om een thuismatch op Badmintonvlaande
 ren in te vullen. Match info: Beerke 4G (111) - Rita Serveert 3G (106) - L
 ink: https://www.badmintonvlaanderen.be/sport/teammatch.aspx?id=541D9693-B
 A5C-49F3-B354-186D1A701882&match=1080
DTSTART;TZID=Europe/Brussels:20250224T220000
DTEND;TZID=Europe/Brussels:20250224T220000
END:VEVENT
BEGIN:VEVENT
UID:541D9693-BA5C-49F3-B354-186D1A701882-26-1085_homereminder@184.badminton
 ners.net
DTSTAMP:20260420T055217Z
SUMMARY:Thuismatch ingevuld? (Beerke 4G (111) - Zoersel 5G (104))
DESCRIPTION:Je hebt 36 uur na aanvang om een thuismatch op Badmintonvlaande
 ren in te vullen. Match info: Beerke 4G (111) - Zoersel 5G (104) - Link: h
 ttps://www.badmintonvlaanderen.be/sport/teammatch.aspx?id=541D9693-BA5C-49
 F3-B354-186D1A701882&match=1085
DTSTART;TZID=Europe/Brussels:20250324T220000
DTEND;TZID=Europe/Brussels:20250324T220000
END:VEVENT
BEGIN:VEVENT
UID:541D9693-BA5C-49F3-B354-186D1A701882-26-1097_awayreminder@184.badminton
 ners.net
DTSTAMP:20260420T055217Z
SUMMARY:Uitmatch bevestigd? (Rita Serveert 3G (106) - Beerke 4G (111))
DESCRIPTION:Je hebt 72 uur na aanvang om een uitmatch op Badmintonvlaandere
 n in te vullen. Match info: Rita Serveert 3G (106) - Beerke 4G (111) - Lin
 k: https://www.badmintonvlaanderen.be/sport/teammatch.aspx?id=541D9693-BA5
 C-49F3-B354-186D1A701882&match=1097
DTSTART;TZID=Europe/Brussels:20241023T190000
DTEND;TZID=Europe/Brussels:20241023T190000
END:VEVENT
BEGIN:VEVENT
UID:541D9693-BA5C-49F3-B354-186D1A701882-26-1098_awayreminder@184.badminton
 ners.net
DTSTAMP:20260420T055217Z
SUMMARY:Uitmatch bevestigd? (Zoersel 5G (104) - Beerke 4G (111))
DESCRIPTION:Je hebt 72 uur na aanvang om een uitmatch op Badmintonvlaandere
 n in te vullen. Match info: Zoersel 5G (104) - Beerke 4G (111) - Link: htt
 ps://www.badmintonvlaanderen.be/sport/teammatch.aspx?id=541D9693-BA5C-49F3
 -B354-186D1A701882&match=1098
DTSTART;TZID=Europe/Brussels:20241127T120000
DTEND;TZID=Europe/Brussels:20241127T120000
END:VEVENT
BEGIN:VEVENT
UID:541D9693-BA5C-49F3-B354-186D1A701882-26-1096_awayreminder@184.badminton
 ners.net
DTSTAMP:20260420T055217Z
SUMMARY:Uitmatch bevestigd? (Spinshuttle 5G (104) - Beerke 4G (111))
DESCRIPTION:Je hebt 72 uur na aanvang om een uitmatch op Badmintonvlaandere
 n in te vullen. Match info: Spinshuttle 5G (104) - Beerke 4G (111) - Link:
  https://www.badmintonvlaanderen.be/sport/teammatch.aspx?id=541D9693-BA5C-
 49F3-B354-186D1A701882&match=1096
DTSTART;TZID=Europe/Brussels:20241213T200000
DTEND;TZID=Europe/Brussels:20241213T200000
END:VEVENT
BEGIN:VEVENT
UID:541D9693-BA5C-49F3-B354-186D1A701882-26-1099_awayreminder@184.badminton
 ners.net
DTSTAMP:20260420T055217Z
SUMMARY:Uitmatch bevestigd? (Opslag 5G (110) - Beerke 4G (111))
DESCRIPTION:Je hebt 72 uur na aanvang om een uitmatch op Badmintonvlaandere
 n in te vullen. Match info: Opslag 5G (110) - Beerke 4G (111) - Link: http
 s://www.badmintonvlaanderen.be/sport/teammatch.aspx?id=541D9693-BA5C-49F3-
 B354-186D1A701882&match=1099
DTSTART;TZID=Europe/Brussels:20250108T163000
DTEND;TZID=Europe/Brussels:20250108T163000
END:VEVENT
BEGIN:VEVENT
UID:541D9693-BA5C-49F3-B354-186D1A701882-26-1100_awayreminder@184.badminton
 ners.net
DTSTAMP:20260420T055217Z
SUMMARY:Uitmatch bevestigd? (Klein Boom 6G (103) - Beerke 4G (111))
DESCRIPTION:Je hebt 72 uur na aanvang om een uitmatch op Badmintonvlaandere
 n in te vullen. Match info: Klein Boom 6G (103) - Beerke 4G (111) - Link: 
 https://www.badmintonvlaanderen.be/sport/teammatch.aspx?id=541D9693-BA5C-4
 9F3-B354-186D1A701882&match=1100
DTSTART;TZID=Europe/Brussels:20250312T190000
DTEND;TZID=Europe/Brussels:20250312T190000
END:VEVENT
END:VCALENDAR