BEGIN:VCALENDAR
VERSION:2.0
PRODID:spatie/icalendar-generator
NAME:geelse_1g_123_reminders
X-WR-CALNAME:geelse_1g_123_reminders
BEGIN:VTIMEZONE
TZID:Europe/Brussels
BEGIN:DAYLIGHT
DTSTART:20240331T010000
TZOFFSETFROM:+0100
TZOFFSETTO:+0200
END:DAYLIGHT
BEGIN:STANDARD
DTSTART:20241027T030000
TZOFFSETFROM:+0200
TZOFFSETTO:+0100
END:STANDARD
BEGIN:DAYLIGHT
DTSTART:20250330T010000
TZOFFSETFROM:+0100
TZOFFSETTO:+0200
END:DAYLIGHT
END:VTIMEZONE
BEGIN:VTIMEZONE
TZID:UTC
BEGIN:STANDARD
DTSTART:20250724T055126
TZOFFSETFROM:+0000
TZOFFSETTO:+0000
END:STANDARD
END:VTIMEZONE
BEGIN:VEVENT
UID:541D9693-BA5C-49F3-B354-186D1A701882-28-1187_homereminder@192.badminton
 ners.net
DTSTAMP:20260420T055126Z
SUMMARY:Thuismatch ingevuld? (Geelse 1G (123) - Essen 1G (111))
DESCRIPTION:Je hebt 36 uur na aanvang om een thuismatch op Badmintonvlaande
 ren in te vullen. Match info: Geelse 1G (123) - Essen 1G (111) - Link: htt
 ps://www.badmintonvlaanderen.be/sport/teammatch.aspx?id=541D9693-BA5C-49F3
 -B354-186D1A701882&match=1187
DTSTART;TZID=Europe/Brussels:20240907T080000
DTEND;TZID=Europe/Brussels:20240907T080000
END:VEVENT
BEGIN:VEVENT
UID:541D9693-BA5C-49F3-B354-186D1A701882-28-1175_homereminder@192.badminton
 ners.net
DTSTAMP:20260420T055126Z
SUMMARY:Thuismatch ingevuld? (Geelse 1G (123) - Klein Boom 8G (121))
DESCRIPTION:Je hebt 36 uur na aanvang om een thuismatch op Badmintonvlaande
 ren in te vullen. Match info: Geelse 1G (123) - Klein Boom 8G (121) - Link
 : https://www.badmintonvlaanderen.be/sport/teammatch.aspx?id=541D9693-BA5C
 -49F3-B354-186D1A701882&match=1175
DTSTART;TZID=Europe/Brussels:20241005T080000
DTEND;TZID=Europe/Brussels:20241005T080000
END:VEVENT
BEGIN:VEVENT
UID:541D9693-BA5C-49F3-B354-186D1A701882-28-1163_homereminder@192.badminton
 ners.net
DTSTAMP:20260420T055126Z
SUMMARY:Thuismatch ingevuld? (Geelse 1G (123) - Huirtuits Dropke 4G (116))
DESCRIPTION:Je hebt 36 uur na aanvang om een thuismatch op Badmintonvlaande
 ren in te vullen. Match info: Geelse 1G (123) - Huirtuits Dropke 4G (116) 
 - Link: https://www.badmintonvlaanderen.be/sport/teammatch.aspx?id=541D969
 3-BA5C-49F3-B354-186D1A701882&match=1163
DTSTART;TZID=Europe/Brussels:20241102T080000
DTEND;TZID=Europe/Brussels:20241102T080000
END:VEVENT
BEGIN:VEVENT
UID:541D9693-BA5C-49F3-B354-186D1A701882-28-1169_homereminder@192.badminton
 ners.net
DTSTAMP:20260420T055126Z
SUMMARY:Thuismatch ingevuld? (Geelse 1G (123) - De Nekker 3G (128))
DESCRIPTION:Je hebt 36 uur na aanvang om een thuismatch op Badmintonvlaande
 ren in te vullen. Match info: Geelse 1G (123) - De Nekker 3G (128) - Link:
  https://www.badmintonvlaanderen.be/sport/teammatch.aspx?id=541D9693-BA5C-
 49F3-B354-186D1A701882&match=1169
DTSTART;TZID=Europe/Brussels:20250208T080000
DTEND;TZID=Europe/Brussels:20250208T080000
END:VEVENT
BEGIN:VEVENT
UID:541D9693-BA5C-49F3-B354-186D1A701882-28-1181_homereminder@192.badminton
 ners.net
DTSTAMP:20260420T055126Z
SUMMARY:Thuismatch ingevuld? (Geelse 1G (123) - Spinners 1G (124))
DESCRIPTION:Je hebt 36 uur na aanvang om een thuismatch op Badmintonvlaande
 ren in te vullen. Match info: Geelse 1G (123) - Spinners 1G (124) - Link: 
 https://www.badmintonvlaanderen.be/sport/teammatch.aspx?id=541D9693-BA5C-4
 9F3-B354-186D1A701882&match=1181
DTSTART;TZID=Europe/Brussels:20250308T080000
DTEND;TZID=Europe/Brussels:20250308T080000
END:VEVENT
BEGIN:VEVENT
UID:541D9693-BA5C-49F3-B354-186D1A701882-28-1193_homereminder@192.badminton
 ners.net
DTSTAMP:20260420T055126Z
SUMMARY:Thuismatch ingevuld? (Geelse 1G (123) - Spinshuttle 6G (109))
DESCRIPTION:Je hebt 36 uur na aanvang om een thuismatch op Badmintonvlaande
 ren in te vullen. Match info: Geelse 1G (123) - Spinshuttle 6G (109) - Lin
 k: https://www.badmintonvlaanderen.be/sport/teammatch.aspx?id=541D9693-BA5
 C-49F3-B354-186D1A701882&match=1193
DTSTART;TZID=Europe/Brussels:20250419T080000
DTEND;TZID=Europe/Brussels:20250419T080000
END:VEVENT
BEGIN:VEVENT
UID:541D9693-BA5C-49F3-B354-186D1A701882-28-1158_awayreminder@192.badminton
 ners.net
DTSTAMP:20260420T055126Z
SUMMARY:Uitmatch bevestigd? (De Nekker 3G (128) - Geelse 1G (123))
DESCRIPTION:Je hebt 72 uur na aanvang om een uitmatch op Badmintonvlaandere
 n in te vullen. Match info: De Nekker 3G (128) - Geelse 1G (123) - Link: h
 ttps://www.badmintonvlaanderen.be/sport/teammatch.aspx?id=541D9693-BA5C-49
 F3-B354-186D1A701882&match=1158
DTSTART;TZID=Europe/Brussels:20241018T203000
DTEND;TZID=Europe/Brussels:20241018T203000
END:VEVENT
BEGIN:VEVENT
UID:541D9693-BA5C-49F3-B354-186D1A701882-28-1160_awayreminder@192.badminton
 ners.net
DTSTAMP:20260420T055126Z
SUMMARY:Uitmatch bevestigd? (Spinners 1G (124) - Geelse 1G (123))
DESCRIPTION:Je hebt 72 uur na aanvang om een uitmatch op Badmintonvlaandere
 n in te vullen. Match info: Spinners 1G (124) - Geelse 1G (123) - Link: ht
 tps://www.badmintonvlaanderen.be/sport/teammatch.aspx?id=541D9693-BA5C-49F
 3-B354-186D1A701882&match=1160
DTSTART;TZID=Europe/Brussels:20241125T210000
DTEND;TZID=Europe/Brussels:20241125T210000
END:VEVENT
BEGIN:VEVENT
UID:541D9693-BA5C-49F3-B354-186D1A701882-28-1162_awayreminder@192.badminton
 ners.net
DTSTAMP:20260420T055126Z
SUMMARY:Uitmatch bevestigd? (Spinshuttle 6G (109) - Geelse 1G (123))
DESCRIPTION:Je hebt 72 uur na aanvang om een uitmatch op Badmintonvlaandere
 n in te vullen. Match info: Spinshuttle 6G (109) - Geelse 1G (123) - Link:
  https://www.badmintonvlaanderen.be/sport/teammatch.aspx?id=541D9693-BA5C-
 49F3-B354-186D1A701882&match=1162
DTSTART;TZID=Europe/Brussels:20241215T200000
DTEND;TZID=Europe/Brussels:20241215T200000
END:VEVENT
BEGIN:VEVENT
UID:541D9693-BA5C-49F3-B354-186D1A701882-28-1159_awayreminder@192.badminton
 ners.net
DTSTAMP:20260420T055126Z
SUMMARY:Uitmatch bevestigd? (Klein Boom 8G (121) - Geelse 1G (123))
DESCRIPTION:Je hebt 72 uur na aanvang om een uitmatch op Badmintonvlaandere
 n in te vullen. Match info: Klein Boom 8G (121) - Geelse 1G (123) - Link: 
 https://www.badmintonvlaanderen.be/sport/teammatch.aspx?id=541D9693-BA5C-4
 9F3-B354-186D1A701882&match=1159
DTSTART;TZID=Europe/Brussels:20250129T190000
DTEND;TZID=Europe/Brussels:20250129T190000
END:VEVENT
BEGIN:VEVENT
UID:541D9693-BA5C-49F3-B354-186D1A701882-28-1157_awayreminder@192.badminton
 ners.net
DTSTAMP:20260420T055126Z
SUMMARY:Uitmatch bevestigd? (Huirtuits Dropke 4G (116) - Geelse 1G (123))
DESCRIPTION:Je hebt 72 uur na aanvang om een uitmatch op Badmintonvlaandere
 n in te vullen. Match info: Huirtuits Dropke 4G (116) - Geelse 1G (123) - 
 Link: https://www.badmintonvlaanderen.be/sport/teammatch.aspx?id=541D9693-
 BA5C-49F3-B354-186D1A701882&match=1157
DTSTART;TZID=Europe/Brussels:20250221T200000
DTEND;TZID=Europe/Brussels:20250221T200000
END:VEVENT
BEGIN:VEVENT
UID:541D9693-BA5C-49F3-B354-186D1A701882-28-1161_awayreminder@192.badminton
 ners.net
DTSTAMP:20260420T055126Z
SUMMARY:Uitmatch bevestigd? (Essen 1G (111) - Geelse 1G (123))
DESCRIPTION:Je hebt 72 uur na aanvang om een uitmatch op Badmintonvlaandere
 n in te vullen. Match info: Essen 1G (111) - Geelse 1G (123) - Link: https
 ://www.badmintonvlaanderen.be/sport/teammatch.aspx?id=541D9693-BA5C-49F3-B
 354-186D1A701882&match=1161
DTSTART;TZID=Europe/Brussels:20250409T190000
DTEND;TZID=Europe/Brussels:20250409T190000
END:VEVENT
END:VCALENDAR